From mboxrd@z Thu Jan 1 00:00:00 1970 Return-Path: Received: from mails.dpdk.org (mails.dpdk.org [217.70.189.124]) by inbox.dpdk.org (Postfix) with ESMTP id A6F27488B1 for ; Sun, 5 Oct 2025 02:19:04 +0200 (CEST) Received: from mails.dpdk.org (localhost [127.0.0.1]) by mails.dpdk.org (Postfix) with ESMTP id 7ED694021F; Sun, 5 Oct 2025 02:19:04 +0200 (CEST) Received: from mail-il1-f228.google.com (mail-il1-f228.google.com [209.85.166.228]) by mails.dpdk.org (Postfix) with ESMTP id 48A324021F for ; Sun, 5 Oct 2025 02:19:03 +0200 (CEST) Received: by mail-il1-f228.google.com with SMTP id e9e14a558f8ab-42f05cbc3d1so8173565ab.0 for ; Sat, 04 Oct 2025 17:19:03 -0700 (PDT) DKIM-Signature: v=1; a=rsa-sha256; c=relaxed/relaxed; d=iol.unh.edu; s=unh-iol; t=1759623542; x=1760228342; darn=dpdk.org; h=references:in-reply-to:cc:to:from:subject:message-id:date:from:to :cc:subject:date:message-id:reply-to; bh=HA7LY9M1FHl5BkMbpto7lSQucZFvzP5tn8QfxdideoY=; b=PQBH4X5zfKhv4nJp7eZ9L6ZeCRu6Y4NNm1w4HO/BiIxSGf70JdOwCoQY8PeC7pb9Qi AtqIgfYOjuvDVrqqc7snD1R67qW0FfGzhuCHQYY1MtyjQVWCUV6JlMbMSDCGlL4lIb6I H0pNVG7vjitgcQO/5sSWBD/kqWV+0dBDjdEVg= X-Google-DKIM-Signature: v=1; a=rsa-sha256; c=relaxed/relaxed; d=1e100.net; s=20230601; t=1759623542; x=1760228342; h=references:in-reply-to:cc:to:from:subject:message-id:date :x-gm-message-state:from:to:cc:subject:date:message-id:reply-to; bh=HA7LY9M1FHl5BkMbpto7lSQucZFvzP5tn8QfxdideoY=; b=c7aAOZRAQdPU7RU0CIutnf/havNBOSDpsNTb2EAeIzm2MupgbeI7NP+YxEoRcbxS8C nHQk4fBSTqr5lnDchWWpUjy0M6N7oDdqM6rygsSzNjuem+ZKIyvynne2iICfzeGwppaT /DB/axhYiBamwV77zxtlISqL3ymiI0Ml9if+FIK5QpobKj38SJjP9sRwrWM6MtlgyiVY qfPadOazCujYhc3lxuL93sXovupLAmt4BmVdGguGcaH5FwrPn/9JCx09WAR6XNjnFlnd d29f2y1kKyU1lIAuptDPDLA0fHneJm7+g9jvWrX12bVu4YqmbfdZgfrJONVFp9n/ILud 97Sg== X-Gm-Message-State: AOJu0YyUhIfN7/UHP8Y12PRpmePlIklwgiYeHHmCL6bA+5TtdFRPi2eO hc3x6bGtw6i8dsru7Ig+FyLhClmb1fpaUCF6aJBsMVzMP4a8+Id9GZOZcQ0G2hYPznnzt1XeZcr HCYmmc6LgC5uMb+T87+l0sMBXY9iTSpxqKoTRUJafvKMT46i4Ed4aXFvxERCs X-Gm-Gg: ASbGnctJhj9lfJxQmNHLSisg7NUQyiPTsuy9TL+a477u5kzi9usAm/IKrGVU9jbYPdJ GYpgQ0DiLFnLW5v9XA8nJaTD5zR2s/l7xEq91L5GD5NREPIWp19hYQnMqOrWCYoAj+cgqO/ukh2 w1PJxzDk0FJrCFYOyqdtkVI4lm9elJNnfS2Z/uqrkcT1Rqqy57FrwsAxKY4jsO2LKWTuBTNPr0Y RzhGF+RblhRHrcDA7lLGYk+VT9SnMToPUicZ8OcEpJh10yARrYo/OBMuLypFdb0Y2ysn0et/Htl Reb9npn0KLVqDTSZSgL7/C6HutrnD5nkE3hUjeNrtq4N5nwurFoIy8o= X-Google-Smtp-Source: AGHT+IEg/U/QcFcFo1EjtTt8svBZMptOs8xz3Hj2JVvzw4AUwio6JdU5+hM8lvkdiXleRGrmj5YvEdeot2vE X-Received: by 2002:a92:cda6:0:b0:42d:8a19:7a80 with SMTP id e9e14a558f8ab-42d8b215f16mr172163615ab.9.1759623542501; Sat, 04 Oct 2025 17:19:02 -0700 (PDT) Received: from postal.iol.unh.edu (postal.iol.unh.edu. [2606:4100:3880:1234::84]) by smtp-relay.gmail.com with ESMTPS id 8926c6da1cb9f-57b5ed26ad8sm742740173.30.2025.10.04.17.19.02 (version=TLS1_2 cipher=ECDHE-ECDSA-AES128-GCM-SHA256 bits=128/128); Sat, 04 Oct 2025 17:19:02 -0700 (PDT) X-Relaying-Domain: iol.unh.edu Date: Sat, 04 Oct 2025 17:19:02 -0700 (PDT) Message-ID: <68e1b976.050a0220.19c119.9e8eSMTPIN_ADDED_MISSING@mx.google.com> Received: from [172.21.0.2] (unknown [172.18.0.240]) by postal.iol.unh.edu (Postfix) with ESMTP id 0939C60003F7; Sat, 4 Oct 2025 20:19:02 -0400 (EDT) Subject: |SUCCESS| pw157177-157195 [PATCH] [v1,20/20] net/ntnic: rename nt lo From: dpdklab@iol.unh.edu To: Test Report Cc: dpdk-test-reports@iol.unh.edu, Stephen Hemminger In-Reply-To: <20251001151018.250671-21-sil-plv@napatech.com> References: <20251001151018.250671-21-sil-plv@napatech.com> Content-Type: text/plain X-BeenThere: test-report@dpdk.org X-Mailman-Version: 2.1.29 Precedence: list List-Id: automatic DPDK test reports List-Unsubscribe: , List-Archive: List-Post: List-Help: List-Subscribe: , Errors-To: test-report-bounces@dpdk.org Test-Label: iol-compile-arm64-testing Test-Status: SUCCESS http://dpdk.org/patch/157195 _Testing PASS_ Submitter: Serhii Iliushyk Date: Wednesday, October 01 2025 15:10:02 DPDK git baseline: Repo:dpdk-next-net Branch: master CommitID:c04bbd131b2c14b3049bf86d3ef367b34e6fdf1e 157177-157195 --> testing pass Upstream job id: Generic-DPDK-Compile-Meson#430838 Test environment and result as below: +------------------------------+--------------------+ | Environment | dpdk_meson_compile | +==============================+====================+ | Debian GNU/Linux 12 | PASS | +------------------------------+--------------------+ | Fedora Linux 42 | PASS | +------------------------------+--------------------+ | Red Hat Enterprise Linux 9.5 | PASS | +------------------------------+--------------------+ | Ubuntu 20.04 | PASS | +------------------------------+--------------------+ | Ubuntu 22.04 | PASS | +------------------------------+--------------------+ | Ubuntu 24.04 | PASS | +------------------------------+--------------------+ | CentOS Stream 9 | PASS | +------------------------------+--------------------+ | CentOS Stream 10 | PASS | +------------------------------+--------------------+ Debian GNU/Linux 12 Kernel: 5.4 Compiler: gcc gcc (Debian 12.2.0-14+deb12u1) 12.2.0 Fedora Linux 42 Kernel: 5.4 Compiler: gcc gcc (GCC) 15.2.1 20250808 (Red Hat 15.2.1-1) Red Hat Enterprise Linux 9.5 Kernel: 5.4 Compiler: gcc gcc (GCC) 11.5.0 20240719 (Red Hat 11.5.0-2) Ubuntu 20.04 Kernel: 5.15 Compiler: aarch64-linux-gnu-gcc gcc (Ubuntu 9.4.0-1ubuntu1~20.04.2) 9.4.0 Ubuntu 22.04 Kernel: 5.4 Compiler: gcc gcc (Ubuntu 11.4.0-1ubuntu1~22.04) 11.4.0 Ubuntu 24.04 Kernel: 5.4 Compiler: gcc gcc (Ubuntu 13.3.0-6ubuntu2~24.04) 13.3.0 CentOS Stream 9 Kernel: 5.4 Compiler: gcc gcc (GCC) 11.5.0 20240719 (Red Hat 11.5.0-11) CentOS Stream 10 Kernel: 5.4 Compiler: gcc gcc (GCC) 14.2.1 20250110 (Red Hat 14.2.1-8) To view detailed results, visit: https://lab.dpdk.org/results/dashboard/patchsets/34194/ UNH-IOL DPDK Community Lab To manage your email subscriptions, visit: https://lab.dpdk.org/results/dashboard/preferences/subscriptions/