From mboxrd@z Thu Jan 1 00:00:00 1970 Return-Path: Received: from mails.dpdk.org (mails.dpdk.org [217.70.189.124]) by inbox.dpdk.org (Postfix) with ESMTP id 2AF3C488B1 for ; Sun, 5 Oct 2025 02:24:56 +0200 (CEST) Received: from mails.dpdk.org (localhost [127.0.0.1]) by mails.dpdk.org (Postfix) with ESMTP id 0953B4021F; Sun, 5 Oct 2025 02:24:56 +0200 (CEST) Received: from mail-pf1-f226.google.com (mail-pf1-f226.google.com [209.85.210.226]) by mails.dpdk.org (Postfix) with ESMTP id 7BAAA4021F for ; Sun, 5 Oct 2025 02:24:54 +0200 (CEST) Received: by mail-pf1-f226.google.com with SMTP id d2e1a72fcca58-7841da939deso3364552b3a.2 for ; Sat, 04 Oct 2025 17:24:54 -0700 (PDT) DKIM-Signature: v=1; a=rsa-sha256; c=relaxed/relaxed; d=iol.unh.edu; s=unh-iol; t=1759623893; x=1760228693; darn=dpdk.org; h=references:in-reply-to:cc:to:from:subject:message-id:date:from:to :cc:subject:date:message-id:reply-to; bh=lXJTPagutlBKEXBvGFD8+r2hzXY5FU/ietYGE1Nd6Sk=; b=NB5AhzIL/gwXTL+DEjeSYTb3ImwAa7ZiYplVHKBDazxYUK9NXzTePi9xeQ98FyxPsZ QCzs7jsqVwNRqDUXVlgMiuWJyyiR+wQkcJ9lSU03QB8zvxv5EoR1NSJsyz5ILW1wqaIs JkEzynm4pG7Xk2ZoDOJgf0O+BOT4l4dENCqgc= X-Google-DKIM-Signature: v=1; a=rsa-sha256; c=relaxed/relaxed; d=1e100.net; s=20230601; t=1759623893; x=1760228693; h=references:in-reply-to:cc:to:from:subject:message-id:date :x-gm-message-state:from:to:cc:subject:date:message-id:reply-to; bh=lXJTPagutlBKEXBvGFD8+r2hzXY5FU/ietYGE1Nd6Sk=; b=Jdy/3/ywSCAxTcArhJsVSEe7IM8u01d/nnMVYuuBIbtOo53XJwMVArI3wcpKG3gMAv AsjKtlqZh/K0TcN+u53AWjVeJgSSLbCNabT2MIjHzKyT6F/1x3duF5610jhJXVG4t59G Cj2rmJ4blEleflSG7wN94N41c8269vzHAhJNJIvRzqADV81D9uDFkPA9IDFsmcUlvYMF PUXZD4YfjvlB4y8hleLSNfelXLr/AKQGn6Ki5S7TfHSK/JHMM/f7zCHq3p8cANiPuiIF rLUJEzzompBRpudNtOJZREBs+MCOg1CT3JeeRHUWxkqK+/lqQdtg3XUQUmOIz1s8XQc1 2lUQ== X-Gm-Message-State: AOJu0YzBWG2WndknqoliU2J6hDv0pV1Fdz/PZoqCmJtH6a7izX4r85ZB WPjLcq2AX4FeBHJdLFFMffsBi8YUDUOt+BJEQEiC/YNiVbdLhmdBOlmesxsJs0kFGDrAnLmo2eU Ka8hZGmhixre7Dy04paY+y1vv3Fx3L+M40G5wO0rQIY56 X-Gm-Gg: ASbGncuBLpzMVGdx8prYTdmQCnCVBQjmnBoknKvUsOpJCqCa7Of+pE/vYkAL4D48VvR /hF6A5ano6QBY3Y2xVrW4H3zejofJslgh7rdfGzcicpcVpujYi2wkOW+Fet33JL6x7xDLS0hzot 5WeAwAp1nCasl0/5pz7SNV0d6af/J9xjucbPf4byKKpVP/rbPxw/2CNrh4bPPi9jajD2weTuKZ4 obQZDip5tp41M8PzcBHNljyJCwqUZO62Ah96vN8MP28uehTbaRC0thqSLKa8baJBlNppyrUAViy TdhrqJNWf3sSmYzfdxdjQxK1nv2W6kzwH9sDSEVImuM6EZa+/AjybpOPCDZE+t2TwjfEmaUSQ1x 15w== X-Google-Smtp-Source: AGHT+IETntRTa5Ikew1Hyjd5DcAPc1XzBeFNhRh/vGXZUHjUIxnMZfsYlXpjV9ipAclGfahLDxoB06ZuTvRB X-Received: by 2002:a05:6a00:3998:b0:782:ec0f:d273 with SMTP id d2e1a72fcca58-78c98a4e0demr9810927b3a.1.1759623893426; Sat, 04 Oct 2025 17:24:53 -0700 (PDT) Received: from postal.iol.unh.edu (postal.iol.unh.edu. [132.177.123.84]) by smtp-relay.gmail.com with ESMTPS id d2e1a72fcca58-78b01eae6b2sm656977b3a.0.2025.10.04.17.24.53 (version=TLS1_2 cipher=ECDHE-ECDSA-AES128-GCM-SHA256 bits=128/128); Sat, 04 Oct 2025 17:24:53 -0700 (PDT) X-Relaying-Domain: iol.unh.edu Date: Sat, 04 Oct 2025 17:24:53 -0700 (PDT) Message-ID: <68e1bad5.050a0220.396348.39e3SMTPIN_ADDED_MISSING@mx.google.com> Received: from [172.21.0.3] (unknown [172.18.0.240]) by postal.iol.unh.edu (Postfix) with ESMTP id D84B56051830; Sat, 4 Oct 2025 20:24:51 -0400 (EDT) Subject: |SUCCESS| pw157202-157204 [PATCH] [v4,3/3] dts: add performance test From: dpdklab@iol.unh.edu To: Test Report Cc: dpdk-test-reports@iol.unh.edu In-Reply-To: <20251001231659.2297751-4-probb@iol.unh.edu> References: <20251001231659.2297751-4-probb@iol.unh.edu> Content-Type: text/plain X-BeenThere: test-report@dpdk.org X-Mailman-Version: 2.1.29 Precedence: list List-Id: automatic DPDK test reports List-Unsubscribe: , List-Archive: List-Post: List-Help: List-Subscribe: , Errors-To: test-report-bounces@dpdk.org Test-Label: iol-compile-amd64-testing Test-Status: SUCCESS http://dpdk.org/patch/157204 _Testing PASS_ Submitter: Patrick Robb Date: Wednesday, October 01 2025 23:16:59 DPDK git baseline: Repo:dpdk-next-dts Branch: master CommitID:b71d7bdf2b663f9fedc1d344b81a8cf65518026c 157202-157204 --> testing pass Upstream job id: Generic-DPDK-Compile-Meson#430943 Test environment and result as below: +-------------------------------+--------------------+-------------------------+-------------------+----------------------+-------------------+------------------+ | Environment | dpdk_meson_compile | dpdk_llvm_clang_compile | dpdk_msvc_compile | dpdk_mingw64_compile | dpdk_compile_spdk | dpdk_compile_ovs | +===============================+====================+=========================+===================+======================+===================+==================+ | Ubuntu 20.04 | PASS | SKIPPED | SKIPPED | SKIPPED | SKIPPED | SKIPPED | +-------------------------------+--------------------+-------------------------+-------------------+----------------------+-------------------+------------------+ | FreeBSD 14.2 | PASS | SKIPPED | SKIPPED | SKIPPED | SKIPPED | SKIPPED | +-------------------------------+--------------------+-------------------------+-------------------+----------------------+-------------------+------------------+ | Alpine Linux 3.22.0 | PASS | SKIPPED | SKIPPED | SKIPPED | SKIPPED | SKIPPED | +-------------------------------+--------------------+-------------------------+-------------------+----------------------+-------------------+------------------+ | openSUSE Leap 15.6 | PASS | SKIPPED | SKIPPED | SKIPPED | SKIPPED | SKIPPED | +-------------------------------+--------------------+-------------------------+-------------------+----------------------+-------------------+------------------+ | CentOS Stream 9 | PASS | SKIPPED | SKIPPED | SKIPPED | PASS | SKIPPED | +-------------------------------+--------------------+-------------------------+-------------------+----------------------+-------------------+------------------+ | CentOS Stream 10 | PASS | SKIPPED | SKIPPED | SKIPPED | SKIPPED | SKIPPED | +-------------------------------+--------------------+-------------------------+-------------------+----------------------+-------------------+------------------+ | Debian GNU/Linux 12 | PASS | SKIPPED | SKIPPED | SKIPPED | PASS | SKIPPED | +-------------------------------+--------------------+-------------------------+-------------------+----------------------+-------------------+------------------+ | Fedora Linux 42 | PASS | SKIPPED | SKIPPED | SKIPPED | PASS | PASS | +-------------------------------+--------------------+-------------------------+-------------------+----------------------+-------------------+------------------+ | Red Hat Enterprise Linux 8.10 | PASS | SKIPPED | SKIPPED | SKIPPED | SKIPPED | SKIPPED | +-------------------------------+--------------------+-------------------------+-------------------+----------------------+-------------------+------------------+ | Windows Server 2022 | SKIPPED | PASS | PASS | PASS | SKIPPED | SKIPPED | +-------------------------------+--------------------+-------------------------+-------------------+----------------------+-------------------+------------------+ Ubuntu 20.04 Kernel: 4.19 Compiler: gcc gcc (Ubuntu 9.4.0-1ubuntu1~20.04.2) 9.4.0 FreeBSD 14.2 Kernel: 14.2-RELEASE Compiler: clang 18.1.6 Alpine Linux 3.22.0 Kernel: 5.15 Compiler: gcc gcc (Alpine 14.2.0) 14.2.0 openSUSE Leap 15.6 Kernel: 5.15 Compiler: gcc gcc (SUSE Linux) 7.5.0 CentOS Stream 9 Kernel: 5.15 Compiler: gcc gcc (GCC) 11.5.0 20240719 (Red Hat 11.5.0-11) CentOS Stream 10 Kernel: 5.15 Compiler: gcc gcc (GCC) 14.2.1 20250110 (Red Hat 14.2.1-8) Debian GNU/Linux 12 Kernel: 5.15 Compiler: gcc gcc (Debian 12.2.0-14+deb12u1) 12.2.0 Fedora Linux 42 Kernel: 5.15 Compiler: clang gcc (GCC) 15.2.1 20250808 (Red Hat 15.2.1-1) Red Hat Enterprise Linux 8.10 Kernel: 5.15 Compiler: gcc gcc (GCC) 8.5.0 20210514 (Red Hat 8.5.0-22) Windows Server 2022 Kernel: 10.0.20348.2031 Compiler: clang 15.0.7, gcc 14.1.0 (MinGW), and MSVC VS 19.39.33521 To view detailed results, visit: https://lab.dpdk.org/results/dashboard/patchsets/34197/ UNH-IOL DPDK Community Lab To manage your email subscriptions, visit: https://lab.dpdk.org/results/dashboard/preferences/subscriptions/