From mboxrd@z Thu Jan 1 00:00:00 1970 Return-Path: Received: from mails.dpdk.org (mails.dpdk.org [217.70.189.124]) by inbox.dpdk.org (Postfix) with ESMTP id 14B0F488B1 for ; Sun, 5 Oct 2025 02:35:31 +0200 (CEST) Received: from mails.dpdk.org (localhost [127.0.0.1]) by mails.dpdk.org (Postfix) with ESMTP id E66E54021F; Sun, 5 Oct 2025 02:35:30 +0200 (CEST) Received: from mail-yw1-f228.google.com (mail-yw1-f228.google.com [209.85.128.228]) by mails.dpdk.org (Postfix) with ESMTP id 46F694021F for ; Sun, 5 Oct 2025 02:35:29 +0200 (CEST) Received: by mail-yw1-f228.google.com with SMTP id 00721157ae682-71d60528734so40288277b3.2 for ; Sat, 04 Oct 2025 17:35:29 -0700 (PDT) DKIM-Signature: v=1; a=rsa-sha256; c=relaxed/relaxed; d=iol.unh.edu; s=unh-iol; t=1759624528; x=1760229328; darn=dpdk.org; h=references:in-reply-to:cc:to:from:subject:message-id:date:from:to :cc:subject:date:message-id:reply-to; bh=dBjcLU5GHjgCgiSrFqE2M+kZOnLhjnuV8+pmgwdtxe8=; b=B6c3N3ZlQcerYhMCQC0EeI9o+zFMJXZkJGD+BNyqkfIlT6MgKqqfQuwbBwDbd7y27Q lvoF98R8A0smLIYZR+58hK2SMif9ro66RaY08jL8+1v4DEjTCzp1tLKWq59o5vDlhKTF vGmtZbzMFnQaPY3t2bRYSTV6B4kMippeTESTI= X-Google-DKIM-Signature: v=1; a=rsa-sha256; c=relaxed/relaxed; d=1e100.net; s=20230601; t=1759624528; x=1760229328; h=references:in-reply-to:cc:to:from:subject:message-id:date :x-gm-message-state:from:to:cc:subject:date:message-id:reply-to; bh=dBjcLU5GHjgCgiSrFqE2M+kZOnLhjnuV8+pmgwdtxe8=; b=vk3w0mN79qLXBq6CGOjZNZLeohe4fuhyeIHGUbP9BmnjgJ3Mutlguz7xUSgJTLCEsx WbSO0oFUePz6zzvj+aNO1dJ4t//x05IYckfSS4q6wTVUrURMdEPpMjcK4+kffXpfW0eH gh3n12DrDVYojq2KjgnKGt5NfTAFig8ZMfbUlQJF/y7QLO10B81tbt9lhdOYNNVUmrkZ MPmzbxf+fHlKIZ4W5ntZp2/uzK9zmAKlBDOcIoS3+wkI23f5ecztGvsLbFQXk6Rp0JWE mHXLeybO0uYMA/2/Fu7HUi27RFvvsyHLxOJ5McV1YnmgYuRZg3t8tGBGTAhS/j6GzfwU ltxw== X-Gm-Message-State: AOJu0YwZ7XBptxnQqfRZ0OU6HwDm+MI3eQlQ4g9vN46kTHnv6LwgFE+e r/lWttOf03cdB3XwrOabUiVii5klebA/ssUXDqExaunnSSfaroMoAf4cxaD4jce/3sb3xcHgr8i mR38J6UHZ2gvVdnsJhAXqcRHIn7GHm8Fxo7NyaCuDeh0Y X-Gm-Gg: ASbGncvi9XopWrXpq7OTSTnhJxLZ16zdvRElt65mDCcMfCVjDqml6dqzcy7Wm2k5M5H 1/G1RFoQkARmjOEovcdVqadR2sce98+q3KdTfid8IwMl1kWfUuJd5Sta57AlBgH7nEBVJ+wmz+t XqpwWbhPGrF+jTTQAH3wEir+ArV150NmzUrfAbB6lQw7lI33xgwy1nHoTJJTL4swfNEv7fG3fy1 maB9QYtwHSNlLHsdGQqWEf/zvts0yMH+Vlzicg0rj5vSxkE6RS1x5DSsxJ7OBbbxDLJV245yL4s YnzK719D9JkYr96uoMomgb6PrsQ+w1hA62D1tgbCxXg+sPcQkYA54CV2EExX7/C8ku8GZZKVHNt qbw== X-Google-Smtp-Source: AGHT+IFWmJIZZKKthgYcXzC8S15XKHBGdKvOWF2onKFk1FjVGHUI6hxuDBRD+8L+WkIDNL7jvMcVMuK7MEL0 X-Received: by 2002:a05:690e:4284:10b0:63b:fcf:5c5e with SMTP id 956f58d0204a3-63b9a05c3dcmr5665579d50.3.1759624528309; Sat, 04 Oct 2025 17:35:28 -0700 (PDT) Received: from postal.iol.unh.edu (postal.iol.unh.edu. [132.177.123.84]) by smtp-relay.gmail.com with ESMTPS id 956f58d0204a3-63b8456e46asm550263d50.4.2025.10.04.17.35.28 (version=TLS1_2 cipher=ECDHE-ECDSA-AES128-GCM-SHA256 bits=128/128); Sat, 04 Oct 2025 17:35:28 -0700 (PDT) X-Relaying-Domain: iol.unh.edu Date: Sat, 04 Oct 2025 17:35:28 -0700 (PDT) Message-ID: <68e1bd50.050a0220.2e08ba.f9cdSMTPIN_ADDED_MISSING@mx.google.com> Received: from [172.21.0.2] (unknown [172.18.0.240]) by postal.iol.unh.edu (Postfix) with ESMTP id 9D9A460003F7; Sat, 4 Oct 2025 20:35:27 -0400 (EDT) Subject: |SUCCESS| pw157202-157204 [PATCH] [v4,3/3] dts: add performance test From: dpdklab@iol.unh.edu To: Test Report Cc: dpdk-test-reports@iol.unh.edu In-Reply-To: <20251001231659.2297751-4-probb@iol.unh.edu> References: <20251001231659.2297751-4-probb@iol.unh.edu> Content-Type: text/plain X-BeenThere: test-report@dpdk.org X-Mailman-Version: 2.1.29 Precedence: list List-Id: automatic DPDK test reports List-Unsubscribe: , List-Archive: List-Post: List-Help: List-Subscribe: , Errors-To: test-report-bounces@dpdk.org Test-Label: iol-compile-amd64-testing Test-Status: SUCCESS http://dpdk.org/patch/157204 _Testing PASS_ Submitter: Patrick Robb Date: Wednesday, October 01 2025 23:16:59 DPDK git baseline: Repo:dpdk-next-dts Branch: master CommitID:b71d7bdf2b663f9fedc1d344b81a8cf65518026c 157202-157204 --> testing pass Upstream job id: Generic-DPDK-Compile-Meson#430945 Test environment and result as below: +-------------------------------+--------------------+-------------------------+-------------------+----------------------+-------------------+------------------+ | Environment | dpdk_meson_compile | dpdk_llvm_clang_compile | dpdk_msvc_compile | dpdk_mingw64_compile | dpdk_compile_spdk | dpdk_compile_ovs | +===============================+====================+=========================+===================+======================+===================+==================+ | Ubuntu 20.04 | PASS | SKIPPED | SKIPPED | SKIPPED | SKIPPED | SKIPPED | +-------------------------------+--------------------+-------------------------+-------------------+----------------------+-------------------+------------------+ | FreeBSD 14.2 | PASS | SKIPPED | SKIPPED | SKIPPED | SKIPPED | SKIPPED | +-------------------------------+--------------------+-------------------------+-------------------+----------------------+-------------------+------------------+ | Alpine Linux 3.22.0 | PASS | SKIPPED | SKIPPED | SKIPPED | SKIPPED | SKIPPED | +-------------------------------+--------------------+-------------------------+-------------------+----------------------+-------------------+------------------+ | openSUSE Leap 15.6 | PASS | SKIPPED | SKIPPED | SKIPPED | SKIPPED | SKIPPED | +-------------------------------+--------------------+-------------------------+-------------------+----------------------+-------------------+------------------+ | CentOS Stream 9 | PASS | SKIPPED | SKIPPED | SKIPPED | PASS | SKIPPED | +-------------------------------+--------------------+-------------------------+-------------------+----------------------+-------------------+------------------+ | CentOS Stream 10 | PASS | SKIPPED | SKIPPED | SKIPPED | SKIPPED | SKIPPED | +-------------------------------+--------------------+-------------------------+-------------------+----------------------+-------------------+------------------+ | Debian GNU/Linux 12 | PASS | SKIPPED | SKIPPED | SKIPPED | PASS | SKIPPED | +-------------------------------+--------------------+-------------------------+-------------------+----------------------+-------------------+------------------+ | Fedora Linux 42 | PASS | SKIPPED | SKIPPED | SKIPPED | PASS | PASS | +-------------------------------+--------------------+-------------------------+-------------------+----------------------+-------------------+------------------+ | Red Hat Enterprise Linux 8.10 | PASS | SKIPPED | SKIPPED | SKIPPED | SKIPPED | SKIPPED | +-------------------------------+--------------------+-------------------------+-------------------+----------------------+-------------------+------------------+ | Red Hat Enterprise Linux 9.5 | PASS | SKIPPED | SKIPPED | SKIPPED | SKIPPED | SKIPPED | +-------------------------------+--------------------+-------------------------+-------------------+----------------------+-------------------+------------------+ | Windows Server 2022 | SKIPPED | PASS | PASS | PASS | SKIPPED | SKIPPED | +-------------------------------+--------------------+-------------------------+-------------------+----------------------+-------------------+------------------+ Ubuntu 20.04 Kernel: 4.19 Compiler: gcc gcc (Ubuntu 9.4.0-1ubuntu1~20.04.2) 9.4.0 FreeBSD 14.2 Kernel: 14.2-RELEASE Compiler: clang 18.1.6 Alpine Linux 3.22.0 Kernel: 5.15 Compiler: gcc gcc (Alpine 14.2.0) 14.2.0 openSUSE Leap 15.6 Kernel: 5.15 Compiler: gcc gcc (SUSE Linux) 7.5.0 CentOS Stream 9 Kernel: 5.15 Compiler: gcc gcc (GCC) 11.5.0 20240719 (Red Hat 11.5.0-11) CentOS Stream 10 Kernel: 5.15 Compiler: gcc gcc (GCC) 14.2.1 20250110 (Red Hat 14.2.1-8) Debian GNU/Linux 12 Kernel: 5.15 Compiler: gcc gcc (Debian 12.2.0-14+deb12u1) 12.2.0 Fedora Linux 42 Kernel: 5.15 Compiler: clang gcc (GCC) 15.2.1 20250808 (Red Hat 15.2.1-1) Red Hat Enterprise Linux 8.10 Kernel: 5.15 Compiler: gcc gcc (GCC) 8.5.0 20210514 (Red Hat 8.5.0-22) Red Hat Enterprise Linux 9.5 Kernel: 5.15 Compiler: gcc gcc (GCC) 11.5.0 20240719 (Red Hat 11.5.0-2) Windows Server 2022 Kernel: 10.0.20348.2031 Compiler: clang 15.0.7, gcc 14.1.0 (MinGW), and MSVC VS 19.39.33521 To view detailed results, visit: https://lab.dpdk.org/results/dashboard/patchsets/34197/ UNH-IOL DPDK Community Lab To manage your email subscriptions, visit: https://lab.dpdk.org/results/dashboard/preferences/subscriptions/