From mboxrd@z Thu Jan 1 00:00:00 1970 Return-Path: Received: from mails.dpdk.org (mails.dpdk.org [217.70.189.124]) by inbox.dpdk.org (Postfix) with ESMTP id 465E0488B1 for ; Sun, 5 Oct 2025 02:37:14 +0200 (CEST) Received: from mails.dpdk.org (localhost [127.0.0.1]) by mails.dpdk.org (Postfix) with ESMTP id 26D5D4021F; Sun, 5 Oct 2025 02:37:14 +0200 (CEST) Received: from mail-il1-f225.google.com (mail-il1-f225.google.com [209.85.166.225]) by mails.dpdk.org (Postfix) with ESMTP id CDB6D4021F for ; Sun, 5 Oct 2025 02:37:12 +0200 (CEST) Received: by mail-il1-f225.google.com with SMTP id e9e14a558f8ab-42f61004750so6976415ab.2 for ; Sat, 04 Oct 2025 17:37:12 -0700 (PDT) DKIM-Signature: v=1; a=rsa-sha256; c=relaxed/relaxed; d=iol.unh.edu; s=unh-iol; t=1759624632; x=1760229432; darn=dpdk.org; h=references:in-reply-to:cc:to:from:subject:message-id:date:from:to :cc:subject:date:message-id:reply-to; bh=v/ultw/Dy3lhF/vccH7gAAttQABzvS9yAldDsmBu3ww=; b=T/2J3EItC9UzI7hM48yTL4r/CAshAimDvC8IIZFP5gMnToGq75LkyrVmqCitUzYOnx YeF3dsfzPF9sNZtAclvRBsRAqWRFj26fCE7SUdW0ypWZlK+YATYgmV0PChF9QIiswo+K axM5yZTQ7BD0/ia5UmAOXyRRRhn4xyBRIoKZ4= X-Google-DKIM-Signature: v=1; a=rsa-sha256; c=relaxed/relaxed; d=1e100.net; s=20230601; t=1759624632; x=1760229432; h=references:in-reply-to:cc:to:from:subject:message-id:date :x-gm-message-state:from:to:cc:subject:date:message-id:reply-to; bh=v/ultw/Dy3lhF/vccH7gAAttQABzvS9yAldDsmBu3ww=; b=YaLyTJZKPaMOQS7+fAFImEJGKLIIaLxV0dqy6BzO7CJWDE4PX5YnfRyHkMXHKsqGQH L5gwvX5vk/hJs1POgDQ22pUlf97h4mbwMCp1P6BDuawnnkzh5/8XVTW1Jz9bBDJN6mrv sQE++Lc7zab4l09zJgvNkZYHBNfAxjCUznTl3bMeUjWoWydoqlo2RaWbFgKTLglUXbac BMbzXMhZrJmDCWNUz3XDFwBZLsBDPkr7AEPPTOzH+uT/5XFeUt+ltA7zvJ+f4t6Of30s u9GlDJIXJc+AgdthHVhcz2ju+KxHvOh+9hzzNHM0SSYTjUls70KgcZRk9A23RSp5HTVX taOw== X-Gm-Message-State: AOJu0YzR1idUExz6EVRf89m6Sxul63IT+pVZ5G/+KCEDgNKAXlFg0iWA k0YdkEnCaGgfRpfp8ejoMzhUeWTJREoPmwFbkVLMXEU/FrFQt33zkr9WnhFHIvZW94NzTWirItI hiImAeiy3xidaWRUIrDiYE0h4bq94FOGpMG5G2yEX/N/g X-Gm-Gg: ASbGncsTRG/RoI/+1dWkqhtUVqdUe4uS+EBYwBbPU4NZ2yRlJp4HbGspxu/qb9qMGLF XNPrRIqxSib9fCswxOiztX06aWiqdwrRWWs0TaLAS1I0HSrnGT01VgNfYiYo1El+DXaXDLWXcx5 Ku5lXX3sC6as9jG7VsRz4HdXjLHbogJ9GWufuBu/wp7r/RsFSzD2O5kjgpGguKqrkr5+BdrbYlC 1umWyQZZLs3EG0ggctvbBi/WOJIXEvWApCnVyF63vKuaXp/COnx3CDHZ9+jOvzTHLiRvCVRjeR5 Pltb7RBMO2eNc3lz50TwBBD+s9fmwGs5+fmFDyuthiQfo/oiQr8HJU5TWuQweYfpwE9GWI8WOsW DMA== X-Google-Smtp-Source: AGHT+IHOGPQTajoon/1mw+FjbQqJ0xc3GzLsm9lcVq7U2b7oALLwolaZTHyr3I5kUvITQLJprVpnHRUpkWmj X-Received: by 2002:a05:6e02:2586:b0:425:8744:de7d with SMTP id e9e14a558f8ab-42e7adc88fbmr101825705ab.30.1759624631992; Sat, 04 Oct 2025 17:37:11 -0700 (PDT) Received: from postal.iol.unh.edu (postal.iol.unh.edu. [132.177.123.84]) by smtp-relay.gmail.com with ESMTPS id e9e14a558f8ab-42d8b28fac2sm7173355ab.32.2025.10.04.17.37.11 (version=TLS1_2 cipher=ECDHE-ECDSA-AES128-GCM-SHA256 bits=128/128); Sat, 04 Oct 2025 17:37:11 -0700 (PDT) X-Relaying-Domain: iol.unh.edu Date: Sat, 04 Oct 2025 17:37:11 -0700 (PDT) Message-ID: <68e1bdb7.050a0220.75f52.7285SMTPIN_ADDED_MISSING@mx.google.com> Received: from [172.21.0.2] (unknown [172.18.0.240]) by postal.iol.unh.edu (Postfix) with ESMTP id 8BC736051830; Sat, 4 Oct 2025 20:37:11 -0400 (EDT) Subject: |SUCCESS| pw157172-157176 [PATCH] [v2,5/5] net/ice/base: update READ From: dpdklab@iol.unh.edu To: Test Report Cc: dpdk-test-reports@iol.unh.edu, Bruce Richardson In-Reply-To: <207bf21102cc183944ead4f989eaf9b26d0e7891.1759321681.git.anatoly.burakov@intel.com> References: <207bf21102cc183944ead4f989eaf9b26d0e7891.1759321681.git.anatoly.burakov@intel.com> Content-Type: text/plain X-BeenThere: test-report@dpdk.org X-Mailman-Version: 2.1.29 Precedence: list List-Id: automatic DPDK test reports List-Unsubscribe: , List-Archive: List-Post: List-Help: List-Subscribe: , Errors-To: test-report-bounces@dpdk.org Test-Label: iol-compile-arm64-testing Test-Status: SUCCESS http://dpdk.org/patch/157176 _Testing PASS_ Submitter: Burakov, Anatoly Date: Wednesday, October 01 2025 12:29:08 DPDK git baseline: Repo:dpdk-next-net-intel Branch: master CommitID:9845e5848bbe337306fb6ae2a6b1ce5e6ab5b714 157172-157176 --> testing pass Upstream job id: Generic-DPDK-Compile-Meson#430818 Test environment and result as below: +------------------------------+--------------------+ | Environment | dpdk_meson_compile | +==============================+====================+ | Red Hat Enterprise Linux 9.5 | PASS | +------------------------------+--------------------+ | Ubuntu 20.04 | PASS | +------------------------------+--------------------+ | Debian GNU/Linux 12 | PASS | +------------------------------+--------------------+ | Fedora Linux 42 | PASS | +------------------------------+--------------------+ | Ubuntu 22.04 | PASS | +------------------------------+--------------------+ | Ubuntu 24.04 | PASS | +------------------------------+--------------------+ | CentOS Stream 9 | PASS | +------------------------------+--------------------+ | CentOS Stream 10 | PASS | +------------------------------+--------------------+ Red Hat Enterprise Linux 9.5 Kernel: 5.4 Compiler: gcc gcc (GCC) 11.5.0 20240719 (Red Hat 11.5.0-2) Ubuntu 20.04 Kernel: 5.15 Compiler: clang gcc (Ubuntu 9.4.0-1ubuntu1~20.04.2) 9.4.0 Debian GNU/Linux 12 Kernel: 5.4 Compiler: gcc gcc (Debian 12.2.0-14+deb12u1) 12.2.0 Fedora Linux 42 Kernel: 5.4 Compiler: gcc gcc (GCC) 15.2.1 20250808 (Red Hat 15.2.1-1) Ubuntu 22.04 Kernel: 5.4 Compiler: gcc gcc (Ubuntu 11.4.0-1ubuntu1~22.04) 11.4.0 Ubuntu 24.04 Kernel: 5.4 Compiler: gcc gcc (Ubuntu 13.3.0-6ubuntu2~24.04) 13.3.0 CentOS Stream 9 Kernel: 5.4 Compiler: gcc gcc (GCC) 11.5.0 20240719 (Red Hat 11.5.0-11) CentOS Stream 10 Kernel: 5.4 Compiler: gcc gcc (GCC) 14.2.1 20250110 (Red Hat 14.2.1-8) To view detailed results, visit: https://lab.dpdk.org/results/dashboard/patchsets/34193/ UNH-IOL DPDK Community Lab To manage your email subscriptions, visit: https://lab.dpdk.org/results/dashboard/preferences/subscriptions/