From mboxrd@z Thu Jan 1 00:00:00 1970 Return-Path: Received: from mails.dpdk.org (mails.dpdk.org [217.70.189.124]) by inbox.dpdk.org (Postfix) with ESMTP id F26C4488B1 for ; Sun, 5 Oct 2025 03:11:44 +0200 (CEST) Received: from mails.dpdk.org (localhost [127.0.0.1]) by mails.dpdk.org (Postfix) with ESMTP id D36604021F; Sun, 5 Oct 2025 03:11:44 +0200 (CEST) Received: from mail-qt1-f225.google.com (mail-qt1-f225.google.com [209.85.160.225]) by mails.dpdk.org (Postfix) with ESMTP id 82B814021F for ; Sun, 5 Oct 2025 03:11:43 +0200 (CEST) Received: by mail-qt1-f225.google.com with SMTP id d75a77b69052e-4e3117ea7a2so49213591cf.2 for ; Sat, 04 Oct 2025 18:11:43 -0700 (PDT) DKIM-Signature: v=1; a=rsa-sha256; c=relaxed/relaxed; d=iol.unh.edu; s=unh-iol; t=1759626703; x=1760231503; darn=dpdk.org; h=references:in-reply-to:cc:to:from:subject:message-id:date:from:to :cc:subject:date:message-id:reply-to; bh=yvwGRGzJ/kNTc6wh29CwtcdFbQyU8DVg4pwwgWBDaeo=; b=W/bVh6AW7nZ4ZaYjqMENz6botXsqxSUarQl8d6F3xOL1QlJQjWFnGypSU7roYEcCsI XpvPweAq5jhtrF6lOKMk1wZiy0Zv5rrlL8p/YnxTD4EhKAU2moICK+FDlV6li99YsODf Dcqx3/JHdg4+iZoQXDvLsbNbnFsyAR+z8xcUk= X-Google-DKIM-Signature: v=1; a=rsa-sha256; c=relaxed/relaxed; d=1e100.net; s=20230601; t=1759626703; x=1760231503; h=references:in-reply-to:cc:to:from:subject:message-id:date :x-gm-message-state:from:to:cc:subject:date:message-id:reply-to; bh=yvwGRGzJ/kNTc6wh29CwtcdFbQyU8DVg4pwwgWBDaeo=; b=Hg0GCsMtwM6JNDqNu21Kfzw9VgS8lx8yPJZY0ptwSfVFitG5PavQVVlhvZcwch1uQ8 63g5p+warop9fDtM5O/hfJ0n9UNnKIUBrp9oz3Jwq1g4FduAsIjyfQIX8unGqBVr9FpN Il7NpoBGyGo8SQXhsJUnzCWIQwoKKO1uxRwSjl4qtcBOT+Q6d5Y312jUg+k60AAB3C0M QTXYxAKFmM+TVduN+ya+Q9hoKPAUA1LBbdlV7iXHXRB7/p80V80N0my0OmfdQuJMIIOn aMOF22o14mapGz2H5dyXqQI+EiiEzcRJ3YELUPZcGZm/RPa4cgjBDziNH/sE4LGJSs2x fU1A== X-Gm-Message-State: AOJu0Yw6NKTkYiaQOEMpTqZr5dEqTeXsNZnyxcStjOmgH13xKP/TvwOB qLKg7iMgMk/B1TCmjZgM/seWGz7Tx4mNZA0g/uGDRyQ3bkexThawf/1UO2Y4G8xP1fdleFCTz/K KUq+bOQ0VHsJ7wfHzkI/n7/Sk/+laKTtoaVLt23PRWwbXy/Rq5xP4+H2QLSxg X-Gm-Gg: ASbGncujwSrv/+FQyyRNvQ+KtrhE8lhPMKt9o3r1JWWweYfHPAmRwRfSy9MtBK54pth fUB/r8Qa/ITlDe6mu54wqZc/uFh7Jh75QdQWBaySEpBfl8fQbOkEFjxHvP3cUOBs5MrWr0vIRvx phEN0BgvNPf/EfhEwn6WpqJBfm6x7KiJpeuFtYL2SY37jCnBNTV4mBn4HuCd77LRgOrL2G8H2sz XzpFmugU+us1ZaLNBV/Lk32FioC8XyCorn/eeSS1g3mEr9g676wcyTuseMZug2pabgTZU2xiQOq nBgj/ZAX2HZD8SOKNKsQSUDC4yQzrsrsnw4il//jKC62FhwNtNRD3sQ= X-Google-Smtp-Source: AGHT+IEQ50EMMbDA4q0hBszmvTJGzxJkpu/QjLPaE4BUoZ0Rz4Q/jZTYJC/CEwqjurk2OKdNSOx0gRUaps2y X-Received: by 2002:a05:622a:1908:b0:4d8:67fb:418a with SMTP id d75a77b69052e-4e576a5caf2mr115184431cf.2.1759626702720; Sat, 04 Oct 2025 18:11:42 -0700 (PDT) Received: from postal.iol.unh.edu (postal.iol.unh.edu. [2606:4100:3880:1234::84]) by smtp-relay.gmail.com with ESMTPS id af79cd13be357-877700db38bsm65805685a.2.2025.10.04.18.11.42 (version=TLS1_2 cipher=ECDHE-ECDSA-AES128-GCM-SHA256 bits=128/128); Sat, 04 Oct 2025 18:11:42 -0700 (PDT) X-Relaying-Domain: iol.unh.edu Date: Sat, 04 Oct 2025 18:11:42 -0700 (PDT) Message-ID: <68e1c5ce.050a0220.15689b.3ee4SMTPIN_ADDED_MISSING@mx.google.com> Received: from [172.21.0.2] (unknown [172.18.0.240]) by postal.iol.unh.edu (Postfix) with ESMTP id 3B33F60003F7; Sat, 4 Oct 2025 21:11:42 -0400 (EDT) Subject: |SUCCESS| pw157202-157204 [PATCH] [v4,3/3] dts: add performance test From: dpdklab@iol.unh.edu To: Test Report Cc: dpdk-test-reports@iol.unh.edu In-Reply-To: <20251001231659.2297751-4-probb@iol.unh.edu> References: <20251001231659.2297751-4-probb@iol.unh.edu> Content-Type: text/plain X-BeenThere: test-report@dpdk.org X-Mailman-Version: 2.1.29 Precedence: list List-Id: automatic DPDK test reports List-Unsubscribe: , List-Archive: List-Post: List-Help: List-Subscribe: , Errors-To: test-report-bounces@dpdk.org Test-Label: iol-compile-amd64-testing Test-Status: SUCCESS http://dpdk.org/patch/157204 _Testing PASS_ Submitter: Patrick Robb Date: Wednesday, October 01 2025 23:16:59 DPDK git baseline: Repo:dpdk-next-dts Branch: master CommitID:b71d7bdf2b663f9fedc1d344b81a8cf65518026c 157202-157204 --> testing pass Upstream job id: Generic-DPDK-Compile-Meson#430948 Test environment and result as below: +-------------------------------+--------------------+-------------------------+-------------------+----------------------+-------------------+------------------+ | Environment | dpdk_meson_compile | dpdk_llvm_clang_compile | dpdk_msvc_compile | dpdk_mingw64_compile | dpdk_compile_spdk | dpdk_compile_ovs | +===============================+====================+=========================+===================+======================+===================+==================+ | Ubuntu 20.04 | PASS | SKIPPED | SKIPPED | SKIPPED | SKIPPED | SKIPPED | +-------------------------------+--------------------+-------------------------+-------------------+----------------------+-------------------+------------------+ | FreeBSD 14.2 | PASS | SKIPPED | SKIPPED | SKIPPED | SKIPPED | SKIPPED | +-------------------------------+--------------------+-------------------------+-------------------+----------------------+-------------------+------------------+ | Alpine Linux 3.22.0 | PASS | SKIPPED | SKIPPED | SKIPPED | SKIPPED | SKIPPED | +-------------------------------+--------------------+-------------------------+-------------------+----------------------+-------------------+------------------+ | openSUSE Leap 15.6 | PASS | SKIPPED | SKIPPED | SKIPPED | SKIPPED | SKIPPED | +-------------------------------+--------------------+-------------------------+-------------------+----------------------+-------------------+------------------+ | CentOS Stream 9 | PASS | SKIPPED | SKIPPED | SKIPPED | PASS | SKIPPED | +-------------------------------+--------------------+-------------------------+-------------------+----------------------+-------------------+------------------+ | CentOS Stream 10 | PASS | SKIPPED | SKIPPED | SKIPPED | SKIPPED | SKIPPED | +-------------------------------+--------------------+-------------------------+-------------------+----------------------+-------------------+------------------+ | Debian GNU/Linux 12 | PASS | SKIPPED | SKIPPED | SKIPPED | PASS | SKIPPED | +-------------------------------+--------------------+-------------------------+-------------------+----------------------+-------------------+------------------+ | Fedora Linux 42 | PASS | SKIPPED | SKIPPED | SKIPPED | PASS | PASS | +-------------------------------+--------------------+-------------------------+-------------------+----------------------+-------------------+------------------+ | Red Hat Enterprise Linux 8.10 | PASS | SKIPPED | SKIPPED | SKIPPED | SKIPPED | SKIPPED | +-------------------------------+--------------------+-------------------------+-------------------+----------------------+-------------------+------------------+ | Red Hat Enterprise Linux 9.5 | PASS | SKIPPED | SKIPPED | SKIPPED | SKIPPED | SKIPPED | +-------------------------------+--------------------+-------------------------+-------------------+----------------------+-------------------+------------------+ | Ubuntu 22.04 | PASS | SKIPPED | SKIPPED | SKIPPED | PASS | SKIPPED | +-------------------------------+--------------------+-------------------------+-------------------+----------------------+-------------------+------------------+ | Ubuntu 24.04 | PASS | SKIPPED | SKIPPED | SKIPPED | PASS | PASS | +-------------------------------+--------------------+-------------------------+-------------------+----------------------+-------------------+------------------+ | Windows Server 2022 | SKIPPED | PASS | PASS | PASS | SKIPPED | SKIPPED | +-------------------------------+--------------------+-------------------------+-------------------+----------------------+-------------------+------------------+ Ubuntu 20.04 Kernel: 4.19 Compiler: gcc gcc (Ubuntu 9.4.0-1ubuntu1~20.04.2) 9.4.0 FreeBSD 14.2 Kernel: 14.2-RELEASE Compiler: clang 18.1.6 Alpine Linux 3.22.0 Kernel: 5.15 Compiler: gcc gcc (Alpine 14.2.0) 14.2.0 openSUSE Leap 15.6 Kernel: 5.15 Compiler: gcc gcc (SUSE Linux) 7.5.0 CentOS Stream 9 Kernel: 5.15 Compiler: gcc gcc (GCC) 11.5.0 20240719 (Red Hat 11.5.0-11) CentOS Stream 10 Kernel: 5.15 Compiler: gcc gcc (GCC) 14.2.1 20250110 (Red Hat 14.2.1-8) Debian GNU/Linux 12 Kernel: 5.15 Compiler: gcc gcc (Debian 12.2.0-14+deb12u1) 12.2.0 Fedora Linux 42 Kernel: 5.15 Compiler: clang gcc (GCC) 15.2.1 20250808 (Red Hat 15.2.1-1) Red Hat Enterprise Linux 8.10 Kernel: 5.15 Compiler: gcc gcc (GCC) 8.5.0 20210514 (Red Hat 8.5.0-22) Red Hat Enterprise Linux 9.5 Kernel: 5.15 Compiler: gcc gcc (GCC) 11.5.0 20240719 (Red Hat 11.5.0-2) Ubuntu 22.04 Kernel: 5.15 Compiler: gcc gcc (Ubuntu 11.4.0-1ubuntu1~22.04) 11.4.0 Ubuntu 24.04 Kernel: 5.15 Compiler: gcc gcc (Ubuntu 13.3.0-6ubuntu2~24.04) 13.3.0 Windows Server 2022 Kernel: 10.0.20348.2031 Compiler: clang 15.0.7, gcc 14.1.0 (MinGW), and MSVC VS 19.39.33521 To view detailed results, visit: https://lab.dpdk.org/results/dashboard/patchsets/34197/ UNH-IOL DPDK Community Lab To manage your email subscriptions, visit: https://lab.dpdk.org/results/dashboard/preferences/subscriptions/