From mboxrd@z Thu Jan 1 00:00:00 1970 Return-Path: Received: from mails.dpdk.org (mails.dpdk.org [217.70.189.124]) by inbox.dpdk.org (Postfix) with ESMTP id 6C461488B1 for ; Sun, 5 Oct 2025 03:41:43 +0200 (CEST) Received: from mails.dpdk.org (localhost [127.0.0.1]) by mails.dpdk.org (Postfix) with ESMTP id 5266D402A1; Sun, 5 Oct 2025 03:41:43 +0200 (CEST) Received: from mail-vs1-f100.google.com (mail-vs1-f100.google.com [209.85.217.100]) by mails.dpdk.org (Postfix) with ESMTP id 992D3402A1 for ; Sun, 5 Oct 2025 03:41:42 +0200 (CEST) Received: by mail-vs1-f100.google.com with SMTP id ada2fe7eead31-583a520bd81so1706485137.2 for ; Sat, 04 Oct 2025 18:41:42 -0700 (PDT) DKIM-Signature: v=1; a=rsa-sha256; c=relaxed/relaxed; d=iol.unh.edu; s=unh-iol; t=1759628502; x=1760233302; darn=dpdk.org; h=cc:to:from:subject:message-id:date:from:to:cc:subject:date :message-id:reply-to; bh=txNducw4HQDgIV132F2/GPKNxHxZ40RtO7aCEAuQ6Co=; b=TvPsQidTSpMdK01xwWo1o2wFl0M3FOHvq3QNA65kYAt2hn8a+kOGmJ9LYOwAppKR0U II4wHsd2srqP+c2jOwI7nh+npivqO2I3RcOCTRR30Xle3f+pJnietXYaV/yFrnY5m0YH hg3g0AdLz7FAqzSHfSQ5JHBquJtiLVa8EmtAM= X-Google-DKIM-Signature: v=1; a=rsa-sha256; c=relaxed/relaxed; d=1e100.net; s=20230601; t=1759628502; x=1760233302; h=cc:to:from:subject:message-id:date:x-gm-message-state:from:to:cc :subject:date:message-id:reply-to; bh=txNducw4HQDgIV132F2/GPKNxHxZ40RtO7aCEAuQ6Co=; b=hqz4bKrxFA/qixJUymmlWHHj7mY14rU8T07aY6j0QL7zYHS4Z6c1j1eV9aqJXlnbRd XWiX9PtyGl+nlf2wsxMXzWHiWZ4+RBSHK3o5NXZ7JjcyyRe8N8qpUFHzaEZuR5/N+99h 0Z8vw+YX1ztTZr2yEnC0nWbbv2fsQLlW5O0RJwg2IKBotz7pf2e7LGpsTAREjywLAA72 F+Ud8HmBZeYOI3iNU+21vxgoYOuorjOaUtxCDGPWo3p2ANT0KS4o8GI7DhWTGstiodnc T8dy0CHq0rvDJrwYLmyZ2GtGSLa4ypfofXiz8eVRY0mQcCVF06u2rr7yCIDK6Rs7qIkv UoCw== X-Gm-Message-State: AOJu0YxUNbVBemROnzi4rlU1w5WeqYv1zMcl8pn4Uu/9qPWQZo1+IDKc MRRO8vNZ2xQ4DD/Rj3pcXm2M03m1emy9vgLLcJOS1Ad59rixqQZkDvL5nGfx/9THeh2bALfRMlJ rzGlAkHLFZF+DQp2sgeEcA6F+MB+yRDCZiosXkkEj46z2658u4+d2aNYf4pOk X-Gm-Gg: ASbGnctYKEM3bw2H8W2C9rzhxo7yh4N4uk8KuAHbDyFICi/MZ+cEnI87uDWJ9N0VEer kttpL5kUFNJVpGOGRIgJ9smq2G3tvQyUAeG14X2vql+1lgxpmELv3SwdKZCrT5TD6UR1/Gvorl8 XI8z2k5ryyK04hCPwjfJMSnMxwHwRKADtwO0z1cPFCNUYB3afJnpTm/i9B/BA6BFd6RhBg/s2dm VA9+1aoD02Uc6IumhDhFpRdRNb6HW+rk1f3DpRESJUlxRVee/R2/rECv2v8/nd5CZZrRIcAMin6 y/J+pDUcWGo2a6PbLCnbfbpCGkCrL6422KRXJx8lsoD7a6aTSpcgY8U= X-Google-Smtp-Source: AGHT+IGrtaQPd7bmmaciUmYMJwsNc/+fZlMXq5+5SmTMYD2jaUFhy1UsZs2eeATPY8bcua85lRzcQucFN846 X-Received: by 2002:a05:6122:514:b0:54c:4dca:9529 with SMTP id 71dfb90a1353d-5524ea96bb4mr2900497e0c.14.1759628501880; Sat, 04 Oct 2025 18:41:41 -0700 (PDT) Received: from postal.iol.unh.edu (postal.iol.unh.edu. [2606:4100:3880:1234::84]) by smtp-relay.gmail.com with ESMTPS id 71dfb90a1353d-5523d031ba1sm854405e0c.6.2025.10.04.18.41.41 (version=TLS1_2 cipher=ECDHE-ECDSA-AES128-GCM-SHA256 bits=128/128); Sat, 04 Oct 2025 18:41:41 -0700 (PDT) X-Relaying-Domain: iol.unh.edu Date: Sat, 04 Oct 2025 18:41:41 -0700 (PDT) Message-ID: <68e1ccd5.050a0220.344e01.e96aSMTPIN_ADDED_MISSING@mx.google.com> Received: from [172.21.0.2] (unknown [172.18.0.240]) by postal.iol.unh.edu (Postfix) with ESMTP id 8435F60003F7; Sat, 4 Oct 2025 21:41:41 -0400 (EDT) Subject: |SUCCESS| [GIT MASTER] 2ffda8c2e357662354ee6ddcca769258c33642a9 From: dpdklab@iol.unh.edu To: Test Report Cc: dpdk-test-reports@iol.unh.edu Content-Type: text/plain X-BeenThere: test-report@dpdk.org X-Mailman-Version: 2.1.29 Precedence: list List-Id: automatic DPDK test reports List-Unsubscribe: , List-Archive: List-Post: List-Help: List-Subscribe: , Errors-To: test-report-bounces@dpdk.org _Testing PASS_ Branch: dpdk 2ffda8c2e357662354ee6ddcca769258c33642a9 --> testing pass Upstream job id: Generic-DPDK-Compile-Meson#430970 Test environment and result as below: +-------------------------------+--------------------+-------------------+-------------------------+----------------------+-------------------+------------------+ | Environment | dpdk_meson_compile | dpdk_msvc_compile | dpdk_llvm_clang_compile | dpdk_mingw64_compile | dpdk_compile_spdk | dpdk_compile_ovs | +===============================+====================+===================+=========================+======================+===================+==================+ | Ubuntu 20.04 | PASS | SKIPPED | SKIPPED | SKIPPED | SKIPPED | SKIPPED | +-------------------------------+--------------------+-------------------+-------------------------+----------------------+-------------------+------------------+ | FreeBSD 14.2 | PASS | SKIPPED | SKIPPED | SKIPPED | SKIPPED | SKIPPED | +-------------------------------+--------------------+-------------------+-------------------------+----------------------+-------------------+------------------+ | CentOS Stream 9 | PASS | SKIPPED | SKIPPED | SKIPPED | PASS | SKIPPED | +-------------------------------+--------------------+-------------------+-------------------------+----------------------+-------------------+------------------+ | CentOS Stream 10 | PASS | SKIPPED | SKIPPED | SKIPPED | SKIPPED | SKIPPED | +-------------------------------+--------------------+-------------------+-------------------------+----------------------+-------------------+------------------+ | Debian GNU/Linux 12 | PASS | SKIPPED | SKIPPED | SKIPPED | PASS | SKIPPED | +-------------------------------+--------------------+-------------------+-------------------------+----------------------+-------------------+------------------+ | Fedora Linux 42 | PASS | SKIPPED | SKIPPED | SKIPPED | PASS | PASS | +-------------------------------+--------------------+-------------------+-------------------------+----------------------+-------------------+------------------+ | openSUSE Leap 15.6 | PASS | SKIPPED | SKIPPED | SKIPPED | SKIPPED | SKIPPED | +-------------------------------+--------------------+-------------------+-------------------------+----------------------+-------------------+------------------+ | Red Hat Enterprise Linux 8.10 | PASS | SKIPPED | SKIPPED | SKIPPED | SKIPPED | SKIPPED | +-------------------------------+--------------------+-------------------+-------------------------+----------------------+-------------------+------------------+ | Red Hat Enterprise Linux 9.5 | PASS | SKIPPED | SKIPPED | SKIPPED | SKIPPED | SKIPPED | +-------------------------------+--------------------+-------------------+-------------------------+----------------------+-------------------+------------------+ | Ubuntu 22.04 | PASS | SKIPPED | SKIPPED | SKIPPED | PASS | SKIPPED | +-------------------------------+--------------------+-------------------+-------------------------+----------------------+-------------------+------------------+ | Ubuntu 24.04 | PASS | SKIPPED | SKIPPED | SKIPPED | PASS | PASS | +-------------------------------+--------------------+-------------------+-------------------------+----------------------+-------------------+------------------+ | Alpine Linux 3.22.0 | PASS | SKIPPED | SKIPPED | SKIPPED | SKIPPED | SKIPPED | +-------------------------------+--------------------+-------------------+-------------------------+----------------------+-------------------+------------------+ | Arch Linux 20250613.0.365270 | PASS | SKIPPED | SKIPPED | SKIPPED | SKIPPED | SKIPPED | +-------------------------------+--------------------+-------------------+-------------------------+----------------------+-------------------+------------------+ | Windows Server 2022 | SKIPPED | PASS | PASS | PASS | SKIPPED | SKIPPED | +-------------------------------+--------------------+-------------------+-------------------------+----------------------+-------------------+------------------+ Ubuntu 20.04 Kernel: 4.19 Compiler: gcc gcc (Ubuntu 9.4.0-1ubuntu1~20.04.2) 9.4.0 FreeBSD 14.2 Kernel: 14.2-RELEASE Compiler: clang 18.1.6 CentOS Stream 9 Kernel: 5.15 Compiler: gcc gcc (GCC) 11.5.0 20240719 (Red Hat 11.5.0-11) CentOS Stream 10 Kernel: 5.15 Compiler: gcc gcc (GCC) 14.2.1 20250110 (Red Hat 14.2.1-8) Debian GNU/Linux 12 Kernel: 5.15 Compiler: gcc gcc (Debian 12.2.0-14+deb12u1) 12.2.0 Fedora Linux 42 Kernel: 5.15 Compiler: clang gcc (GCC) 15.2.1 20250808 (Red Hat 15.2.1-1) openSUSE Leap 15.6 Kernel: 5.15 Compiler: gcc gcc (SUSE Linux) 7.5.0 Red Hat Enterprise Linux 8.10 Kernel: 5.15 Compiler: gcc gcc (GCC) 8.5.0 20210514 (Red Hat 8.5.0-22) Red Hat Enterprise Linux 9.5 Kernel: 5.15 Compiler: gcc gcc (GCC) 11.5.0 20240719 (Red Hat 11.5.0-2) Ubuntu 22.04 Kernel: 5.15 Compiler: gcc gcc (Ubuntu 11.4.0-1ubuntu1~22.04) 11.4.0 Ubuntu 24.04 Kernel: 5.15 Compiler: gcc gcc (Ubuntu 13.3.0-6ubuntu2~24.04) 13.3.0 Alpine Linux 3.22.0 Kernel: 5.15 Compiler: gcc gcc (Alpine 14.2.0) 14.2.0 Arch Linux 20250613.0.365270 Kernel: 5.15 Compiler: gcc gcc (GCC) 15.1.1 20250425 Windows Server 2022 Kernel: 10.0.20348.2031 Compiler: clang 15.0.7, gcc 14.1.0 (MinGW), and MSVC VS 19.39.33521 To view detailed results, visit: https://lab.dpdk.org/results/dashboard/tarballs/35081/ UNH-IOL DPDK Community Lab To manage your email subscriptions, visit: https://lab.dpdk.org/results/dashboard/preferences/subscriptions/