From mboxrd@z Thu Jan 1 00:00:00 1970 Return-Path: Received: from mails.dpdk.org (mails.dpdk.org [217.70.189.124]) by inbox.dpdk.org (Postfix) with ESMTP id C7220488B1 for ; Sun, 5 Oct 2025 03:58:13 +0200 (CEST) Received: from mails.dpdk.org (localhost [127.0.0.1]) by mails.dpdk.org (Postfix) with ESMTP id A7181402A1; Sun, 5 Oct 2025 03:58:13 +0200 (CEST) Received: from mail-pj1-f100.google.com (mail-pj1-f100.google.com [209.85.216.100]) by mails.dpdk.org (Postfix) with ESMTP id B0664402A1 for ; Sun, 5 Oct 2025 03:58:12 +0200 (CEST) Received: by mail-pj1-f100.google.com with SMTP id 98e67ed59e1d1-3306d93e562so3965263a91.1 for ; Sat, 04 Oct 2025 18:58:12 -0700 (PDT) DKIM-Signature: v=1; a=rsa-sha256; c=relaxed/relaxed; d=iol.unh.edu; s=unh-iol; t=1759629492; x=1760234292; darn=dpdk.org; h=cc:to:from:subject:message-id:date:from:to:cc:subject:date :message-id:reply-to; bh=ZUXzmz5wQhbry0aolCFMSOPD59GhwW3RPy5kLNcR/5Y=; b=FBMZnLl9XY5YH69Imb7OQimN0j4qs2KDTLyegTYiHYjeF0DHush8ZPH8jw+EJOWL+9 cJeYGyxulpo5NU1+s+8CEgzUEw/mPqwVAIERqxFdxXTP5b/FPWkGZLkeXoDzHI0Gqswz JfR26I4xyz7doN2BS2ghIWHL3c7B9uIAN253I= X-Google-DKIM-Signature: v=1; a=rsa-sha256; c=relaxed/relaxed; d=1e100.net; s=20230601; t=1759629492; x=1760234292; h=cc:to:from:subject:message-id:date:x-gm-message-state:from:to:cc :subject:date:message-id:reply-to; bh=ZUXzmz5wQhbry0aolCFMSOPD59GhwW3RPy5kLNcR/5Y=; b=cdLgjxCYTkxnmzebv69as0LCT5wKAPvUmqpfGOaXBp0r4qXME4M0Xm0X6P6oqVDh49 TTOzTPqloHaxZJijsYUmtua+ZIq8sE5SCo2ZZrL2vkntRWp+hIaNIv21FY/TWKpTRjXf xrSwKoCeKfEBSAsOD4jdKk5WKWumbTu9i3OfhWlaLpTWSLNX8Fj6nKrtCQB7+3QAEZKF XFcqVktyQ50wdQNB1MrKMnDrhKy/M46MexheQVemP/K1Fw2p4RJyi5EwtnI+ppClp4ek I1TMJJPaiA4Tnpx3RcQZxVcTnbAqjuxIJ27Rm+LzhdZpef9yrhkYWwDTrUOGqJYoSq3/ T2Qw== X-Gm-Message-State: AOJu0YzDtIT3Sp+q0fgqV/sA2kP+eBOHMt3ly4rXB+x8+XIa8flKaJmy NO8VbUfn8Ts4qrCUrTpfXfqw/8hahMJbz0AaMvWRCPR6QyVZnMvRnjgXJgNiQlp1cSV4YeeTemD r0SGCypXisfdLkL74GK+2xK2uNKvebBa32HbYQ6W5vm+fktdXo/wq X-Gm-Gg: ASbGncsjzrZ7lAxL8b37E6jJaBTobtIwivLSog5aLP3DRJQw1tVpadCoTVdGMlnsOEl u6U22Lkdybu1gaJ8/2vqRGYe+gRCKxi6/9odrS0kkF9O/2u0/DmYhbaUQM7gVEdb61LKbvB+7Fd izMcOe7ZuGWhFQ48bjBT55Hg4MxvccKVMq/LwnEE3CyRicrO3YkJMiIj+UMvEqGKagzTB6+KNM3 nxTsMPVBIgI+2b58azwpl16237Ep30vjavMc14BtEMi2rEijOPNl000f78CX/+UCmq83GL69HrQ 1YjwSR/T4LGy+fGACqznXY+F6bAMKtcJeTgtjc0siY7wyBUuF3R0BrU= X-Google-Smtp-Source: AGHT+IFoqywRkHDHHCXRbwFaeRc8HM47pI23U06xeSN//Vi+WTOpsReWU8COyBjz3bv/JNhXCSG21SyZxK92 X-Received: by 2002:a17:903:fa7:b0:274:777b:ca6d with SMTP id d9443c01a7336-28e9a67a029mr86362845ad.43.1759629491711; Sat, 04 Oct 2025 18:58:11 -0700 (PDT) Received: from postal.iol.unh.edu (postal.iol.unh.edu. [2606:4100:3880:1234::84]) by smtp-relay.gmail.com with ESMTPS id 98e67ed59e1d1-339b4e97355sm896795a91.1.2025.10.04.18.58.11 (version=TLS1_2 cipher=ECDHE-ECDSA-AES128-GCM-SHA256 bits=128/128); Sat, 04 Oct 2025 18:58:11 -0700 (PDT) X-Relaying-Domain: iol.unh.edu Date: Sat, 04 Oct 2025 18:58:11 -0700 (PDT) Message-ID: <68e1d0b3.170a0220.a2468.20b0SMTPIN_ADDED_MISSING@mx.google.com> Received: from [172.21.0.3] (unknown [172.18.0.240]) by postal.iol.unh.edu (Postfix) with ESMTP id E19FE6051830; Sat, 4 Oct 2025 21:58:10 -0400 (EDT) Subject: |SUCCESS| [GIT MASTER] 3b43ce3f4a54468e7ef65760c2fd7b4d6ee6d9fc From: dpdklab@iol.unh.edu To: Test Report Cc: dpdk-test-reports@iol.unh.edu, Xueming Li , Christian Ehrhardt , Kevin Traynor , Luca Boccassi Content-Type: text/plain X-BeenThere: test-report@dpdk.org X-Mailman-Version: 2.1.29 Precedence: list List-Id: automatic DPDK test reports List-Unsubscribe: , List-Archive: List-Post: List-Help: List-Subscribe: , Errors-To: test-report-bounces@dpdk.org _Testing PASS_ Branch: tags/v22.11 3b43ce3f4a54468e7ef65760c2fd7b4d6ee6d9fc --> testing pass Upstream job id: Generic-DPDK-Compile-Meson#430981 Test environment and result as below: +---------------------+--------------------+-------------------------+----------------------+ | Environment | dpdk_meson_compile | dpdk_llvm_clang_compile | dpdk_mingw64_compile | +=====================+====================+=========================+======================+ | Ubuntu 20.04 | PASS | SKIPPED | SKIPPED | +---------------------+--------------------+-------------------------+----------------------+ | FreeBSD 14.2 | PASS | SKIPPED | SKIPPED | +---------------------+--------------------+-------------------------+----------------------+ | CentOS Stream 9 | PASS | SKIPPED | SKIPPED | +---------------------+--------------------+-------------------------+----------------------+ | Windows Server 2022 | SKIPPED | PASS | PASS | +---------------------+--------------------+-------------------------+----------------------+ Ubuntu 20.04 Kernel: 4.19 Compiler: gcc gcc (Ubuntu 9.4.0-1ubuntu1~20.04.2) 9.4.0 FreeBSD 14.2 Kernel: 14.2-RELEASE Compiler: clang 18.1.6 CentOS Stream 9 Kernel: 5.15 Compiler: gcc gcc (GCC) 11.5.0 20240719 (Red Hat 11.5.0-11) Windows Server 2022 Kernel: 10.0.20348.2031 Compiler: clang 15.0.7, gcc 14.1.0 (MinGW), and MSVC VS 19.39.33521 To view detailed results, visit: https://lab.dpdk.org/results/dashboard/tarballs/35082/ UNH-IOL DPDK Community Lab To manage your email subscriptions, visit: https://lab.dpdk.org/results/dashboard/preferences/subscriptions/