From mboxrd@z Thu Jan 1 00:00:00 1970 Return-Path: Received: from mails.dpdk.org (mails.dpdk.org [217.70.189.124]) by inbox.dpdk.org (Postfix) with ESMTP id 14083488B1 for ; Sun, 5 Oct 2025 04:01:06 +0200 (CEST) Received: from mails.dpdk.org (localhost [127.0.0.1]) by mails.dpdk.org (Postfix) with ESMTP id F1C43402A1; Sun, 5 Oct 2025 04:01:05 +0200 (CEST) Received: from mail-oo1-f98.google.com (mail-oo1-f98.google.com [209.85.161.98]) by mails.dpdk.org (Postfix) with ESMTP id 845F1402A1 for ; Sun, 5 Oct 2025 04:01:04 +0200 (CEST) Received: by mail-oo1-f98.google.com with SMTP id 006d021491bc7-643cd58c678so2052914eaf.3 for ; Sat, 04 Oct 2025 19:01:04 -0700 (PDT) DKIM-Signature: v=1; a=rsa-sha256; c=relaxed/relaxed; d=iol.unh.edu; s=unh-iol; t=1759629663; x=1760234463; darn=dpdk.org; h=cc:to:from:subject:message-id:date:from:to:cc:subject:date :message-id:reply-to; bh=ChFytvxQ1Lwc0yw5nxIS206AHTZm9KNzaMTtT6Nn8IM=; b=RFxQhR9PWV9Vcy4GL8iOJ2/Gr9Rr8vKh8jtx4U7oS+7SrU6/TOJdmg6KqOdc3aHH1l 7Flvo/3ambwB90yFbQEgjxHsNxfvHCT1Y7it/oN1vnQ1awrUW1xaY3wvjzHjhvi2EXQq 4VQDl733U4DitwUqgQqA0X7qggzLi4v6ck3mY= X-Google-DKIM-Signature: v=1; a=rsa-sha256; c=relaxed/relaxed; d=1e100.net; s=20230601; t=1759629663; x=1760234463; h=cc:to:from:subject:message-id:date:x-gm-message-state:from:to:cc :subject:date:message-id:reply-to; bh=ChFytvxQ1Lwc0yw5nxIS206AHTZm9KNzaMTtT6Nn8IM=; b=Wto8dKio0Hwcaj+iB0vLPFQ77YvBiBB/npUYQstc721dli3zwUV9V+3/dBLGNY6Q5y 7ZdXmYvUCX5SUtCopL0P7oB0yD1oBOVKxOILuGFC0Gr9DAK5PEJRB6sywYinWluBXrGf UFvMcQcvp15GTuxx5jtxiWh5Iu/py050ynXhcjbhcdK1BaZnM10p/4aZgAdKBaeaCNev iDDR5SB6veGNUTkYkbOgH/idMS7KQEzwDkFkfpnoLs1P0dJMD/g+5ttXfmbhgdycPOrp sY5/fxdH9atSHxqR+hZby3BROjg35d3zhtzVP/qNo+PyAl0oMA44VtMqDS9KX4XCdVIa IUNA== X-Gm-Message-State: AOJu0Ywl8vkq8i5b9O0li+TAikSrEQAr4BtqHAmJE7xhivBUDFoGrDP6 wNr76SZDNc5kaIuYVOPUPRtD6+16BYyZg+fdLK/G6EFcXUBG5Qh6qd6I22guvFQ9LdNGPAp3aqJ 5mF2FXd1VVnaej4IJBqahZU2K3/YkpnimBzYVueXxWN4TB6yISGRE X-Gm-Gg: ASbGncvzhHsSWPmmRUikWZ9/BRvQ6wKSDB98GDR4SsOc04rXtz9hWYNieKtB6WJLD9c 6ayJniPf1zyHXJw7yuYGwdL4bOqTFHYF7AB7RrLOSeenlD0so1OzA18LvXeqJAJs7OZce1m9f5Y EFOj6jTHaXta4vJT1A8KRkXmgzk8Y5S/W6Hyuksze73Ui8biLClgGzYmrvSzBaZgLpY37HaQLJt P344oLIw9mnjFM8C7temj32/+M0q8h64Aoi5Or4TpvM1q7Mnx8JuRTqP2oZ1OtVLZ7j5THYmVX1 GAT9MRKQH/4Ia3ZbdoHAwgglViw8OOf3fc7f/ry1xypqywVyX1Z8r88= X-Google-Smtp-Source: AGHT+IGvkZybIJArHNj1MZkvtV3z5b8r/hRRbIezlZ+KgNVBhdk6cwYK5F2iY1E0H5HO2KAX/8rw/IHC3O72 X-Received: by 2002:a05:6820:2ac9:b0:64d:8ce7:ab1a with SMTP id 006d021491bc7-64e6026f471mr3247820eaf.2.1759629663631; Sat, 04 Oct 2025 19:01:03 -0700 (PDT) Received: from postal.iol.unh.edu (postal.iol.unh.edu. [2606:4100:3880:1234::84]) by smtp-relay.gmail.com with ESMTPS id 46e09a7af769-7bf419f56c0sm680594a34.6.2025.10.04.19.01.03 (version=TLS1_2 cipher=ECDHE-ECDSA-AES128-GCM-SHA256 bits=128/128); Sat, 04 Oct 2025 19:01:03 -0700 (PDT) X-Relaying-Domain: iol.unh.edu Date: Sat, 04 Oct 2025 19:01:03 -0700 (PDT) Message-ID: <68e1d15f.050a0220.3484aa.536cSMTPIN_ADDED_MISSING@mx.google.com> Received: from [172.21.0.3] (unknown [172.18.0.240]) by postal.iol.unh.edu (Postfix) with ESMTP id CAA9D6051830; Sat, 4 Oct 2025 22:01:02 -0400 (EDT) Subject: |SUCCESS| [GIT MASTER] 3b43ce3f4a54468e7ef65760c2fd7b4d6ee6d9fc From: dpdklab@iol.unh.edu To: Test Report Cc: dpdk-test-reports@iol.unh.edu, Xueming Li , Christian Ehrhardt , Kevin Traynor , Luca Boccassi Content-Type: text/plain X-BeenThere: test-report@dpdk.org X-Mailman-Version: 2.1.29 Precedence: list List-Id: automatic DPDK test reports List-Unsubscribe: , List-Archive: List-Post: List-Help: List-Subscribe: , Errors-To: test-report-bounces@dpdk.org _Testing PASS_ Branch: tags/v22.11 3b43ce3f4a54468e7ef65760c2fd7b4d6ee6d9fc --> testing pass Upstream job id: Generic-DPDK-Compile-Meson#430983 Test environment and result as below: +---------------------+--------------------+-------------------------+----------------------+ | Environment | dpdk_meson_compile | dpdk_llvm_clang_compile | dpdk_mingw64_compile | +=====================+====================+=========================+======================+ | Ubuntu 20.04 | PASS | SKIPPED | SKIPPED | +---------------------+--------------------+-------------------------+----------------------+ | FreeBSD 14.2 | PASS | SKIPPED | SKIPPED | +---------------------+--------------------+-------------------------+----------------------+ | CentOS Stream 9 | PASS | SKIPPED | SKIPPED | +---------------------+--------------------+-------------------------+----------------------+ | CentOS Stream 10 | PASS | SKIPPED | SKIPPED | +---------------------+--------------------+-------------------------+----------------------+ | Windows Server 2022 | SKIPPED | PASS | PASS | +---------------------+--------------------+-------------------------+----------------------+ Ubuntu 20.04 Kernel: 4.19 Compiler: gcc gcc (Ubuntu 9.4.0-1ubuntu1~20.04.2) 9.4.0 FreeBSD 14.2 Kernel: 14.2-RELEASE Compiler: clang 18.1.6 CentOS Stream 9 Kernel: 5.15 Compiler: gcc gcc (GCC) 11.5.0 20240719 (Red Hat 11.5.0-11) CentOS Stream 10 Kernel: 5.15 Compiler: gcc gcc (GCC) 14.2.1 20250110 (Red Hat 14.2.1-8) Windows Server 2022 Kernel: 10.0.20348.2031 Compiler: clang 15.0.7, gcc 14.1.0 (MinGW), and MSVC VS 19.39.33521 To view detailed results, visit: https://lab.dpdk.org/results/dashboard/tarballs/35082/ UNH-IOL DPDK Community Lab To manage your email subscriptions, visit: https://lab.dpdk.org/results/dashboard/preferences/subscriptions/