From mboxrd@z Thu Jan 1 00:00:00 1970 Return-Path: Received: from mails.dpdk.org (mails.dpdk.org [217.70.189.124]) by inbox.dpdk.org (Postfix) with ESMTP id 0AF7C488B1 for ; Sun, 5 Oct 2025 04:37:42 +0200 (CEST) Received: from mails.dpdk.org (localhost [127.0.0.1]) by mails.dpdk.org (Postfix) with ESMTP id D4A19402A1; Sun, 5 Oct 2025 04:37:41 +0200 (CEST) Received: from mail-io1-f100.google.com (mail-io1-f100.google.com [209.85.166.100]) by mails.dpdk.org (Postfix) with ESMTP id 17EAF402A1 for ; Sun, 5 Oct 2025 04:37:40 +0200 (CEST) Received: by mail-io1-f100.google.com with SMTP id ca18e2360f4ac-91f6ccdbfc8so196775539f.1 for ; Sat, 04 Oct 2025 19:37:40 -0700 (PDT) DKIM-Signature: v=1; a=rsa-sha256; c=relaxed/relaxed; d=iol.unh.edu; s=unh-iol; t=1759631859; x=1760236659; darn=dpdk.org; h=cc:to:from:subject:message-id:date:from:to:cc:subject:date :message-id:reply-to; bh=bYN+uwEEod0AeXZeEkouLywP81KU5DnyK/eH3PzGhns=; b=UxFkiMeu2gebMmNYqHWBsGQHxTx0hutDqm8NY9rZchZmc+3He/6bn4JrI6B2NhTsQa kjDSj1vFBgo3QHD1RQkGOrH/M9TnJ3tfpUryY1l9mlkH4/+fBbi9yXyQYn1t3u58Yq1I CimEM09PVeSQrVOol6L245qVP33yMGFFV3rro= X-Google-DKIM-Signature: v=1; a=rsa-sha256; c=relaxed/relaxed; d=1e100.net; s=20230601; t=1759631859; x=1760236659; h=cc:to:from:subject:message-id:date:x-gm-message-state:from:to:cc :subject:date:message-id:reply-to; bh=bYN+uwEEod0AeXZeEkouLywP81KU5DnyK/eH3PzGhns=; b=lCTz8GX86ASaNMwbbJmf/dVCvtduVRS/RfmUOhoh22jJbWAIW/Jaw+x/y1ThDRFtQY Dr4eGbcpVVd1w0jsReKCu1s5K5cGQJ/JEfi2FZJPVN9/dzqzM+jzCcEBS6Az/7Qffo7F /375PASMLCXJicat9D1XmcoX8PUVgYnvflftN4jyXvBzwLBzItG7EBk5ZXJ11zuIYdyn +Po+cFebE6XxPX62oxZ72JjU/VKYKzO+aDhk38pkcnJFDBVMjmsTT1AULrgBq+637QK+ /sdWYDoGRS1zdQH+mz1JkS/kgi3aBPreqPTFD7VZGhFvUkAKjxSpM5td79X34fB9sXk4 KK+g== X-Gm-Message-State: AOJu0Yz+KSSMNncNpuNrJQZ5u/g4i8g66NtdB6BSwtlPUbWKoUlGrw9u 1k3ur9WXiS5rS3tMUCf+KPtACzaxsm8cj7PPZQ1JsxLPvk7a7ZLNLprVREy1OqSuDzqY2cwbe7j 5vPylYGtApkK7md8DDYEwDuQM0vmkPxNki5Ls+mVWgm3vWR1iZi/r X-Gm-Gg: ASbGncsIF3bf//aXFWwR/koEn2NVNTbYPWNU27yWNMb4DPCHxYdspjB34WD/zGRm697 sa/K8lPYfiDErN1yGPOcpY3c0boJ536RkTghef7ch8ybRacpyh++dwecoTWcyHN2JnXJLUYVqKJ sh8YK5zRL+DRBqL/2MtzQS5rhM6skdcA/mNA2nejyVtzclDtaHa+RBjXc1yPaqWzg+cpgheXZmX 5SoxGI8OsU7lZKFGyz/xTW6Hl87VTFYf/gaTj3aNOva3Rvm51pOTZOObypuZNnYELUrxmyMRu7o NjZSicEBQC+IZlGD+JX8fe7Au8dt4lq1vZVJb9BYIWfB5yb8XrIStNc= X-Google-Smtp-Source: AGHT+IFtm9PD0tqdaSEgQTuwH1039uMQvuPkpnl09utajnCX8eEeE2tWNlVKqU3AqIObamkfcL0Vk5s9WXTo X-Received: by 2002:a05:6e02:318c:b0:427:7824:4940 with SMTP id e9e14a558f8ab-42e7ad04b99mr118703435ab.2.1759631859275; Sat, 04 Oct 2025 19:37:39 -0700 (PDT) Received: from postal.iol.unh.edu (postal.iol.unh.edu. [2606:4100:3880:1234::84]) by smtp-relay.gmail.com with ESMTPS id 8926c6da1cb9f-57b5ed663c4sm728204173.37.2025.10.04.19.37.39 (version=TLS1_2 cipher=ECDHE-ECDSA-AES128-GCM-SHA256 bits=128/128); Sat, 04 Oct 2025 19:37:39 -0700 (PDT) X-Relaying-Domain: iol.unh.edu Date: Sat, 04 Oct 2025 19:37:39 -0700 (PDT) Message-ID: <68e1d9f3.050a0220.3519c1.696dSMTPIN_ADDED_MISSING@mx.google.com> Received: from [172.21.0.3] (unknown [172.18.0.240]) by postal.iol.unh.edu (Postfix) with ESMTP id 91D1A60003F7; Sat, 4 Oct 2025 22:37:38 -0400 (EDT) Subject: |SUCCESS| [GIT MASTER] 3b43ce3f4a54468e7ef65760c2fd7b4d6ee6d9fc From: dpdklab@iol.unh.edu To: Test Report Cc: dpdk-test-reports@iol.unh.edu, Xueming Li , Christian Ehrhardt , Kevin Traynor , Luca Boccassi Content-Type: text/plain X-BeenThere: test-report@dpdk.org X-Mailman-Version: 2.1.29 Precedence: list List-Id: automatic DPDK test reports List-Unsubscribe: , List-Archive: List-Post: List-Help: List-Subscribe: , Errors-To: test-report-bounces@dpdk.org _Testing PASS_ Branch: tags/v22.11 3b43ce3f4a54468e7ef65760c2fd7b4d6ee6d9fc --> testing pass Upstream job id: Generic-DPDK-Compile-Meson#430985 Test environment and result as below: +---------------------+--------------------+-------------------------+----------------------+ | Environment | dpdk_meson_compile | dpdk_llvm_clang_compile | dpdk_mingw64_compile | +=====================+====================+=========================+======================+ | Ubuntu 20.04 | PASS | SKIPPED | SKIPPED | +---------------------+--------------------+-------------------------+----------------------+ | FreeBSD 14.2 | PASS | SKIPPED | SKIPPED | +---------------------+--------------------+-------------------------+----------------------+ | CentOS Stream 9 | PASS | SKIPPED | SKIPPED | +---------------------+--------------------+-------------------------+----------------------+ | CentOS Stream 10 | PASS | SKIPPED | SKIPPED | +---------------------+--------------------+-------------------------+----------------------+ | Debian GNU/Linux 12 | PASS | SKIPPED | SKIPPED | +---------------------+--------------------+-------------------------+----------------------+ | Windows Server 2022 | SKIPPED | PASS | PASS | +---------------------+--------------------+-------------------------+----------------------+ Ubuntu 20.04 Kernel: 4.19 Compiler: gcc gcc (Ubuntu 9.4.0-1ubuntu1~20.04.2) 9.4.0 FreeBSD 14.2 Kernel: 14.2-RELEASE Compiler: clang 18.1.6 CentOS Stream 9 Kernel: 5.15 Compiler: gcc gcc (GCC) 11.5.0 20240719 (Red Hat 11.5.0-11) CentOS Stream 10 Kernel: 5.15 Compiler: gcc gcc (GCC) 14.2.1 20250110 (Red Hat 14.2.1-8) Debian GNU/Linux 12 Kernel: 5.15 Compiler: gcc gcc (Debian 12.2.0-14+deb12u1) 12.2.0 Windows Server 2022 Kernel: 10.0.20348.2031 Compiler: clang 15.0.7, gcc 14.1.0 (MinGW), and MSVC VS 19.39.33521 To view detailed results, visit: https://lab.dpdk.org/results/dashboard/tarballs/35082/ UNH-IOL DPDK Community Lab To manage your email subscriptions, visit: https://lab.dpdk.org/results/dashboard/preferences/subscriptions/