From mboxrd@z Thu Jan 1 00:00:00 1970 Return-Path: Received: from mails.dpdk.org (mails.dpdk.org [217.70.189.124]) by inbox.dpdk.org (Postfix) with ESMTP id 050A3488B1 for ; Sun, 5 Oct 2025 05:02:00 +0200 (CEST) Received: from mails.dpdk.org (localhost [127.0.0.1]) by mails.dpdk.org (Postfix) with ESMTP id CD04E402A1; Sun, 5 Oct 2025 05:02:00 +0200 (CEST) Received: from mail-pf1-f228.google.com (mail-pf1-f228.google.com [209.85.210.228]) by mails.dpdk.org (Postfix) with ESMTP id EAD88402A1 for ; Sun, 5 Oct 2025 05:01:58 +0200 (CEST) Received: by mail-pf1-f228.google.com with SMTP id d2e1a72fcca58-78a9793aa09so4383873b3a.0 for ; Sat, 04 Oct 2025 20:01:58 -0700 (PDT) DKIM-Signature: v=1; a=rsa-sha256; c=relaxed/relaxed; d=iol.unh.edu; s=unh-iol; t=1759633318; x=1760238118; darn=dpdk.org; h=cc:to:from:subject:message-id:date:from:to:cc:subject:date :message-id:reply-to; bh=wJEgCEpMZLVAxH7d+4OBZIcpESvMfCHxjh0VmzPEidI=; b=dZQVv06nYa52ZkC9PD7tf1/bgvItXOm0JmEMWLX8uQvWWmDU7x9gUUedBxp/Mz9PAH ctCjTafroRc9MCaCT/mTu+aFimmw0WhSoUX4hViIFqTWtHzs/N3GcaPQjPHS1ksxHkw9 NfcNl7nD3vTOXsm7nYyPwc7qayascT89sZsTA= X-Google-DKIM-Signature: v=1; a=rsa-sha256; c=relaxed/relaxed; d=1e100.net; s=20230601; t=1759633318; x=1760238118; h=cc:to:from:subject:message-id:date:x-gm-message-state:from:to:cc :subject:date:message-id:reply-to; bh=wJEgCEpMZLVAxH7d+4OBZIcpESvMfCHxjh0VmzPEidI=; b=t/3hYZ0ieDTBmp0YKvShMhXvQS0pUaMciSTAWTa8mnz+Ier1oTXnRJsdqgjFF0tBCc Zowe44WDA5FwGMfGf1CTffEkpWrdkMiIAIhMk5iyteL/6XguZsDrKr705SM5rceeTJg8 w0NK1hmdWEBIl6cvveq03OII/IPGPpCgj4ERMyrX1oWTnveeCijc4UviNcB06brnoGFs lL6G+8weg84AuGUtWsVNbBCD1j4/fHbIy2LowzJ8S7Eu/U5mBxfatBxB5knEMdQFtw6F K3N79skxyZ5RhwVCG/S0cy03jktd9tQMbd2VeXwzI4VYMpyPV2KU8cRqBj5B+Jk1Tb7u chyg== X-Gm-Message-State: AOJu0Yz1DpC9hp46t3jS7hgSqYXIMaqfYL0wfMbS0RBF3wjLkcf5n5Q7 +K39gX1o9+0NblxHMmHue2vE3PouTPMQZsDiYqHJX/B4UifKSbBSfgRa9fnw/ojyVjDyO0mEq2h dtgk9A1RLahfU2+tEt/ZsonhdKDMYKzvGr28K X-Gm-Gg: ASbGnctJeh5LjwXqADTjsM217qmR3JQJllb7LXyvHADqhmkTEekGTwq0VgQc8F/9CqL pWDs8IYplfT2JS5nJEgSvzxyPpNS55CYb2fzXVizakutJfcGRgRl0lMO4vOkbRE41mSldeRux4e 2dh+8FK9vpH5w12l8vAqreXcHBUSls9IKdhukeZx9lAIMeRxyhbaKlYYHGIuHMyiqKQt59vGVS3 EQHPwstO/hpmWFDb0PgxSj6QpVn8tEYwuAPHiZ2d7oUK23ovC3a7IZRUQlOpO7hkWg3tM7wYNc1 KV6nAKmsTvrWAK1814Ui1b+rALA9NFw9aVKKUJmKdRXfTTLcs0Eb4rVt1GX0jA4k4IKc5xWczDC a7w== X-Google-Smtp-Source: AGHT+IFWSG2HFwlXNuSCPhCy5b5KvtZtGP2EX1I6fVUWyl1NoQJw/6vqId9Dfw7nFboMcLim/n5Tm8WCnafc X-Received: by 2002:a05:6a20:729d:b0:308:60dc:921b with SMTP id adf61e73a8af0-32b620d7daamr11776878637.40.1759633317851; Sat, 04 Oct 2025 20:01:57 -0700 (PDT) Received: from postal.iol.unh.edu (postal.iol.unh.edu. [132.177.123.84]) by smtp-relay.gmail.com with ESMTPS id 41be03b00d2f7-b60999c815esm443328a12.7.2025.10.04.20.01.57 (version=TLS1_2 cipher=ECDHE-ECDSA-AES128-GCM-SHA256 bits=128/128); Sat, 04 Oct 2025 20:01:57 -0700 (PDT) X-Relaying-Domain: iol.unh.edu Date: Sat, 04 Oct 2025 20:01:57 -0700 (PDT) Message-ID: <68e1dfa5.630a0220.224198.7c8dSMTPIN_ADDED_MISSING@mx.google.com> Received: from [172.21.0.2] (unknown [172.18.0.240]) by postal.iol.unh.edu (Postfix) with ESMTP id 16FF86051830; Sat, 4 Oct 2025 23:01:57 -0400 (EDT) Subject: |SUCCESS| [GIT MASTER] 3b43ce3f4a54468e7ef65760c2fd7b4d6ee6d9fc From: dpdklab@iol.unh.edu To: Test Report Cc: dpdk-test-reports@iol.unh.edu, Xueming Li , Christian Ehrhardt , Kevin Traynor , Luca Boccassi Content-Type: text/plain X-BeenThere: test-report@dpdk.org X-Mailman-Version: 2.1.29 Precedence: list List-Id: automatic DPDK test reports List-Unsubscribe: , List-Archive: List-Post: List-Help: List-Subscribe: , Errors-To: test-report-bounces@dpdk.org _Testing PASS_ Branch: tags/v22.11 3b43ce3f4a54468e7ef65760c2fd7b4d6ee6d9fc --> testing pass Upstream job id: Generic-DPDK-Compile-Meson#430987 Test environment and result as below: +---------------------+--------------------+-------------------------+----------------------+ | Environment | dpdk_meson_compile | dpdk_llvm_clang_compile | dpdk_mingw64_compile | +=====================+====================+=========================+======================+ | Ubuntu 20.04 | PASS | SKIPPED | SKIPPED | +---------------------+--------------------+-------------------------+----------------------+ | FreeBSD 14.2 | PASS | SKIPPED | SKIPPED | +---------------------+--------------------+-------------------------+----------------------+ | CentOS Stream 9 | PASS | SKIPPED | SKIPPED | +---------------------+--------------------+-------------------------+----------------------+ | CentOS Stream 10 | PASS | SKIPPED | SKIPPED | +---------------------+--------------------+-------------------------+----------------------+ | Debian GNU/Linux 12 | PASS | SKIPPED | SKIPPED | +---------------------+--------------------+-------------------------+----------------------+ | Fedora Linux 42 | PASS | SKIPPED | SKIPPED | +---------------------+--------------------+-------------------------+----------------------+ | Windows Server 2022 | SKIPPED | PASS | PASS | +---------------------+--------------------+-------------------------+----------------------+ Ubuntu 20.04 Kernel: 4.19 Compiler: gcc gcc (Ubuntu 9.4.0-1ubuntu1~20.04.2) 9.4.0 FreeBSD 14.2 Kernel: 14.2-RELEASE Compiler: clang 18.1.6 CentOS Stream 9 Kernel: 5.15 Compiler: gcc gcc (GCC) 11.5.0 20240719 (Red Hat 11.5.0-11) CentOS Stream 10 Kernel: 5.15 Compiler: gcc gcc (GCC) 14.2.1 20250110 (Red Hat 14.2.1-8) Debian GNU/Linux 12 Kernel: 5.15 Compiler: gcc gcc (Debian 12.2.0-14+deb12u1) 12.2.0 Fedora Linux 42 Kernel: 5.15 Compiler: clang gcc (GCC) 15.2.1 20250808 (Red Hat 15.2.1-1) Windows Server 2022 Kernel: 10.0.20348.2031 Compiler: clang 15.0.7, gcc 14.1.0 (MinGW), and MSVC VS 19.39.33521 To view detailed results, visit: https://lab.dpdk.org/results/dashboard/tarballs/35082/ UNH-IOL DPDK Community Lab To manage your email subscriptions, visit: https://lab.dpdk.org/results/dashboard/preferences/subscriptions/