From mboxrd@z Thu Jan 1 00:00:00 1970 Return-Path: Received: from mails.dpdk.org (mails.dpdk.org [217.70.189.124]) by inbox.dpdk.org (Postfix) with ESMTP id B9531488B1 for ; Sun, 5 Oct 2025 06:01:31 +0200 (CEST) Received: from mails.dpdk.org (localhost [127.0.0.1]) by mails.dpdk.org (Postfix) with ESMTP id 9E615402A1; Sun, 5 Oct 2025 06:01:31 +0200 (CEST) Received: from mail-il1-f225.google.com (mail-il1-f225.google.com [209.85.166.225]) by mails.dpdk.org (Postfix) with ESMTP id 96603402A1 for ; Sun, 5 Oct 2025 06:01:29 +0200 (CEST) Received: by mail-il1-f225.google.com with SMTP id e9e14a558f8ab-42e726431bdso14176025ab.1 for ; Sat, 04 Oct 2025 21:01:29 -0700 (PDT) DKIM-Signature: v=1; a=rsa-sha256; c=relaxed/relaxed; d=iol.unh.edu; s=unh-iol; t=1759636889; x=1760241689; darn=dpdk.org; h=references:in-reply-to:cc:to:from:subject:message-id:date:from:to :cc:subject:date:message-id:reply-to; bh=tKXz98GBl8lzvsNq15tAOJ/jjQiHqGMpzyhZepU+xQ4=; b=Ld6Fof8RdjtY/3+aig5Z/u/p+r7tWOw0cCTON6kJaFtQID6GzT4S/1nJWvzSgn7cBM FdVuno+EBomvOTcE6oyWri9vGEMXonAC0iGHElL5zlb+lN+onKMrjZLEv0gCzWz+h1Zs oyP7B0CN5xjV7uFtJPskTToSZTnrrGCoE1QoE= X-Google-DKIM-Signature: v=1; a=rsa-sha256; c=relaxed/relaxed; d=1e100.net; s=20230601; t=1759636889; x=1760241689; h=references:in-reply-to:cc:to:from:subject:message-id:date :x-gm-message-state:from:to:cc:subject:date:message-id:reply-to; bh=tKXz98GBl8lzvsNq15tAOJ/jjQiHqGMpzyhZepU+xQ4=; b=l3STslBk/X3LqHPWLNDeS+XoNnVwtvSu9y97ztUia1uFYNDSL3c3Yd9RmM/ofDfYMA hzWzil7/LYvCr0ik5dBoIUIh6dNyDYywTvRD3+YBU08g2W11N7szqYBaUtu81PI7VNtY DQwI+vVyDnd5UlYIajMQtBDoNMu+FztLuW9oNPbxLf/28h6vP16pwy29+YiLXLA8GI9c z+oclU1b6YbChYr4YyHgGvLt/A8y5DhvrBKQyopdpkP2YFnOR/Zp6x35OhcaJsCH5w1k rMzC6FZGUNNy2hDQxlImmciba0pm4eKer2vvBqnstxQe7v2oiOvNTcFVtnG81GiWyd21 o9JA== X-Gm-Message-State: AOJu0YxVBGgTV6UKlgCT/+vK2HE9/e8j75jqIWsDgSIGQyksihR6zZlG qDJI532rMRsA+OGIEFo5vosx5PW5bgTPMofjfmsUNvJQZbD/UiZHLqF2MqEkmvDRs/qIXiLW60s hGU7EKVwoaAwWC9w/Om/6DWy3ooFbM7Ib+2vU6eOT0P88 X-Gm-Gg: ASbGncvNeqQ0wWgAUfi1cXatfIQadDHG5z1sKG8P0bo1IUAyVDxk9Rx8C/fosW1XtxM 57tRW2Dn6QzrLMzvBHa5SvYkSqK3DTCyNVagmCQ/j9vsn06LW8JKhnoQ3AVqhQD1C+BeUhvd0mJ 3eSRsDuWATqtxiqfKfwp/4m8X+d9uEc6aaW5Cmar5XwjMuNGpQRq3BhMg8MZ4vxHN3klOfDPDkN yqS7mL2irm0lW1d9PwC1nwaMoP3hb9hJ/VJ/UvHDbW4/7cNrXbLe92DQIaw532y+fAe1Mhkdr3t WzmkSQTXrnSK7VNDIaBVXFcvU2RQxqHC8yvIAR4/PEyRSJlRHTpy8Q9AYSAjLNG5+mof74AX40U PFg== X-Google-Smtp-Source: AGHT+IFyheFNK/hUDptwcNPr/tHWSj4sGOykg9/gc4yPXgxyo70TEWzYgzRyLMKreQMtDiRZReFY0uJKf+Yb X-Received: by 2002:a05:6e02:168f:b0:425:7788:871 with SMTP id e9e14a558f8ab-42d8b234b89mr170625515ab.12.1759636888736; Sat, 04 Oct 2025 21:01:28 -0700 (PDT) Received: from postal.iol.unh.edu (postal.iol.unh.edu. [132.177.123.84]) by smtp-relay.gmail.com with ESMTPS id 8926c6da1cb9f-57b5eaa41d7sm768456173.5.2025.10.04.21.01.28 (version=TLS1_2 cipher=ECDHE-ECDSA-AES128-GCM-SHA256 bits=128/128); Sat, 04 Oct 2025 21:01:28 -0700 (PDT) X-Relaying-Domain: iol.unh.edu Date: Sat, 04 Oct 2025 21:01:28 -0700 (PDT) Message-ID: <68e1ed98.050a0220.634b6.9804SMTPIN_ADDED_MISSING@mx.google.com> Received: from [172.21.0.8] (unknown [172.18.0.240]) by postal.iol.unh.edu (Postfix) with ESMTP id 0DC8E6051830; Sun, 5 Oct 2025 00:01:28 -0400 (EDT) Subject: |SUCCESS| pw157197-157198 [PATCH] [v5,2/2] crypto/ipsec-mb: use cons From: dpdklab@iol.unh.edu To: Test Report Cc: dpdk-test-reports@iol.unh.edu In-Reply-To: <20251001153242.55987-2-kai.ji@intel.com> References: <20251001153242.55987-2-kai.ji@intel.com> Content-Type: text/plain X-BeenThere: test-report@dpdk.org X-Mailman-Version: 2.1.29 Precedence: list List-Id: automatic DPDK test reports List-Unsubscribe: , List-Archive: List-Post: List-Help: List-Subscribe: , Errors-To: test-report-bounces@dpdk.org Test-Label: iol-compile-arm64-testing Test-Status: SUCCESS http://dpdk.org/patch/157198 _Testing PASS_ Submitter: Kai Ji Date: Wednesday, October 01 2025 15:32:42 DPDK git baseline: Repo:dpdk Branch: master CommitID:2ffda8c2e357662354ee6ddcca769258c33642a9 157197-157198 --> testing pass Upstream job id: Generic-DPDK-Compile-Meson#430871 Test environment and result as below: +------------------------------+--------------------+ | Environment | dpdk_meson_compile | +==============================+====================+ | Red Hat Enterprise Linux 9.5 | PASS | +------------------------------+--------------------+ | Ubuntu 20.04 | PASS | +------------------------------+--------------------+ | Debian GNU/Linux 12 | PASS | +------------------------------+--------------------+ | Fedora Linux 42 | PASS | +------------------------------+--------------------+ | Ubuntu 22.04 | PASS | +------------------------------+--------------------+ | Ubuntu 24.04 | PASS | +------------------------------+--------------------+ | CentOS Stream 9 | PASS | +------------------------------+--------------------+ | CentOS Stream 10 | PASS | +------------------------------+--------------------+ Red Hat Enterprise Linux 9.5 Kernel: 5.4 Compiler: gcc gcc (GCC) 11.5.0 20240719 (Red Hat 11.5.0-2) Ubuntu 20.04 Kernel: 5.15 Compiler: aarch64-linux-gnu-gcc gcc (Ubuntu 9.4.0-1ubuntu1~20.04.2) 9.4.0 Debian GNU/Linux 12 Kernel: 5.4 Compiler: gcc gcc (Debian 12.2.0-14+deb12u1) 12.2.0 Fedora Linux 42 Kernel: 5.4 Compiler: gcc gcc (GCC) 15.2.1 20250808 (Red Hat 15.2.1-1) Ubuntu 22.04 Kernel: 5.4 Compiler: gcc gcc (Ubuntu 11.4.0-1ubuntu1~22.04) 11.4.0 Ubuntu 24.04 Kernel: 5.4 Compiler: gcc gcc (Ubuntu 13.3.0-6ubuntu2~24.04) 13.3.0 CentOS Stream 9 Kernel: 5.4 Compiler: gcc gcc (GCC) 11.5.0 20240719 (Red Hat 11.5.0-11) CentOS Stream 10 Kernel: 5.4 Compiler: gcc gcc (GCC) 14.2.1 20250110 (Red Hat 14.2.1-8) To view detailed results, visit: https://lab.dpdk.org/results/dashboard/patchsets/34195/ UNH-IOL DPDK Community Lab To manage your email subscriptions, visit: https://lab.dpdk.org/results/dashboard/preferences/subscriptions/