From mboxrd@z Thu Jan 1 00:00:00 1970 Return-Path: Received: from mails.dpdk.org (mails.dpdk.org [217.70.189.124]) by inbox.dpdk.org (Postfix) with ESMTP id 729EC488B1 for ; Sun, 5 Oct 2025 06:18:46 +0200 (CEST) Received: from mails.dpdk.org (localhost [127.0.0.1]) by mails.dpdk.org (Postfix) with ESMTP id 6A0E4402A1; Sun, 5 Oct 2025 06:18:46 +0200 (CEST) Received: from mail-oa1-f100.google.com (mail-oa1-f100.google.com [209.85.160.100]) by mails.dpdk.org (Postfix) with ESMTP id 36243402A1 for ; Sun, 5 Oct 2025 06:18:45 +0200 (CEST) Received: by mail-oa1-f100.google.com with SMTP id 586e51a60fabf-36ce5686d75so2734238fac.3 for ; Sat, 04 Oct 2025 21:18:45 -0700 (PDT) DKIM-Signature: v=1; a=rsa-sha256; c=relaxed/relaxed; d=iol.unh.edu; s=unh-iol; t=1759637924; x=1760242724; darn=dpdk.org; h=cc:to:from:subject:message-id:date:from:to:cc:subject:date :message-id:reply-to; bh=GHmsUWAStqu0nnj7gp8eGDjIP5gBAvzclOGgAbMuRGA=; b=WdLY30Pi7Dxhzsa4gubF00PTrqjiUfiY9nT8KiQjuJ/du+jUUGAYzg10vmkRddBonx lRy9+rqTk2Ng674pmuQP8UNWAyG4tHuJfS20zRGudVx74SDzGeW5NOg/xyf63oaBP13O laVrxsYEb1VAV+cHNFxEqcnW5Xa78SEuceJiI= X-Google-DKIM-Signature: v=1; a=rsa-sha256; c=relaxed/relaxed; d=1e100.net; s=20230601; t=1759637924; x=1760242724; h=cc:to:from:subject:message-id:date:x-gm-message-state:from:to:cc :subject:date:message-id:reply-to; bh=GHmsUWAStqu0nnj7gp8eGDjIP5gBAvzclOGgAbMuRGA=; b=qliXuyelnC5F3jEuWcySRwliXR/Z/CMt96KB+0bFRUiOFBnRqsinX6c2sHyW/+wviM p7tdKleYY82oJYONkK5WcK9UImA6ovZSRkfkobJ+8IgWWPe3Xb5FvID5eJkP+00ZdGUw RNlYNkNPmI49A/OZaNcVg4cx0lRPz4gtbcY2wes7xpyzavYgmEdSfWK/04qhzp/27Ls8 18KMr0uH1s5/vrSWV4LuxLcmVkLOpSGZuN2mKoHZ7vjNcfZ9LvjzLqcgQogu1oCSamv2 5moVVeO6jyoiqx/o93k32B8uvBfUkFGvkv4UuCoIAlAjSrc+knQ2JKS5GKd0TdIAMz3G uCTA== X-Gm-Message-State: AOJu0YwCCm5SJ9rsmy7eSRDYcSUGbD1SiUq3GCwkAYZXxsxX/0JWCRFE YJTq78sZNuPn2pzdKYvAP7hunWAkFb7p5bOOOevbxZ11DIgI+gkZAo18zA3AJdkKLS3cQOH1xfu ToaMR9EfvYeslSvbBY7PGv+HH0dhcAnQ56udj X-Gm-Gg: ASbGnctsJ3Q0dJjVa6I7vGvCZ7U99sYlLJCaJMDAt5M7eRjpjY0NZcsNPrp+Gibj5f/ Lc5vVBmibqLSeb1YCoiQt4UqucFwCxUXfgCSiitomPn+nL33hwd0I0MmjIz+nXYiCBEnfNYYhzk siLEGgrCOie2PH67M4xvZFw484IA95ol76rZzVkNpxfKcno/BB8fT2L/rCo6u2iVJVTOsNa1FB3 NrLAXKivpG8Opk+kdKvRY4VtVqpuzRPrcjfWfNnST76ooLj2Gmw+tHwvJGdqtci/czl+W8t6eAW Z+4fHyT9VDEZCIYtAXvfwqht7//00bjY+PqcsEGcWDKM78AxwDufi7avVULEFah+ygUSAFG/Au5 VZQ== X-Google-Smtp-Source: AGHT+IH5Pd4fUgTz282iPViPGhUz/FW/PBn59xZLzQrFvoqM3feBcxZUw6rHE692h81lwJAz9UTVfnUJZJ+M X-Received: by 2002:a05:6870:31ad:b0:3ae:c774:f700 with SMTP id 586e51a60fabf-3b0fd1c8fc1mr4410262fac.13.1759637924387; Sat, 04 Oct 2025 21:18:44 -0700 (PDT) Received: from postal.iol.unh.edu (postal.iol.unh.edu. [132.177.123.84]) by smtp-relay.gmail.com with ESMTPS id 586e51a60fabf-3ab8192f5a7sm785390fac.11.2025.10.04.21.18.44 (version=TLS1_2 cipher=ECDHE-ECDSA-AES128-GCM-SHA256 bits=128/128); Sat, 04 Oct 2025 21:18:44 -0700 (PDT) X-Relaying-Domain: iol.unh.edu Date: Sat, 04 Oct 2025 21:18:44 -0700 (PDT) Message-ID: <68e1f1a4.050a0220.34874c.b832SMTPIN_ADDED_MISSING@mx.google.com> Received: from [172.21.0.2] (unknown [172.18.0.240]) by postal.iol.unh.edu (Postfix) with ESMTP id E6FAD6051830; Sun, 5 Oct 2025 00:18:43 -0400 (EDT) Subject: |SUCCESS| [GIT MASTER] 3b43ce3f4a54468e7ef65760c2fd7b4d6ee6d9fc From: dpdklab@iol.unh.edu To: Test Report Cc: dpdk-test-reports@iol.unh.edu, Xueming Li , Christian Ehrhardt , Kevin Traynor , Luca Boccassi Content-Type: text/plain X-BeenThere: test-report@dpdk.org X-Mailman-Version: 2.1.29 Precedence: list List-Id: automatic DPDK test reports List-Unsubscribe: , List-Archive: List-Post: List-Help: List-Subscribe: , Errors-To: test-report-bounces@dpdk.org _Testing PASS_ Branch: tags/v22.11 3b43ce3f4a54468e7ef65760c2fd7b4d6ee6d9fc --> testing pass Upstream job id: Generic-VM-DPDK-Compile-Meson#38787 Test environment and result as below: +---------------------+--------------------+-------------------------+----------------------+ | Environment | dpdk_meson_compile | dpdk_llvm_clang_compile | dpdk_mingw64_compile | +=====================+====================+=========================+======================+ | Ubuntu 20.04 | PASS | SKIPPED | SKIPPED | +---------------------+--------------------+-------------------------+----------------------+ | FreeBSD 14.2 | PASS | SKIPPED | SKIPPED | +---------------------+--------------------+-------------------------+----------------------+ | Windows Server 2022 | SKIPPED | PASS | PASS | +---------------------+--------------------+-------------------------+----------------------+ Ubuntu 20.04 Kernel: 4.19 Compiler: gcc gcc (Ubuntu 9.4.0-1ubuntu1~20.04.2) 9.4.0 FreeBSD 14.2 Kernel: 14.2-RELEASE Compiler: clang 18.1.6 Windows Server 2022 Kernel: 10.0.20348.2031 Compiler: clang 15.0.7, gcc 14.1.0 (MinGW), and MSVC VS 19.39.33521 To view detailed results, visit: https://lab.dpdk.org/results/dashboard/tarballs/35108/ UNH-IOL DPDK Community Lab To manage your email subscriptions, visit: https://lab.dpdk.org/results/dashboard/preferences/subscriptions/