From mboxrd@z Thu Jan 1 00:00:00 1970 Return-Path: Received: from mails.dpdk.org (mails.dpdk.org [217.70.189.124]) by inbox.dpdk.org (Postfix) with ESMTP id 07398488B1 for ; Sun, 5 Oct 2025 06:27:49 +0200 (CEST) Received: from mails.dpdk.org (localhost [127.0.0.1]) by mails.dpdk.org (Postfix) with ESMTP id CA93B402A1; Sun, 5 Oct 2025 06:27:49 +0200 (CEST) Received: from mail-io1-f100.google.com (mail-io1-f100.google.com [209.85.166.100]) by mails.dpdk.org (Postfix) with ESMTP id 24624402A1 for ; Sun, 5 Oct 2025 06:27:48 +0200 (CEST) Received: by mail-io1-f100.google.com with SMTP id ca18e2360f4ac-8c3414ad279so133939639f.2 for ; Sat, 04 Oct 2025 21:27:48 -0700 (PDT) DKIM-Signature: v=1; a=rsa-sha256; c=relaxed/relaxed; d=iol.unh.edu; s=unh-iol; t=1759638467; x=1760243267; darn=dpdk.org; h=cc:to:from:subject:message-id:date:from:to:cc:subject:date :message-id:reply-to; bh=k0+PLryQE9i6kUji5Zk38Svn8ikcRyg+UVJijc9ur3U=; b=d79Evpfw+Sz1BWqfSBFmk0m8lFxtBjQTgyaC67yyudKTb38PPRqdH5wQ3pqsLyOZAD 38tCYpjgQhaOZ2V13DxcPlcKzTmMv7/KlwbNngEyHuDokxMCQ0CwvJkZtuBfdVzX7vDa VX1E9mHKUG1xC+6HqC7S8FRUIo5liFPn+lY/E= X-Google-DKIM-Signature: v=1; a=rsa-sha256; c=relaxed/relaxed; d=1e100.net; s=20230601; t=1759638467; x=1760243267; h=cc:to:from:subject:message-id:date:x-gm-message-state:from:to:cc :subject:date:message-id:reply-to; bh=k0+PLryQE9i6kUji5Zk38Svn8ikcRyg+UVJijc9ur3U=; b=OmnnVetqetAnFBVdSXyLDkuag0WAtC8LPHWYkcT4rlZHw1JMtvCsp8i7D/qpOj+BVD FImcATvukl+TUn7XtbB+mdkoM7T0qNL0AeCdVz2Z1xGlbDeVW2CknTQ9PpgqQdpTrFGy +8lT1F+sRd6UQsOVhlboSwJp4C1CNyr3GZEkbKbO4+O+BGwLP2YHbfy7NIXIBYWW2+sb rDvJhfxlcX28gZIQiBj5p2gSvPNPiDkhCdD7MM0SE4YkFzba+egrbSgUGRwQ1NbLDHqB 9Ypcf7w/+kpjA2njbFjh3zEbL3XB5SgfXTp+6btIX8eGfawQxvCgLqFvMBa8wGwuXeJl 3YXQ== X-Gm-Message-State: AOJu0YwhNU7aO88IoMh6a8FWoMwsnCGXACnADYSOqYXcjM52sgZSKR9d DS62wvcvSRwBwuU6hmsQCetGcUxpq988rS1WMx8netWFug390/Z2Z2isOebma6quWLIMisUIAev xH6Frs/TAOWb0LOrWqrA5Nu+gW8Tcmzv4sDm5 X-Gm-Gg: ASbGncv6fbvTh2RP2ZmC+Djil9urjU1vmGXaRBD/0FsDLU2ZFL6zx/yIuPK3MZrd4FK YvB13SRAMdufD3OZViA5/EXmpk6IyKpXpYyxK5zgu1HXDD60yu0ntpraDvq7Ek3rB+m0vr9oVyY 5xl0XgbeCBgx3m7dVLpUMK9rek1u+4/jWrooKxgnMmLTMuoBWL/G9Ue/rGMOH3M40quT/+NiuBc /9YCwFlaIlKGFAYBlNcvLQE/AkiaDYCUFSKQ5q8i7wNFVa+uKAHoLpf92+dqw1c+wDIQk5Wf9vo fnZrQfOZ4RtT/vueq/9CSYUgChQZWp9BqWmaVrz6LgLUdml0ru5Eftt3TpCP5DKqWHzLQaD6O7K e8w== X-Google-Smtp-Source: AGHT+IGbyxv/e7TmQ4q40vevHF+gx6fwPM5Dwfb+ze74H5LB25Cj3rZK1lZ6bRkghlgAqtPPp4yWgS+TUmSm X-Received: by 2002:a05:6602:719a:b0:887:732f:6a96 with SMTP id ca18e2360f4ac-93b96ac2eb6mr1101783639f.17.1759638467262; Sat, 04 Oct 2025 21:27:47 -0700 (PDT) Received: from postal.iol.unh.edu (postal.iol.unh.edu. [132.177.123.84]) by smtp-relay.gmail.com with ESMTPS id 8926c6da1cb9f-57b5eb02709sm764980173.18.2025.10.04.21.27.47 (version=TLS1_2 cipher=ECDHE-ECDSA-AES128-GCM-SHA256 bits=128/128); Sat, 04 Oct 2025 21:27:47 -0700 (PDT) X-Relaying-Domain: iol.unh.edu Date: Sat, 04 Oct 2025 21:27:47 -0700 (PDT) Message-ID: <68e1f3c3.050a0220.1ac8bf.955cSMTPIN_ADDED_MISSING@mx.google.com> Received: from [172.21.0.2] (unknown [172.18.0.240]) by postal.iol.unh.edu (Postfix) with ESMTP id CBE786051830; Sun, 5 Oct 2025 00:27:46 -0400 (EDT) Subject: |SUCCESS| [GIT MASTER] b287e404643aeab5bb5db084c142789df187844e From: dpdklab@iol.unh.edu To: Test Report Cc: dpdk-test-reports@iol.unh.edu, Xueming Li , Christian Ehrhardt , Kevin Traynor , Luca Boccassi Content-Type: text/plain X-BeenThere: test-report@dpdk.org X-Mailman-Version: 2.1.29 Precedence: list List-Id: automatic DPDK test reports List-Unsubscribe: , List-Archive: List-Post: List-Help: List-Subscribe: , Errors-To: test-report-bounces@dpdk.org _Testing PASS_ Branch: tags/v24.11 b287e404643aeab5bb5db084c142789df187844e --> testing pass Upstream job id: Windows-Compile-DPDK-Native#31425 Test environment and result as below: +---------------------+--------------------+-------------------+-------------------------+ | Environment | dpdk_meson_compile | dpdk_msvc_compile | dpdk_llvm_clang_compile | +=====================+====================+===================+=========================+ | Ubuntu 20.04 | PASS | SKIPPED | SKIPPED | +---------------------+--------------------+-------------------+-------------------------+ | FreeBSD 14.2 | PASS | SKIPPED | SKIPPED | +---------------------+--------------------+-------------------+-------------------------+ | Windows Server 2022 | SKIPPED | PASS | PASS | +---------------------+--------------------+-------------------+-------------------------+ Ubuntu 20.04 Kernel: 4.19 Compiler: gcc gcc (Ubuntu 9.4.0-1ubuntu1~20.04.2) 9.4.0 FreeBSD 14.2 Kernel: 14.2-RELEASE Compiler: clang 18.1.6 Windows Server 2022 Kernel: 10.0.20348.2031 Compiler: clang 15.0.7, gcc 14.1.0 (MinGW), and MSVC VS 19.39.33521 To view detailed results, visit: https://lab.dpdk.org/results/dashboard/tarballs/35110/ UNH-IOL DPDK Community Lab To manage your email subscriptions, visit: https://lab.dpdk.org/results/dashboard/preferences/subscriptions/