From mboxrd@z Thu Jan 1 00:00:00 1970 Return-Path: Received: from mails.dpdk.org (mails.dpdk.org [217.70.189.124]) by inbox.dpdk.org (Postfix) with ESMTP id 16413488B1 for ; Sun, 5 Oct 2025 06:29:53 +0200 (CEST) Received: from mails.dpdk.org (localhost [127.0.0.1]) by mails.dpdk.org (Postfix) with ESMTP id 07674402A1; Sun, 5 Oct 2025 06:29:53 +0200 (CEST) Received: from mail-il1-f226.google.com (mail-il1-f226.google.com [209.85.166.226]) by mails.dpdk.org (Postfix) with ESMTP id 98BA7402A1 for ; Sun, 5 Oct 2025 06:29:51 +0200 (CEST) Received: by mail-il1-f226.google.com with SMTP id e9e14a558f8ab-42e726431bdso14248495ab.1 for ; Sat, 04 Oct 2025 21:29:51 -0700 (PDT) DKIM-Signature: v=1; a=rsa-sha256; c=relaxed/relaxed; d=iol.unh.edu; s=unh-iol; t=1759638591; x=1760243391; darn=dpdk.org; h=cc:to:from:subject:message-id:date:from:to:cc:subject:date :message-id:reply-to; bh=EI9hpPX46MUAvZZzAPSZ4J416cBM8BdD2wyUU7TtYX0=; b=JHa2W+7UPgwjKJ/Dkn0EUkBovc4nhh8rZEdIGyOMy6/s9Z+0RzD5kk+4HY1Yq4yGpL FmZja4MFvxIxmKKNJUL7HQxcxjTJFnjVjSJyAtSXrFJD90cHqoPmmzJsoQIw55GCfssx wGzhKP3GYwYL8jmsn+QjNRO6a8HGmI1y6I73o= X-Google-DKIM-Signature: v=1; a=rsa-sha256; c=relaxed/relaxed; d=1e100.net; s=20230601; t=1759638591; x=1760243391; h=cc:to:from:subject:message-id:date:x-gm-message-state:from:to:cc :subject:date:message-id:reply-to; bh=EI9hpPX46MUAvZZzAPSZ4J416cBM8BdD2wyUU7TtYX0=; b=j3Ppo5jSOW54k1CvNaNQp4ENOOdljwxUrKw9H9N8Y7/ICXcaUByptkskvnv99qLGCo rCix3CjI5RZYqKNQ0elL3sodgsdGkrTUSKNk/m0Gbn/Onr5nwc+Fb1D3D+Bj1OBvfcKJ FblXyfRAy674CZ+GtVtKrEBTu8lqni4Poe4rLySiox3yZHC4C3bFn2Y1lwoBtHMTrqh7 02NH7sAJbxYFehXzoHZHvZ/wisNUvYi+/97aIw99y7F2iqQ/6eEr0gl2veZTJaMW5lVj BJ42NHSStrpwjHLUuADV7JNhUoOX3B1O8/1O8SUmZGUz2qc242l7pwl0J5P5v+DHqXeL ZNyA== X-Gm-Message-State: AOJu0YyUltsQAVWCGxJgJ0OMtnc/6ev6BhcDoIrDVQf7ZXEXo4P0t1Av sLlB6ZYU/4ccAa92YPdLSislgOIdV3hNPecYbWwCjHPHSh62OJiDuM7mwtZuvZ2pJVaab6ofLid 5xurJWklBu8yGTOGteKo7MNrQZ2KWCdy39jmI X-Gm-Gg: ASbGncvOOrPkCIjLi+To9nFApFilV11g/tcaxyrL3Mg1TApSGxJcPu5/XeQwJFJz7R1 T1yhOdA0LHga0rTbmTGKh7arcwbRSfDXfRF8cfa2BK1PRweibhOGgX2HPjlNmXyquioStBU13yC sPh1/QTLpqdLzD40yzDNo1FvdcR9Z4KIgQD3Bmo4qIHtv1xqhzRKLr3MA9dgd8Pq+uyKaLcQ0N4 jNaK3mxtiA1KGbYzrrIDuSaQHvG8mrq799fRSpt+WJunr9/+n5TFc3YOw8kzvoM0pYgxPyV7H9z aAbUjIRleyDPtbRmaz/iBBC6Q28P4zcVkELK/UUYKDpRiR9IBo8uZ4rVMeHLgFD9j05bUuXdXUj GsQ== X-Google-Smtp-Source: AGHT+IETx1BP6OPejIN5QgF+fXBPcp8nevhIvhuElMizLvH/4h9TlIhmUPKPjjfEwIG/+5EdQgvAU3sIcmdC X-Received: by 2002:a05:6e02:1706:b0:425:849c:52fa with SMTP id e9e14a558f8ab-42d8b24ad5bmr139657645ab.15.1759638590899; Sat, 04 Oct 2025 21:29:50 -0700 (PDT) Received: from postal.iol.unh.edu (postal.iol.unh.edu. [132.177.123.84]) by smtp-relay.gmail.com with ESMTPS id 8926c6da1cb9f-57b5ed63aedsm767870173.33.2025.10.04.21.29.50 (version=TLS1_2 cipher=ECDHE-ECDSA-AES128-GCM-SHA256 bits=128/128); Sat, 04 Oct 2025 21:29:50 -0700 (PDT) X-Relaying-Domain: iol.unh.edu Date: Sat, 04 Oct 2025 21:29:50 -0700 (PDT) Message-ID: <68e1f43e.050a0220.10d86e.9de5SMTPIN_ADDED_MISSING@mx.google.com> Received: from [172.21.0.2] (unknown [172.18.0.240]) by postal.iol.unh.edu (Postfix) with ESMTP id 82EDA6051830; Sun, 5 Oct 2025 00:29:50 -0400 (EDT) Subject: |SUCCESS| [GIT MASTER] b287e404643aeab5bb5db084c142789df187844e From: dpdklab@iol.unh.edu To: Test Report Cc: dpdk-test-reports@iol.unh.edu, Xueming Li , Christian Ehrhardt , Kevin Traynor , Luca Boccassi Content-Type: text/plain X-BeenThere: test-report@dpdk.org X-Mailman-Version: 2.1.29 Precedence: list List-Id: automatic DPDK test reports List-Unsubscribe: , List-Archive: List-Post: List-Help: List-Subscribe: , Errors-To: test-report-bounces@dpdk.org _Testing PASS_ Branch: tags/v24.11 b287e404643aeab5bb5db084c142789df187844e --> testing pass Upstream job id: Windows-Compile-DPDK-Native#31426 Test environment and result as below: +---------------------+--------------------+-------------------+-------------------------+----------------------+ | Environment | dpdk_meson_compile | dpdk_msvc_compile | dpdk_llvm_clang_compile | dpdk_mingw64_compile | +=====================+====================+===================+=========================+======================+ | Ubuntu 20.04 | PASS | SKIPPED | SKIPPED | SKIPPED | +---------------------+--------------------+-------------------+-------------------------+----------------------+ | FreeBSD 14.2 | PASS | SKIPPED | SKIPPED | SKIPPED | +---------------------+--------------------+-------------------+-------------------------+----------------------+ | Windows Server 2022 | SKIPPED | PASS | PASS | PASS | +---------------------+--------------------+-------------------+-------------------------+----------------------+ Ubuntu 20.04 Kernel: 4.19 Compiler: gcc gcc (Ubuntu 9.4.0-1ubuntu1~20.04.2) 9.4.0 FreeBSD 14.2 Kernel: 14.2-RELEASE Compiler: clang 18.1.6 Windows Server 2022 Kernel: 10.0.20348.2031 Compiler: clang 15.0.7, gcc 14.1.0 (MinGW), and MSVC VS 19.39.33521 To view detailed results, visit: https://lab.dpdk.org/results/dashboard/tarballs/35110/ UNH-IOL DPDK Community Lab To manage your email subscriptions, visit: https://lab.dpdk.org/results/dashboard/preferences/subscriptions/