From mboxrd@z Thu Jan 1 00:00:00 1970 Return-Path: Received: from mails.dpdk.org (mails.dpdk.org [217.70.189.124]) by inbox.dpdk.org (Postfix) with ESMTP id 6325D488B1 for ; Sun, 5 Oct 2025 06:51:03 +0200 (CEST) Received: from mails.dpdk.org (localhost [127.0.0.1]) by mails.dpdk.org (Postfix) with ESMTP id 3AA15402A1; Sun, 5 Oct 2025 06:51:03 +0200 (CEST) Received: from mail-il1-f228.google.com (mail-il1-f228.google.com [209.85.166.228]) by mails.dpdk.org (Postfix) with ESMTP id 1B6DA402A1 for ; Sun, 5 Oct 2025 06:51:02 +0200 (CEST) Received: by mail-il1-f228.google.com with SMTP id e9e14a558f8ab-4291359714eso33575145ab.1 for ; Sat, 04 Oct 2025 21:51:02 -0700 (PDT) DKIM-Signature: v=1; a=rsa-sha256; c=relaxed/relaxed; d=iol.unh.edu; s=unh-iol; t=1759639861; x=1760244661; darn=dpdk.org; h=cc:to:from:subject:message-id:date:from:to:cc:subject:date :message-id:reply-to; bh=gqskoH4x7PPa0AAc3z8YSE5xF65B5TV5/4IJWL63o8c=; b=LE7paZ4eZRSd5XorKBL/ZBx20qlvx6QRaFn18XXSzFR2XkEypnuQAYHtVGAlOWr4iV FtM7QvR+mIgscKyHJW3Iz+mV4htLrNbayIRdBBRH8Jg6tZ4F64IeizEFDLRmjIKS5K4n 5QSsRrs/urjOgyvO1siQazgNvCU3FAzejCukY= X-Google-DKIM-Signature: v=1; a=rsa-sha256; c=relaxed/relaxed; d=1e100.net; s=20230601; t=1759639861; x=1760244661; h=cc:to:from:subject:message-id:date:x-gm-message-state:from:to:cc :subject:date:message-id:reply-to; bh=gqskoH4x7PPa0AAc3z8YSE5xF65B5TV5/4IJWL63o8c=; b=B9bmndPlTAYjpDPxdZ+UAWm/6tDXjGmkQ0BDlxwsrQvbdW6ePLdVBDG52aK71EhCEN Gbadmhr7HEw4kKdF//Cg5kws1XP7FGy+VcwAkrC1cWI1Cv8QsiSU+SBd3jk6fQCUGFyx eM4K/GP5fXvjkQoHtKUqxE7AAqlMqn3KOaf6VipK7iWvWulFGIxl1jC6y1OwRtl1G4pF 57CEgih7hNWWUpQCxUUqILtzA5iVgGSP4sB601/rkV8Gv8xtZoZEN6pYs4ieUQJagKYL A2zIN61TWgOVRVcctwmfahnX5P4RENhXlUeknocPtVXEGZojBFjD+PlyaMI0XsFbcHKg 7LGw== X-Gm-Message-State: AOJu0YzaYEYjLPjhBbzbcstDDmIPawxNl10LXSqIOzDbx7ScSQaMDOjd +QxQbiNp1fuvpEQXhSwtx+7WMJxml7v1q9pI6Jhm2gDqYr+khyS+EdVBI/eR5RPTAgZ2tgcraiN 6XrurfOd6MFvvsG8RQ/NqJHZFyiG000ay6GfgJz7obvPQ X-Gm-Gg: ASbGnculHYKqCKnuWMw/S/A7gxXYezhDceJ42vTbPTPsCiEsV97OxrpYSldSwItdInT 6KSQyRxm4xDhxoSXaFi6N2u0Rg6dJ5WGun1iRAXvNGEAD5vXxreBO0aLLc70j4swOzB8Ze8gBEp AXpz4QRamjvbqeWZC60J8GWSILU38ybhynWFOkXUhgCq00P91QDjgITTx6x0bsQOZ79IUKiQKTY oQpqylIz+6+NFgP8hRq/WVv1qbGxVndPuWM+n+sDudcZi6VTGpmXB6JgMU1B/eMtbu/1RQoNwsC 4SOHX2jL0tWuQbet9emPy1CbDKVGTHtaFQjvtg/MvWbVmCSVtiLypMTb7JxtHarWzhihTj1fri0 eDQ== X-Google-Smtp-Source: AGHT+IGcj/9tJLUK6cxtYepy7fPLz/QgJyO/h9FXSrPPZgJn1QUkpt9EDxQ3P8N5z7mxiwijf8JjI6kFrnZW X-Received: by 2002:a05:6e02:3c82:b0:42d:8132:c739 with SMTP id e9e14a558f8ab-42e7ad05a71mr105875145ab.2.1759639861307; Sat, 04 Oct 2025 21:51:01 -0700 (PDT) Received: from postal.iol.unh.edu (postal.iol.unh.edu. [132.177.123.84]) by smtp-relay.gmail.com with ESMTPS id 8926c6da1cb9f-57b5eaa41d7sm775736173.5.2025.10.04.21.51.01 (version=TLS1_2 cipher=ECDHE-ECDSA-AES128-GCM-SHA256 bits=128/128); Sat, 04 Oct 2025 21:51:01 -0700 (PDT) X-Relaying-Domain: iol.unh.edu Date: Sat, 04 Oct 2025 21:51:01 -0700 (PDT) Message-ID: <68e1f935.050a0220.634b6.9da1SMTPIN_ADDED_MISSING@mx.google.com> Received: from [172.21.0.2] (unknown [172.18.0.240]) by postal.iol.unh.edu (Postfix) with ESMTP id DFC106051830; Sun, 5 Oct 2025 00:51:00 -0400 (EDT) Subject: |SUCCESS| [GIT MASTER] e7d8cc7ef4df3552575525697079d3c957cfcdaf From: dpdklab@iol.unh.edu To: Test Report Cc: dpdk-test-reports@iol.unh.edu, Bruce Richardson Content-Type: text/plain X-BeenThere: test-report@dpdk.org X-Mailman-Version: 2.1.29 Precedence: list List-Id: automatic DPDK test reports List-Unsubscribe: , List-Archive: List-Post: List-Help: List-Subscribe: , Errors-To: test-report-bounces@dpdk.org _Testing PASS_ Branch: dpdk-next-net-intel e7d8cc7ef4df3552575525697079d3c957cfcdaf --> testing pass Upstream job id: Generic-DPDK-Compile-Meson#431046 Test environment and result as below: +---------------------+--------------------+-------------------------+-------------------+----------------------+-------------------+ | Environment | dpdk_meson_compile | dpdk_llvm_clang_compile | dpdk_msvc_compile | dpdk_mingw64_compile | dpdk_compile_spdk | +=====================+====================+=========================+===================+======================+===================+ | Ubuntu 20.04 | PASS | SKIPPED | SKIPPED | SKIPPED | SKIPPED | +---------------------+--------------------+-------------------------+-------------------+----------------------+-------------------+ | FreeBSD 14.2 | PASS | SKIPPED | SKIPPED | SKIPPED | SKIPPED | +---------------------+--------------------+-------------------------+-------------------+----------------------+-------------------+ | CentOS Stream 9 | PASS | SKIPPED | SKIPPED | SKIPPED | PASS | +---------------------+--------------------+-------------------------+-------------------+----------------------+-------------------+ | Windows Server 2022 | SKIPPED | PASS | PASS | PASS | SKIPPED | +---------------------+--------------------+-------------------------+-------------------+----------------------+-------------------+ Ubuntu 20.04 Kernel: 4.19 Compiler: gcc gcc (Ubuntu 9.4.0-1ubuntu1~20.04.2) 9.4.0 FreeBSD 14.2 Kernel: 14.2-RELEASE Compiler: clang 18.1.6 CentOS Stream 9 Kernel: 5.15 Compiler: gcc gcc (GCC) 11.5.0 20240719 (Red Hat 11.5.0-11) Windows Server 2022 Kernel: 10.0.20348.2031 Compiler: clang 15.0.7, gcc 14.1.0 (MinGW), and MSVC VS 19.39.33521 To view detailed results, visit: https://lab.dpdk.org/results/dashboard/tarballs/35085/ UNH-IOL DPDK Community Lab To manage your email subscriptions, visit: https://lab.dpdk.org/results/dashboard/preferences/subscriptions/