From mboxrd@z Thu Jan 1 00:00:00 1970 Return-Path: Received: from mails.dpdk.org (mails.dpdk.org [217.70.189.124]) by inbox.dpdk.org (Postfix) with ESMTP id A1F9648876 for ; Sun, 5 Oct 2025 06:52:55 +0200 (CEST) Received: from mails.dpdk.org (localhost [127.0.0.1]) by mails.dpdk.org (Postfix) with ESMTP id 98B6F402A1; Sun, 5 Oct 2025 06:52:55 +0200 (CEST) Received: from mail-oa1-f100.google.com (mail-oa1-f100.google.com [209.85.160.100]) by mails.dpdk.org (Postfix) with ESMTP id 9C139402A1 for ; Sun, 5 Oct 2025 06:52:54 +0200 (CEST) Received: by mail-oa1-f100.google.com with SMTP id 586e51a60fabf-32bd4f1b671so3419597fac.0 for ; Sat, 04 Oct 2025 21:52:54 -0700 (PDT) DKIM-Signature: v=1; a=rsa-sha256; c=relaxed/relaxed; d=iol.unh.edu; s=unh-iol; t=1759639974; x=1760244774; darn=dpdk.org; h=cc:to:from:subject:message-id:date:from:to:cc:subject:date :message-id:reply-to; bh=hnPbi6BgCUIu70Gh8NpeqOXS2ZH+KIL0hcuJwlosApM=; b=RUrP6cWFyoiQmU95V1a80nYnv/tBwMdSTXf/qCzSoFy/XnNI/bGOooP7v7Id/VdsZZ S6mD101COvJAysDXwpUruqhx+MVnwcC/mNhUl7zHWvnxmhHTrBe1uMeJyAI7NnlGa89E fze1gENxiuKiz96MTDSDKLg5z7KhNKauibu14= X-Google-DKIM-Signature: v=1; a=rsa-sha256; c=relaxed/relaxed; d=1e100.net; s=20230601; t=1759639974; x=1760244774; h=cc:to:from:subject:message-id:date:x-gm-message-state:from:to:cc :subject:date:message-id:reply-to; bh=hnPbi6BgCUIu70Gh8NpeqOXS2ZH+KIL0hcuJwlosApM=; b=YnD4VsDSZCLZjE4w2cAJDamSnN2C2tSMzUoeNPryYiyJ7eSGze95eP51lYX3RVMZ31 4jxY7YQjnc0yJWL3cUKVbXohqtOIJYHC7SHFO9XP+EW6aZ/khG0CaDOAXK6OrxIj819b GzBtNVJZcRzOTeB7iF0HUNrDNvxk2QPlOtQVop82vRx+SLTF6ZlIcGIu43ajlqXFGpSi LdFJjscQR2CmHI5Vmp3rBfmBtPsw5eo7GD3+X3WRW+h7Ri47BXK5WjPr5ENKEUcwpDP4 2UDYfCqg5m567j6UMKGwowaFyhQ2NtBvhcnwrIWDaD527McwTpAL6jqdDP7HPtzNODdi FyoQ== X-Gm-Message-State: AOJu0YwcxAVp6qpcY+owV/8Xdct4X5zbHQOM0ASRtIIe17Hc8uLA6VjH bQAtL5vKs281hmZW18mMUgCcx15F2NeYh1jMWR6Ofqz0F+8Upu2ZHBA7MXfJkOIQ0WQdAaoq1f1 gCJIGDrBFb5W35ZXSas8T3S7YCe7GuY/pqRzDMC+wbOH+fSfZFJRi X-Gm-Gg: ASbGncujwoVhSF43ZBqojrPGUqTjEzPbOvx1HlOhRwO9yEZq1soCVCOWqqeXGnxy8I6 q35c+3CcC0BmejugSpOgp1YDItj8j73hk4rotRG4MaqUlJ2szGAdYfA4TyRp/Sqs3SnmdCxqnE2 stOb1gJp20LmBk6QVgj6vMMvUzOdUFm+fOiSOnjr6kRAYtWBNFGTCk3W+muuDMrKNU5iXtYgPij 128nBWsmdGahgAjxqYwHr+MEhYHDewBwH1peOCLKKiSWRUIGi9auf9uNi41hKgkRjcq5gg3iTRO iH8PFXU0KiAP/lo+oY26qb/+FLD/bDz4IIRX7oLs/j0p/whmnDAB6Po= X-Google-Smtp-Source: AGHT+IElbllHF287+ewPIY23WQA8KmISewvQG1gUw137V0Npr3uBlrKeyfNVv1e7Xx2Kn395T3BayYbtZcas X-Received: by 2002:a05:6870:d888:b0:315:8d77:4a22 with SMTP id 586e51a60fabf-3abd20a5960mr6090308fac.23.1759639973725; Sat, 04 Oct 2025 21:52:53 -0700 (PDT) Received: from postal.iol.unh.edu (postal.iol.unh.edu. [2606:4100:3880:1234::84]) by smtp-relay.gmail.com with ESMTPS id 586e51a60fabf-3ab7dad1276sm773448fac.6.2025.10.04.21.52.53 (version=TLS1_2 cipher=ECDHE-ECDSA-AES128-GCM-SHA256 bits=128/128); Sat, 04 Oct 2025 21:52:53 -0700 (PDT) X-Relaying-Domain: iol.unh.edu Date: Sat, 04 Oct 2025 21:52:53 -0700 (PDT) Message-ID: <68e1f9a5.050a0220.c6f53.993cSMTPIN_ADDED_MISSING@mx.google.com> Received: from [172.21.0.2] (unknown [172.18.0.240]) by postal.iol.unh.edu (Postfix) with ESMTP id E84256051830; Sun, 5 Oct 2025 00:52:52 -0400 (EDT) Subject: |SUCCESS| [GIT MASTER] 3b43ce3f4a54468e7ef65760c2fd7b4d6ee6d9fc From: dpdklab@iol.unh.edu To: Test Report Cc: dpdk-test-reports@iol.unh.edu, Xueming Li , Christian Ehrhardt , Kevin Traynor , Luca Boccassi Content-Type: text/plain X-BeenThere: test-report@dpdk.org X-Mailman-Version: 2.1.29 Precedence: list List-Id: automatic DPDK test reports List-Unsubscribe: , List-Archive: List-Post: List-Help: List-Subscribe: , Errors-To: test-report-bounces@dpdk.org _Testing PASS_ Branch: tags/v22.11 3b43ce3f4a54468e7ef65760c2fd7b4d6ee6d9fc --> testing pass Upstream job id: Generic-DPDK-Compile-Meson#430997 Test environment and result as below: +-------------------------------+--------------------+-------------------------+----------------------+ | Environment | dpdk_meson_compile | dpdk_llvm_clang_compile | dpdk_mingw64_compile | +===============================+====================+=========================+======================+ | Ubuntu 20.04 | PASS | SKIPPED | SKIPPED | +-------------------------------+--------------------+-------------------------+----------------------+ | FreeBSD 14.2 | PASS | SKIPPED | SKIPPED | +-------------------------------+--------------------+-------------------------+----------------------+ | CentOS Stream 9 | PASS | SKIPPED | SKIPPED | +-------------------------------+--------------------+-------------------------+----------------------+ | CentOS Stream 10 | PASS | SKIPPED | SKIPPED | +-------------------------------+--------------------+-------------------------+----------------------+ | Debian GNU/Linux 12 | PASS | SKIPPED | SKIPPED | +-------------------------------+--------------------+-------------------------+----------------------+ | Fedora Linux 42 | PASS | SKIPPED | SKIPPED | +-------------------------------+--------------------+-------------------------+----------------------+ | openSUSE Leap 15.6 | PASS | SKIPPED | SKIPPED | +-------------------------------+--------------------+-------------------------+----------------------+ | Red Hat Enterprise Linux 8.10 | PASS | SKIPPED | SKIPPED | +-------------------------------+--------------------+-------------------------+----------------------+ | Red Hat Enterprise Linux 9.5 | PASS | SKIPPED | SKIPPED | +-------------------------------+--------------------+-------------------------+----------------------+ | Ubuntu 22.04 | PASS | SKIPPED | SKIPPED | +-------------------------------+--------------------+-------------------------+----------------------+ | Ubuntu 24.04 | PASS | SKIPPED | SKIPPED | +-------------------------------+--------------------+-------------------------+----------------------+ | Windows Server 2022 | SKIPPED | PASS | PASS | +-------------------------------+--------------------+-------------------------+----------------------+ Ubuntu 20.04 Kernel: 4.19 Compiler: gcc gcc (Ubuntu 9.4.0-1ubuntu1~20.04.2) 9.4.0 FreeBSD 14.2 Kernel: 14.2-RELEASE Compiler: clang 18.1.6 CentOS Stream 9 Kernel: 5.15 Compiler: gcc gcc (GCC) 11.5.0 20240719 (Red Hat 11.5.0-11) CentOS Stream 10 Kernel: 5.15 Compiler: gcc gcc (GCC) 14.2.1 20250110 (Red Hat 14.2.1-8) Debian GNU/Linux 12 Kernel: 5.15 Compiler: gcc gcc (Debian 12.2.0-14+deb12u1) 12.2.0 Fedora Linux 42 Kernel: 5.15 Compiler: clang gcc (GCC) 15.2.1 20250808 (Red Hat 15.2.1-1) openSUSE Leap 15.6 Kernel: 5.15 Compiler: gcc gcc (SUSE Linux) 7.5.0 Red Hat Enterprise Linux 8.10 Kernel: 5.15 Compiler: gcc gcc (GCC) 8.5.0 20210514 (Red Hat 8.5.0-22) Red Hat Enterprise Linux 9.5 Kernel: 5.15 Compiler: gcc gcc (GCC) 11.5.0 20240719 (Red Hat 11.5.0-2) Ubuntu 22.04 Kernel: 5.15 Compiler: gcc gcc (Ubuntu 11.4.0-1ubuntu1~22.04) 11.4.0 Ubuntu 24.04 Kernel: 5.15 Compiler: gcc gcc (Ubuntu 13.3.0-6ubuntu2~24.04) 13.3.0 Windows Server 2022 Kernel: 10.0.20348.2031 Compiler: clang 15.0.7, gcc 14.1.0 (MinGW), and MSVC VS 19.39.33521 To view detailed results, visit: https://lab.dpdk.org/results/dashboard/tarballs/35082/ UNH-IOL DPDK Community Lab To manage your email subscriptions, visit: https://lab.dpdk.org/results/dashboard/preferences/subscriptions/