From mboxrd@z Thu Jan 1 00:00:00 1970 Return-Path: Received: from mails.dpdk.org (mails.dpdk.org [217.70.189.124]) by inbox.dpdk.org (Postfix) with ESMTP id 0313F488B1 for ; Sun, 5 Oct 2025 06:54:45 +0200 (CEST) Received: from mails.dpdk.org (localhost [127.0.0.1]) by mails.dpdk.org (Postfix) with ESMTP id D2599402A1; Sun, 5 Oct 2025 06:54:45 +0200 (CEST) Received: from mail-pj1-f97.google.com (mail-pj1-f97.google.com [209.85.216.97]) by mails.dpdk.org (Postfix) with ESMTP id B59A6402A1 for ; Sun, 5 Oct 2025 06:54:44 +0200 (CEST) Received: by mail-pj1-f97.google.com with SMTP id 98e67ed59e1d1-33067909400so2747664a91.2 for ; Sat, 04 Oct 2025 21:54:44 -0700 (PDT) DKIM-Signature: v=1; a=rsa-sha256; c=relaxed/relaxed; d=iol.unh.edu; s=unh-iol; t=1759640084; x=1760244884; darn=dpdk.org; h=cc:to:from:subject:message-id:date:from:to:cc:subject:date :message-id:reply-to; bh=DJPT/Vl8+n3m4aW/ZYaAujvgIiWwaHeU4e+FrzWIGFw=; b=FJEIoRoPa0cWBTGXq9tPZFosDiha5bAqPYFElBo14cC4izSmNexq4S4lXfcbP+gPT5 zib23CgPp2/vjWS0nNSOW/sZ760gbeYXmDRddQbHa2fe4PQfP177OW4jt4pVEcg+qlKk x5vZlxJUcMgtaixmHWXme0kM7v/inAPqn2c84= X-Google-DKIM-Signature: v=1; a=rsa-sha256; c=relaxed/relaxed; d=1e100.net; s=20230601; t=1759640084; x=1760244884; h=cc:to:from:subject:message-id:date:x-gm-message-state:from:to:cc :subject:date:message-id:reply-to; bh=DJPT/Vl8+n3m4aW/ZYaAujvgIiWwaHeU4e+FrzWIGFw=; b=LbCe4+KFSWVQAJ76D8QMoLk6tlsS9puq70xz9o6hPRK2mgGxpj/3wzUmbEUC6C7cJG vHhlRCyBWhnbhTCauI8nC27aWqEmZhya2A9uLnL+fG1kZ/QsGcb0WkksJ5WkUn2lqsXH wSEJ3sRaHfS/hYGZjcPXUafU4f2Ul9Nhl/nlR9GdCMqHnFG1exLPPbYmgCM3CDU5HdMq XQaKa3mV3NAe+HjQEPKaZPqH6zmci62HTuRNLDCRj/QK97cNaqgi7OSX07H8kMKFmSsZ dVeadv6+s1Gu0hVUwHlWUoUUMtg+PFcEk78aLYIGXsdYbCtW9rxvw5uUCPOBa7FnselU Y/EA== X-Gm-Message-State: AOJu0YyrtsVCrNf0QaWYV9XkUX9fNKJsfhFDaEI/NSp6BzzfmG6IeLEg bb0Yd1JtQsUU1KsH5FnNxm1XGn6VvkhNNr/HO4KHmRcDS5zmI09ryi7gRP2+DJDCBLwYuUd1dgC OY3p6r1QfMnP6/MfTuNY5dWeOF4zhsGWvnwVcio85aAcpYnlyx6NO X-Gm-Gg: ASbGncsMAGCY6mYkzVZRWLH0H6YI1QjoNMwRGQgUx8TRfOaGzsoR2bGs9iL3SRq/3VB lXY5an1xe0gBX5RC2f/LoW7QY3vUEKvQ9Xtc1UT4f6CfFhIluILQYfUKyIzzcsAXoFDNp2MubgK 7OuUnOBy2OnLl8uJVEIGD0rYkgZqXLTdsI9zhVyQJyx/knJ7NEaWcUvDqsCytYw2qPYhfgAgNiE jfxupFpgpMns4Ec0rUgxhG7EQ3besTfLwsCCurhpQmPxE6zY0dBI0K8oI2f8SB+aTEnrn6cKok4 R/B5HDW9J6awW2SikPo51jej/o5dRtg4YlewhbzcKIQ4pTP18Cfe+hA= X-Google-Smtp-Source: AGHT+IEqQt/srctolYrmI+fpPjjRqJE4XUKSB1w/cvS+9kfF2FnjaoBKHr9Kisb4iwJECBzeEfrFr9gRnCVi X-Received: by 2002:a17:903:124a:b0:246:80b1:8c87 with SMTP id d9443c01a7336-28e9a61b73cmr97026285ad.43.1759640083686; Sat, 04 Oct 2025 21:54:43 -0700 (PDT) Received: from postal.iol.unh.edu (postal.iol.unh.edu. [2606:4100:3880:1234::84]) by smtp-relay.gmail.com with ESMTPS id d9443c01a7336-28e8d1813afsm7465805ad.34.2025.10.04.21.54.43 (version=TLS1_2 cipher=ECDHE-ECDSA-AES128-GCM-SHA256 bits=128/128); Sat, 04 Oct 2025 21:54:43 -0700 (PDT) X-Relaying-Domain: iol.unh.edu Date: Sat, 04 Oct 2025 21:54:43 -0700 (PDT) Message-ID: <68e1fa13.170a0220.b729d.a866SMTPIN_ADDED_MISSING@mx.google.com> Received: from [172.21.0.2] (unknown [172.18.0.240]) by postal.iol.unh.edu (Postfix) with ESMTP id 20D5C6051830; Sun, 5 Oct 2025 00:54:43 -0400 (EDT) Subject: |SUCCESS| [GIT MASTER] b287e404643aeab5bb5db084c142789df187844e From: dpdklab@iol.unh.edu To: Test Report Cc: dpdk-test-reports@iol.unh.edu, Xueming Li , Christian Ehrhardt , Kevin Traynor , Luca Boccassi Content-Type: text/plain X-BeenThere: test-report@dpdk.org X-Mailman-Version: 2.1.29 Precedence: list List-Id: automatic DPDK test reports List-Unsubscribe: , List-Archive: List-Post: List-Help: List-Subscribe: , Errors-To: test-report-bounces@dpdk.org _Testing PASS_ Branch: tags/v24.11 b287e404643aeab5bb5db084c142789df187844e --> testing pass Upstream job id: Generic-DPDK-Compile-Meson#431001 Test environment and result as below: +-------------------------------+-------------------+--------------------+-------------------------+----------------------+-------------------+------------------+ | Environment | dpdk_msvc_compile | dpdk_meson_compile | dpdk_llvm_clang_compile | dpdk_mingw64_compile | dpdk_compile_spdk | dpdk_compile_ovs | +===============================+===================+====================+=========================+======================+===================+==================+ | Windows Server 2022 | PASS | SKIPPED | PASS | PASS | SKIPPED | SKIPPED | +-------------------------------+-------------------+--------------------+-------------------------+----------------------+-------------------+------------------+ | FreeBSD 14.2 | SKIPPED | PASS | SKIPPED | SKIPPED | SKIPPED | SKIPPED | +-------------------------------+-------------------+--------------------+-------------------------+----------------------+-------------------+------------------+ | Ubuntu 20.04 | SKIPPED | PASS | SKIPPED | SKIPPED | SKIPPED | SKIPPED | +-------------------------------+-------------------+--------------------+-------------------------+----------------------+-------------------+------------------+ | Red Hat Enterprise Linux 9.5 | SKIPPED | PASS | SKIPPED | SKIPPED | SKIPPED | SKIPPED | +-------------------------------+-------------------+--------------------+-------------------------+----------------------+-------------------+------------------+ | CentOS Stream 9 | SKIPPED | PASS | SKIPPED | SKIPPED | PASS | SKIPPED | +-------------------------------+-------------------+--------------------+-------------------------+----------------------+-------------------+------------------+ | CentOS Stream 10 | SKIPPED | PASS | SKIPPED | SKIPPED | SKIPPED | SKIPPED | +-------------------------------+-------------------+--------------------+-------------------------+----------------------+-------------------+------------------+ | Debian GNU/Linux 12 | SKIPPED | PASS | SKIPPED | SKIPPED | PASS | SKIPPED | +-------------------------------+-------------------+--------------------+-------------------------+----------------------+-------------------+------------------+ | Fedora Linux 42 | SKIPPED | PASS | SKIPPED | SKIPPED | PASS | PASS | +-------------------------------+-------------------+--------------------+-------------------------+----------------------+-------------------+------------------+ | openSUSE Leap 15.6 | SKIPPED | PASS | SKIPPED | SKIPPED | SKIPPED | SKIPPED | +-------------------------------+-------------------+--------------------+-------------------------+----------------------+-------------------+------------------+ | Red Hat Enterprise Linux 8.10 | SKIPPED | PASS | SKIPPED | SKIPPED | SKIPPED | SKIPPED | +-------------------------------+-------------------+--------------------+-------------------------+----------------------+-------------------+------------------+ | Ubuntu 22.04 | SKIPPED | PASS | SKIPPED | SKIPPED | PASS | SKIPPED | +-------------------------------+-------------------+--------------------+-------------------------+----------------------+-------------------+------------------+ | Ubuntu 24.04 | SKIPPED | PASS | SKIPPED | SKIPPED | PASS | PASS | +-------------------------------+-------------------+--------------------+-------------------------+----------------------+-------------------+------------------+ | Alpine Linux 3.22.0 | SKIPPED | PASS | SKIPPED | SKIPPED | SKIPPED | SKIPPED | +-------------------------------+-------------------+--------------------+-------------------------+----------------------+-------------------+------------------+ Windows Server 2022 Kernel: 10.0.20348.2031 Compiler: clang 15.0.7, gcc 14.1.0 (MinGW), and MSVC VS 19.39.33521 FreeBSD 14.2 Kernel: 14.2-RELEASE Compiler: clang 18.1.6 Ubuntu 20.04 Kernel: 4.19 Compiler: gcc gcc (Ubuntu 9.4.0-1ubuntu1~20.04.2) 9.4.0 Red Hat Enterprise Linux 9.5 Kernel: 5.15 Compiler: gcc gcc (GCC) 11.5.0 20240719 (Red Hat 11.5.0-2) CentOS Stream 9 Kernel: 5.15 Compiler: gcc gcc (GCC) 11.5.0 20240719 (Red Hat 11.5.0-11) CentOS Stream 10 Kernel: 5.15 Compiler: gcc gcc (GCC) 14.2.1 20250110 (Red Hat 14.2.1-8) Debian GNU/Linux 12 Kernel: 5.15 Compiler: gcc gcc (Debian 12.2.0-14+deb12u1) 12.2.0 Fedora Linux 42 Kernel: 5.15 Compiler: clang gcc (GCC) 15.2.1 20250808 (Red Hat 15.2.1-1) openSUSE Leap 15.6 Kernel: 5.15 Compiler: gcc gcc (SUSE Linux) 7.5.0 Red Hat Enterprise Linux 8.10 Kernel: 5.15 Compiler: gcc gcc (GCC) 8.5.0 20210514 (Red Hat 8.5.0-22) Ubuntu 22.04 Kernel: 5.15 Compiler: gcc gcc (Ubuntu 11.4.0-1ubuntu1~22.04) 11.4.0 Ubuntu 24.04 Kernel: 5.15 Compiler: gcc gcc (Ubuntu 13.3.0-6ubuntu2~24.04) 13.3.0 Alpine Linux 3.22.0 Kernel: 5.15 Compiler: gcc gcc (Alpine 14.2.0) 14.2.0 To view detailed results, visit: https://lab.dpdk.org/results/dashboard/tarballs/35083/ UNH-IOL DPDK Community Lab To manage your email subscriptions, visit: https://lab.dpdk.org/results/dashboard/preferences/subscriptions/