From mboxrd@z Thu Jan 1 00:00:00 1970 Return-Path: Received: from mails.dpdk.org (mails.dpdk.org [217.70.189.124]) by inbox.dpdk.org (Postfix) with ESMTP id 6349B488B1 for ; Sun, 5 Oct 2025 07:12:58 +0200 (CEST) Received: from mails.dpdk.org (localhost [127.0.0.1]) by mails.dpdk.org (Postfix) with ESMTP id 59EC5402C1; Sun, 5 Oct 2025 07:12:58 +0200 (CEST) Received: from mail-il1-f226.google.com (mail-il1-f226.google.com [209.85.166.226]) by mails.dpdk.org (Postfix) with ESMTP id 869D2402B9 for ; Sun, 5 Oct 2025 07:12:57 +0200 (CEST) Received: by mail-il1-f226.google.com with SMTP id e9e14a558f8ab-42d8a0f09f6so15913535ab.3 for ; Sat, 04 Oct 2025 22:12:57 -0700 (PDT) DKIM-Signature: v=1; a=rsa-sha256; c=relaxed/relaxed; d=iol.unh.edu; s=unh-iol; t=1759641177; x=1760245977; darn=dpdk.org; h=references:in-reply-to:cc:to:from:subject:message-id:date:from:to :cc:subject:date:message-id:reply-to; bh=dAN8RgWXBDihGKHUV21KEYF83XUfTM4dBMZ7LjyABOE=; b=XkTgwWI0g86ZrcoIlRrOZTeXlZhypx8Zs3hcxZKj9Buf3g2p5uKT3jJjp2/u+YKv2+ Toz6pPAFnQXvtpKWWrRnUJPQW9mAG47rNMB937xRWNbAf/YROnxChpQriQKuC3utFC+5 ulL/9xpJIVYWtgXYRyAheUQQnxtSddAp44JmM= X-Google-DKIM-Signature: v=1; a=rsa-sha256; c=relaxed/relaxed; d=1e100.net; s=20230601; t=1759641177; x=1760245977; h=references:in-reply-to:cc:to:from:subject:message-id:date :x-gm-message-state:from:to:cc:subject:date:message-id:reply-to; bh=dAN8RgWXBDihGKHUV21KEYF83XUfTM4dBMZ7LjyABOE=; b=aQ/RwQXUZpCTmbiNHMzjOFtCEpNDzcbViO+KkB6BL625bVgLcfmUqq8y4xq9ctm9th YT5kdotlVuW4PSdo6xPYxyg2Sv1EJwubs/89bPur4pyprdMVPJFIlyFYuchqW/6SUYrx s6TsSHxHsbsW65Lt68Svg9rflHNKyxry/IDA2VX+0n1Gd8WU14YQM/SS3PDwEWgi9iJg bzR6v0Azgsabx1x2SGyaZHitA1l4QuxUi167QW6qr9YZwYwgSIgvUQsG7DsnKnbxyCXW loZ2i7vUPLpnvcaIy0GNVmk2JpRZf9x1987yZpNfjrjrt3/2EkW9/fKXz2Z6CiK+CMT+ Ocbw== X-Gm-Message-State: AOJu0YwCQp4ufwN0yNeJE2ClnEMwJmcKw/SViWsc6MTr14Jv7z0bhBJn p5LRH6tYjebUMWd6/kIZqbMX/EA33yJgJJNjsXCv3p15Za5778dvaFv5ibwUYSkXppFq+ZvRTrO UKKZigXcb4Ermrp6FkNReeB6GbzzvgL75J6ONqaNtph9RMD4Cueou4DmufTB8 X-Gm-Gg: ASbGncu/2yICiAV+BkeN+9avivcBMjc0A1seGa/akC5vuff9+KyQL/0mOoj7sYQM86l lVdIb0PHi+l82g2yDu71kozkeATMBDVIr2V71mjFfsa6gkkbw7CqLbSEJRgC7pXyzACwkiUyfTx QoEicQCPk8UfSWSlJsihDPkw4qYAo2QYszRZrUbX7i3kfAQy1nNhGzrMrtcWaPAx6OMT53dBJNw XD+AByvA1EQfFsLjLqbPeYKdJakeqWO2rnopKJ7qXv0ecXYpPKePgWa3mlPlaYSWbqJjKfnhbOy 7AAsh49WIs3gd1wrASGelhGvP4cyM40oMloMG0MjpgtC5cuUG2saXsE= X-Google-Smtp-Source: AGHT+IGAViHYe3OYq0Skx9dCz2lwTUlBZ++HDUn3wdQfFWuM2bbHcHUk6E3HRR6w2Fl1cT91omQNUqTk8oCV X-Received: by 2002:a05:6e02:17cb:b0:42d:86dc:5425 with SMTP id e9e14a558f8ab-42e7acef8c9mr112672865ab.6.1759641176795; Sat, 04 Oct 2025 22:12:56 -0700 (PDT) Received: from postal.iol.unh.edu (postal.iol.unh.edu. [2606:4100:3880:1234::84]) by smtp-relay.gmail.com with ESMTPS id 8926c6da1cb9f-57b5ed26af3sm796755173.32.2025.10.04.22.12.56 (version=TLS1_2 cipher=ECDHE-ECDSA-AES128-GCM-SHA256 bits=128/128); Sat, 04 Oct 2025 22:12:56 -0700 (PDT) X-Relaying-Domain: iol.unh.edu Date: Sat, 04 Oct 2025 22:12:56 -0700 (PDT) Message-ID: <68e1fe58.050a0220.3c3297.e56fSMTPIN_ADDED_MISSING@mx.google.com> Received: from [172.21.0.3] (unknown [172.18.0.240]) by postal.iol.unh.edu (Postfix) with ESMTP id 64FF56051830; Sun, 5 Oct 2025 01:12:56 -0400 (EDT) Subject: |SUCCESS| pw157199-157201 [PATCH] [v3,3/3] app/test: add ML crypto t From: dpdklab@iol.unh.edu To: Test Report Cc: dpdk-test-reports@iol.unh.edu In-Reply-To: <20251001175658.2303-4-gmuthukrishn@marvell.com> References: <20251001175658.2303-4-gmuthukrishn@marvell.com> Content-Type: text/plain X-BeenThere: test-report@dpdk.org X-Mailman-Version: 2.1.29 Precedence: list List-Id: automatic DPDK test reports List-Unsubscribe: , List-Archive: List-Post: List-Help: List-Subscribe: , Errors-To: test-report-bounces@dpdk.org Test-Label: iol-compile-arm64-testing Test-Status: SUCCESS http://dpdk.org/patch/157201 _Testing PASS_ Submitter: Gowrishankar Muthukrishnan Date: Wednesday, October 01 2025 17:56:53 DPDK git baseline: Repo:dpdk Branch: master CommitID:2ffda8c2e357662354ee6ddcca769258c33642a9 157199-157201 --> testing pass Upstream job id: Generic-DPDK-Compile-Meson#430894 Test environment and result as below: +------------------------------+--------------------+ | Environment | dpdk_meson_compile | +==============================+====================+ | Red Hat Enterprise Linux 9.5 | PASS | +------------------------------+--------------------+ | Ubuntu 20.04 | PASS | +------------------------------+--------------------+ | Debian GNU/Linux 12 | PASS | +------------------------------+--------------------+ | Fedora Linux 42 | PASS | +------------------------------+--------------------+ | Ubuntu 22.04 | PASS | +------------------------------+--------------------+ | Ubuntu 24.04 | PASS | +------------------------------+--------------------+ | CentOS Stream 9 | PASS | +------------------------------+--------------------+ | CentOS Stream 10 | PASS | +------------------------------+--------------------+ Red Hat Enterprise Linux 9.5 Kernel: 5.4 Compiler: gcc gcc (GCC) 11.5.0 20240719 (Red Hat 11.5.0-2) Ubuntu 20.04 Kernel: 5.15 Compiler: aarch64-linux-gnu-gcc gcc (Ubuntu 9.4.0-1ubuntu1~20.04.2) 9.4.0 Debian GNU/Linux 12 Kernel: 5.4 Compiler: gcc gcc (Debian 12.2.0-14+deb12u1) 12.2.0 Fedora Linux 42 Kernel: 5.4 Compiler: gcc gcc (GCC) 15.2.1 20250808 (Red Hat 15.2.1-1) Ubuntu 22.04 Kernel: 5.4 Compiler: gcc gcc (Ubuntu 11.4.0-1ubuntu1~22.04) 11.4.0 Ubuntu 24.04 Kernel: 5.4 Compiler: gcc gcc (Ubuntu 13.3.0-6ubuntu2~24.04) 13.3.0 CentOS Stream 9 Kernel: 5.4 Compiler: gcc gcc (GCC) 11.5.0 20240719 (Red Hat 11.5.0-11) CentOS Stream 10 Kernel: 5.4 Compiler: gcc gcc (GCC) 14.2.1 20250110 (Red Hat 14.2.1-8) To view detailed results, visit: https://lab.dpdk.org/results/dashboard/patchsets/34196/ UNH-IOL DPDK Community Lab To manage your email subscriptions, visit: https://lab.dpdk.org/results/dashboard/preferences/subscriptions/