From mboxrd@z Thu Jan 1 00:00:00 1970 Return-Path: Received: from mails.dpdk.org (mails.dpdk.org [217.70.189.124]) by inbox.dpdk.org (Postfix) with ESMTP id E26E4488B7 for ; Sun, 5 Oct 2025 08:34:15 +0200 (CEST) Received: from mails.dpdk.org (localhost [127.0.0.1]) by mails.dpdk.org (Postfix) with ESMTP id B5770402B9; Sun, 5 Oct 2025 08:34:15 +0200 (CEST) Received: from mail-io1-f98.google.com (mail-io1-f98.google.com [209.85.166.98]) by mails.dpdk.org (Postfix) with ESMTP id BACDB402B9 for ; Sun, 5 Oct 2025 08:34:14 +0200 (CEST) Received: by mail-io1-f98.google.com with SMTP id ca18e2360f4ac-93607aec358so91334939f.0 for ; Sat, 04 Oct 2025 23:34:14 -0700 (PDT) DKIM-Signature: v=1; a=rsa-sha256; c=relaxed/relaxed; d=iol.unh.edu; s=unh-iol; t=1759646054; x=1760250854; darn=dpdk.org; h=cc:to:from:subject:message-id:date:from:to:cc:subject:date :message-id:reply-to; bh=3/NM+jLpHu1uCV8WQPvwBqjk2YL1SADkP/z0211un1Q=; b=AQ0GCvO7BilJxMaHnn7zDZ4AoGBVMfj0rTxAt174nKDnuVd9AvXPEtFW0bW1YZALYs Kb16YdkyTpZum0HYYr/4SqYnnIE73g3mt/Yqp5zYEVOLy4isl3nnDn34ipYr6/Lro0XF 2zBnsDRPHCaH5bdfKKtuGXRJSaLrFfEY2eqC0= X-Google-DKIM-Signature: v=1; a=rsa-sha256; c=relaxed/relaxed; d=1e100.net; s=20230601; t=1759646054; x=1760250854; h=cc:to:from:subject:message-id:date:x-gm-message-state:from:to:cc :subject:date:message-id:reply-to; bh=3/NM+jLpHu1uCV8WQPvwBqjk2YL1SADkP/z0211un1Q=; b=EZz52S1W5JDo7xM9trv6yv2JA6o6mgDFgwXftUrIOB4cwr2xY5ikBQck+03MTnUQtW XrKzrGgxs3LgJSBdg447limF2xO9PHOcUJQJG5vQbhfruXxcQHFpnVZPzqrPnBQ3ahHZ ISK2Y9q1z/50J6eS7His0nTL3h6j9KaEVMN6hh2XEH804zXAmfHMhUi58LMqAFPt1BtX 0YAI8jIGqU5hnAxPtu+d4ej2K6i5uFTTlaqN9ecUG+6yBousJRCEQP8232cYIq1AHI90 NrT7NP2aRavnfWpUQbpmV2DjMZcwSJscj0Q8lMPcet4/RKz52srZXLp+GoIgt5OvnFG8 UeJQ== X-Gm-Message-State: AOJu0YzgRRa06+AiHSIsKCMbKkhBz/hAk/3u47NuMDKfwpy2ZhlERKKp gBhqpi7cehNah8SwOo6dGEa9GjwXcFlArHat8mKFvlP/lAgcOKStsIbJPa0G9VRPFRDRXRQ7uRq N4I6Oq+7JVQEMmT3t54C+vSyIne/NafSECoOK X-Gm-Gg: ASbGncuTk6+fTOpB7R5eWwGMz2yBh+SYMO9YhixoWqNgMhHSc3ZWDQ0Qg0jKq0fT5qM 2PZ+gQ+AUGiyelk3g4p0Laf9FdWRmzrOXuvF9RaTWYBrVvJ49ZZaC2K8uCXnt+5LqOClDmKjc5L 1pfwYi5eVU8LANWYYR3bcgUDnoSTpcLqw2xYDrszglsSDmFcLJJdxWXnjiYfdQZs5ZA6BoZ2o6V bsbv86DBgIHzjRXmGo3RZpf6toWIJPEPKPHRp04oBTNUc9iRSv+DiPUH3n9xFtO7h38heAI8Ts9 clbIEJr4Oj4dITE+n5Hw8M32FC9Au8PqtUBM/RAiVlOhswPoivWO5MpnbVmkyAQp75WxQrv4wqw Heg== X-Google-Smtp-Source: AGHT+IEifuVcGZkLmy445zkp9Sc/01BeZkrOB4DwhGXGF36XXbHoPsFk1ggSUjOLpd+47lyhTl38Aw8sPCn6 X-Received: by 2002:a05:6e02:2706:b0:42d:db6f:8f9b with SMTP id e9e14a558f8ab-42e7ad6a893mr98401295ab.20.1759646053842; Sat, 04 Oct 2025 23:34:13 -0700 (PDT) Received: from postal.iol.unh.edu (postal.iol.unh.edu. [132.177.123.84]) by smtp-relay.gmail.com with ESMTPS id 8926c6da1cb9f-57b5edc89c3sm785439173.43.2025.10.04.23.34.13 (version=TLS1_2 cipher=ECDHE-ECDSA-AES128-GCM-SHA256 bits=128/128); Sat, 04 Oct 2025 23:34:13 -0700 (PDT) X-Relaying-Domain: iol.unh.edu Date: Sat, 04 Oct 2025 23:34:13 -0700 (PDT) Message-ID: <68e21165.050a0220.2f5ad7.aed1SMTPIN_ADDED_MISSING@mx.google.com> Received: from [172.21.0.2] (unknown [172.18.0.240]) by postal.iol.unh.edu (Postfix) with ESMTP id 7C7176051830; Sun, 5 Oct 2025 02:34:13 -0400 (EDT) Subject: |SUCCESS| [GIT MASTER] b287e404643aeab5bb5db084c142789df187844e From: dpdklab@iol.unh.edu To: Test Report Cc: dpdk-test-reports@iol.unh.edu, Xueming Li , Christian Ehrhardt , Kevin Traynor , Luca Boccassi Content-Type: text/plain X-BeenThere: test-report@dpdk.org X-Mailman-Version: 2.1.29 Precedence: list List-Id: automatic DPDK test reports List-Unsubscribe: , List-Archive: List-Post: List-Help: List-Subscribe: , Errors-To: test-report-bounces@dpdk.org _Testing PASS_ Branch: tags/v24.11 b287e404643aeab5bb5db084c142789df187844e --> testing pass Upstream job id: Generic-Unit-Test-DPDK#378600 Test environment and result as below: +-------------------------------+----------------+ | Environment | dpdk_unit_test | +===============================+================+ | CentOS Stream 9 | PASS | +-------------------------------+----------------+ | CentOS Stream 10 | PASS | +-------------------------------+----------------+ | Debian GNU/Linux 12 | PASS | +-------------------------------+----------------+ | Fedora Linux 42 | PASS | +-------------------------------+----------------+ | Fedora Linux 40 | PASS | +-------------------------------+----------------+ | Fedora Linux 41 | PASS | +-------------------------------+----------------+ | Red Hat Enterprise Linux 8.10 | PASS | +-------------------------------+----------------+ | Ubuntu 20.04 | PASS | +-------------------------------+----------------+ | Ubuntu 22.04 | PASS | +-------------------------------+----------------+ | Red Hat Enterprise Linux 9.5 | PASS | +-------------------------------+----------------+ | Ubuntu 24.04 | PASS | +-------------------------------+----------------+ | Windows Server 2022 | PASS | +-------------------------------+----------------+ CentOS Stream 9 Kernel: 5.15 Compiler: gcc gcc (GCC) 11.5.0 20240719 (Red Hat 11.5.0-11) CentOS Stream 10 Kernel: 5.15 Compiler: gcc gcc (GCC) 14.2.1 20250110 (Red Hat 14.2.1-8) Debian GNU/Linux 12 Kernel: 5.15 Compiler: gcc gcc (Debian 12.2.0-14+deb12u1) 12.2.0 Fedora Linux 42 Kernel: 5.15 Compiler: gcc gcc (GCC) 15.2.1 20250808 (Red Hat 15.2.1-1) Fedora Linux 40 Kernel: 5.15 Compiler: gcc gcc (GCC) 14.2.1 20240912 (Red Hat 14.2.1-3) Fedora Linux 41 Kernel: 5.15 Compiler: gcc gcc (GCC) 14.3.1 20250523 (Red Hat 14.3.1-1) Red Hat Enterprise Linux 8.10 Kernel: 5.15 Compiler: gcc gcc (GCC) 8.5.0 20210514 (Red Hat 8.5.0-22) Ubuntu 20.04 Kernel: 5.15 Compiler: gcc gcc (Ubuntu 9.4.0-1ubuntu1~20.04.2) 9.4.0 Ubuntu 22.04 Kernel: 5.15 Compiler: gcc gcc (Ubuntu 11.4.0-1ubuntu1~22.04) 11.4.0 Red Hat Enterprise Linux 9.5 Kernel: 5.15 Compiler: gcc gcc (GCC) 11.5.0 20240719 (Red Hat 11.5.0-2) Ubuntu 24.04 Kernel: 5.15 Compiler: gcc gcc (Ubuntu 13.3.0-6ubuntu2~24.04) 13.3.0 Windows Server 2022 Kernel: 10.0.20348.2031 Compiler: clang 15.0.7, gcc 14.1.0 (MinGW), and MSVC VS 19.39.33521 To view detailed results, visit: https://lab.dpdk.org/results/dashboard/tarballs/35110/ UNH-IOL DPDK Community Lab To manage your email subscriptions, visit: https://lab.dpdk.org/results/dashboard/preferences/subscriptions/