From mboxrd@z Thu Jan 1 00:00:00 1970 Return-Path: Received: from mails.dpdk.org (mails.dpdk.org [217.70.189.124]) by inbox.dpdk.org (Postfix) with ESMTP id 772AB488B9 for ; Sun, 5 Oct 2025 10:19:23 +0200 (CEST) Received: from mails.dpdk.org (localhost [127.0.0.1]) by mails.dpdk.org (Postfix) with ESMTP id 5733C402B9; Sun, 5 Oct 2025 10:19:23 +0200 (CEST) Received: from mail-io1-f98.google.com (mail-io1-f98.google.com [209.85.166.98]) by mails.dpdk.org (Postfix) with ESMTP id A02B2402B9 for ; Sun, 5 Oct 2025 10:19:21 +0200 (CEST) Received: by mail-io1-f98.google.com with SMTP id ca18e2360f4ac-938bf212b72so136032939f.1 for ; Sun, 05 Oct 2025 01:19:21 -0700 (PDT) DKIM-Signature: v=1; a=rsa-sha256; c=relaxed/relaxed; d=iol.unh.edu; s=unh-iol; t=1759652361; x=1760257161; darn=dpdk.org; h=references:in-reply-to:cc:to:from:subject:message-id:date:from:to :cc:subject:date:message-id:reply-to; bh=fyRdfvBA52yIkSdSgzz9cj5QyeBqXPbmCJWUy42SpKQ=; b=H0SG6H0J28bNoU2pwriO7c81HbE3OFkV2uwNaGiYo7ayPZ02ZUEL2cNkXrH364A7Be UmIvq2YLlSTr60xPBXpt/AuHss17QNx8/J4xzKsFimkjAv31BkMIVCuACndx/3GXn5dq nT5LLjD+V1cqMzXRgbb/RHLNdgji2zjblqKKg= X-Google-DKIM-Signature: v=1; a=rsa-sha256; c=relaxed/relaxed; d=1e100.net; s=20230601; t=1759652361; x=1760257161; h=references:in-reply-to:cc:to:from:subject:message-id:date :x-gm-message-state:from:to:cc:subject:date:message-id:reply-to; bh=fyRdfvBA52yIkSdSgzz9cj5QyeBqXPbmCJWUy42SpKQ=; b=tEZr27Hlg+IW4ezHGoBO28/dpRgG6wHrzzipDsINIULIQKNmWeosKwHAumYyIc2iKe VLsXkpOiUZSnTZW9N9//kGUWLW2k/Y4S7RRUeNVccBNmtN57XXIYRiud1jLtIW7fbBoL bD4LuFnDJVkCD+7QoONPFLwLDsst7PhSG1AbEPYlf54wvh5QdzZPO9sL3VKAL1L56yvn qWdKHJjrtebtbgpG9Zp8eKcFQc4GvoOHyn2Hi9Xz0lwSpb1irGQR0p2ta0Raz0ZdAQcv B+tetjK8KqQDnXtFEflZgP+XebxFpZ2EnkgcJaiXUQH3J88rffWNe4rRKSN7dGs4UdcN KPFA== X-Gm-Message-State: AOJu0Yxx3KNqz85K9LCtbeTQqCZY6jltTJFBKKHMNlqs3N019iBqRG7V +VjkX3NuuRQv67mVdrMIiV5Ieby8oE3TewLiVAozP08+oykoQZgM81oTgnKKTB75XuO7uGEFVXs utLn6/e1gfeV6IEWFNt6o1YClbYixSGzxgN4n8KpmHQVECZEwzLd9Ek/BR4Il X-Gm-Gg: ASbGnctOdCarvff1GwOMJhQeIAcLehquH0K6dDdYgSaxvvW0phIG+PC//T1GArZBg6X /R0TmpC9jYJF2fMgH/BMH6UiZF5Uv074czWqaDuVh9wmdYEm3Z2dT2M1u6OYG1dWGVQDh9CiKGY jRwMh9RdSVVfBJk9fLmtqYTG4JDkjWhtpL+QcZIvfQKCdPxHjs1WsZ6j6I2Y8Un5/rUTbcM+GgP vTE7Qytse+7/1B9jvLvsagLvNpg3PO81b64e1Ww5Nm/wQVQ60NSX+U9zb58GkTVOrDHqxwwk4SB 2A2Y6hvLIma95uiVoV6PJlhhPfLg4Vnw7gu0vC2pUsqi0QnVSQeDYMU= X-Google-Smtp-Source: AGHT+IH//V/rfiyDEWMhh50EBlcUPHQcwCYzAnVnJhqmZ9fgsm2c7Pi2p+BWX3c2H+kt2PJ21iyKSfWI0ILB X-Received: by 2002:a05:6602:29c1:b0:928:71d8:16ce with SMTP id ca18e2360f4ac-93b96a43128mr1222850539f.7.1759652360899; Sun, 05 Oct 2025 01:19:20 -0700 (PDT) Received: from postal.iol.unh.edu (postal.iol.unh.edu. [2606:4100:3880:1234::84]) by smtp-relay.gmail.com with ESMTPS id 8926c6da1cb9f-57b605d7d60sm770670173.38.2025.10.05.01.19.20 (version=TLS1_2 cipher=ECDHE-ECDSA-AES128-GCM-SHA256 bits=128/128); Sun, 05 Oct 2025 01:19:20 -0700 (PDT) X-Relaying-Domain: iol.unh.edu Date: Sun, 05 Oct 2025 01:19:20 -0700 (PDT) Message-ID: <68e22a08.050a0220.379390.8afaSMTPIN_ADDED_MISSING@mx.google.com> Received: from [172.21.0.2] (unknown [172.18.0.240]) by postal.iol.unh.edu (Postfix) with ESMTP id 6F3A56051830; Sun, 5 Oct 2025 04:19:20 -0400 (EDT) Subject: |SUCCESS| pw157277 [PATCH] net/mlx5: release allocated indexed pools From: dpdklab@iol.unh.edu To: Test Report Cc: dpdk-test-reports@iol.unh.edu In-Reply-To: <20251005072346.66007-1-mkashani@nvidia.com> References: <20251005072346.66007-1-mkashani@nvidia.com> Content-Type: text/plain X-BeenThere: test-report@dpdk.org X-Mailman-Version: 2.1.29 Precedence: list List-Id: automatic DPDK test reports List-Unsubscribe: , List-Archive: List-Post: List-Help: List-Subscribe: , Errors-To: test-report-bounces@dpdk.org Test-Label: iol-compile-amd64-testing Test-Status: SUCCESS http://dpdk.org/patch/157277 _Testing PASS_ Submitter: Maayan Kashani Date: Sunday, October 05 2025 07:23:45 DPDK git baseline: Repo:dpdk-next-net-mlx Branch: master CommitID:2374f33e1d964e100895fd294966380c46f0886d 157277 --> testing pass Upstream job id: Windows-Compile-DPDK-Native#31428 Test environment and result as below: +---------------------+--------------------+-------------------------+-------------------+----------------------+ | Environment | dpdk_meson_compile | dpdk_llvm_clang_compile | dpdk_msvc_compile | dpdk_mingw64_compile | +=====================+====================+=========================+===================+======================+ | Ubuntu 20.04 | PASS | SKIPPED | SKIPPED | SKIPPED | +---------------------+--------------------+-------------------------+-------------------+----------------------+ | FreeBSD 14.2 | PASS | SKIPPED | SKIPPED | SKIPPED | +---------------------+--------------------+-------------------------+-------------------+----------------------+ | Windows Server 2022 | SKIPPED | PASS | PASS | PASS | +---------------------+--------------------+-------------------------+-------------------+----------------------+ Ubuntu 20.04 Kernel: 4.19 Compiler: gcc gcc (Ubuntu 9.4.0-1ubuntu1~20.04.2) 9.4.0 FreeBSD 14.2 Kernel: 14.2-RELEASE Compiler: clang 18.1.6 Windows Server 2022 Kernel: 10.0.20348.2031 Compiler: clang 15.0.7, gcc 14.1.0 (MinGW), and MSVC VS 19.39.33521 To view detailed results, visit: https://lab.dpdk.org/results/dashboard/patchsets/34216/ UNH-IOL DPDK Community Lab To manage your email subscriptions, visit: https://lab.dpdk.org/results/dashboard/preferences/subscriptions/