From mboxrd@z Thu Jan 1 00:00:00 1970 Return-Path: Received: from mails.dpdk.org (mails.dpdk.org [217.70.189.124]) by inbox.dpdk.org (Postfix) with ESMTP id 2EBFA488B9 for ; Sun, 5 Oct 2025 10:27:56 +0200 (CEST) Received: from mails.dpdk.org (localhost [127.0.0.1]) by mails.dpdk.org (Postfix) with ESMTP id 09925402B9; Sun, 5 Oct 2025 10:27:56 +0200 (CEST) Received: from mail-pl1-f228.google.com (mail-pl1-f228.google.com [209.85.214.228]) by mails.dpdk.org (Postfix) with ESMTP id 89371402B9 for ; Sun, 5 Oct 2025 10:27:54 +0200 (CEST) Received: by mail-pl1-f228.google.com with SMTP id d9443c01a7336-271d1305ad7so55888695ad.2 for ; Sun, 05 Oct 2025 01:27:54 -0700 (PDT) DKIM-Signature: v=1; a=rsa-sha256; c=relaxed/relaxed; d=iol.unh.edu; s=unh-iol; t=1759652873; x=1760257673; darn=dpdk.org; h=cc:to:from:subject:message-id:date:from:to:cc:subject:date :message-id:reply-to; bh=CnD2ZJJ+KBWVy1Awf25/ABFEavGpL/eJmgMopLehWbo=; b=OtAg5WT1BRanv1/Slruop+9Y4AV6xHLxCPG782PNtbdHuiOxHMbHY7ejXoroYG0S43 yrHZE6V4XQPsJC45GnjD08yxq3yTA4S4Dd89Qq/YtRSUqpU2BH50hDu9veS5dnSmwB02 UIqc3T1GNefuS9rSEx9FHsr4xE5bkBy6BdYCY= X-Google-DKIM-Signature: v=1; a=rsa-sha256; c=relaxed/relaxed; d=1e100.net; s=20230601; t=1759652873; x=1760257673; h=cc:to:from:subject:message-id:date:x-gm-message-state:from:to:cc :subject:date:message-id:reply-to; bh=CnD2ZJJ+KBWVy1Awf25/ABFEavGpL/eJmgMopLehWbo=; b=rQj5vpi2DSFm7baahuNV1NLN4JbottWm7qh5cIFa97sNKvp6odHFeqjmwnVT2+JunH NaOfdx0hzmk64JQtXNyxWP/9fdgcs8XWIAbOitpVffK6G7DbEkVxT3IvzADw+fzemev2 jyiC92CQoJ3WWKUC7aZkW0xr1fFj/gRBHYAP7L97CjRkYcMgY5D+uoi6fM+vnlpBbWL0 puHCRfR6K2DdKw8qTw1OK6VLxufgvPi0cqfHjMV/ZktvF2GUJPIgvQE/zqpF6KrozP4R /n7mPO0b6f4K+RV+wYATPoaao3kZ9XN9qQzU8r5zKky5cHiisTaZjv6LLNQ9PgDuAuU3 NlVw== X-Gm-Message-State: AOJu0YyOkqo98BxqUk9zJeSAn9ggpBJKRCBbTSPAV5bsQKNlWzzzvrut subvW657amXV/Xy5m9D8XyZlOKnykL9VqaEH3u0IrTFJltkrPB4n4HWKirjN8vGeBOXMRk5gY0K Zog8ciuGVlCGz+tLRA8wQB7nhIoSI+FP6ZHO8k6LX/kSSlV2zF9Ss X-Gm-Gg: ASbGnctE4ZiejjPNGRbRsU2/zawCOr5qbGu4nIlnKkpSuA3G5NtrJR1zD05YS+HuHaT b/UQbNsX24kIZLNBLeAIqUX4kjBV0SBQR73iSJO5GhcninPnUkVtxRsrvIXKKmy9qF67fcEi4uQ qT4DtJRsVvedcS8QT4qObM4cyCPWR278ptj9B4wiiwe77CjTuDg56UTtu6pEdmW6cnYJQWWledO uQpx8tyywmmYrQfRSEc0K7T9q56O5uzcrhhUTwLfXiFbGhWP8d8oqyFb5cjw94NiXd+oPWgbzNo ZiplE7l4PFt9LvECIO0YGgdCA2I7GwrAmRJLVe6OhUoU5CwOtD8wJ8g= X-Google-Smtp-Source: AGHT+IGBFRZ6LbDnmhYoKlFVsODl2E9w47kMM710N63QUNU5nDR/L0K9qmxuhnAKDHXIVjyMhc5oN+0LM04b X-Received: by 2002:a17:902:d591:b0:26d:f589:9cd7 with SMTP id d9443c01a7336-28e9a593d26mr116817405ad.15.1759652873463; Sun, 05 Oct 2025 01:27:53 -0700 (PDT) Received: from postal.iol.unh.edu (postal.iol.unh.edu. [2606:4100:3880:1234::84]) by smtp-relay.gmail.com with ESMTPS id d9443c01a7336-28e8d1b11a7sm7052295ad.67.2025.10.05.01.27.53 (version=TLS1_2 cipher=ECDHE-ECDSA-AES128-GCM-SHA256 bits=128/128); Sun, 05 Oct 2025 01:27:53 -0700 (PDT) X-Relaying-Domain: iol.unh.edu Date: Sun, 05 Oct 2025 01:27:53 -0700 (PDT) Message-ID: <68e22c09.170a0220.1108df.7484SMTPIN_ADDED_MISSING@mx.google.com> Received: from [172.21.0.2] (unknown [172.18.0.240]) by postal.iol.unh.edu (Postfix) with ESMTP id AC0FE6051830; Sun, 5 Oct 2025 04:27:52 -0400 (EDT) Subject: |SUCCESS| [GIT MASTER] 3b43ce3f4a54468e7ef65760c2fd7b4d6ee6d9fc From: dpdklab@iol.unh.edu To: Test Report Cc: dpdk-test-reports@iol.unh.edu, Xueming Li , Christian Ehrhardt , Kevin Traynor , Luca Boccassi Content-Type: text/plain X-BeenThere: test-report@dpdk.org X-Mailman-Version: 2.1.29 Precedence: list List-Id: automatic DPDK test reports List-Unsubscribe: , List-Archive: List-Post: List-Help: List-Subscribe: , Errors-To: test-report-bounces@dpdk.org _Testing PASS_ Branch: tags/v22.11 3b43ce3f4a54468e7ef65760c2fd7b4d6ee6d9fc --> testing pass Upstream job id: Generic-Unit-Test-DPDK#378526 Test environment and result as below: +-----------------+---------------------------+------------------------------+--------------+----------------+ | Environment | cryptodev_sw_zuc_autotest | cryptodev_sw_snow3g_autotest | lpm_autotest | dpdk_unit_test | +=================+===========================+==============================+==============+================+ | Debian 12 (arm) | PASS | PASS | SKIPPED | SKIPPED | +-----------------+---------------------------+------------------------------+--------------+----------------+ | Ubuntu 20.04 | SKIPPED | SKIPPED | PASS | SKIPPED | +-----------------+---------------------------+------------------------------+--------------+----------------+ | Ubuntu 22.04 | SKIPPED | SKIPPED | SKIPPED | PASS | +-----------------+---------------------------+------------------------------+--------------+----------------+ Debian 12 (arm) Kernel: Depends on container host Compiler: gcc (Debian 12.2.0-14) 12.2.0 Ubuntu 20.04 Kernel: 5.4 Compiler: gcc gcc (Ubuntu 9.4.0-1ubuntu1~20.04.2) 9.4.0 Ubuntu 22.04 Kernel: 5.15 Compiler: gcc gcc (Ubuntu 11.4.0-1ubuntu1~22.04.2) 11.4.0 To view detailed results, visit: https://lab.dpdk.org/results/dashboard/tarballs/35108/ UNH-IOL DPDK Community Lab To manage your email subscriptions, visit: https://lab.dpdk.org/results/dashboard/preferences/subscriptions/