From mboxrd@z Thu Jan 1 00:00:00 1970 Return-Path: Received: from mails.dpdk.org (mails.dpdk.org [217.70.189.124]) by inbox.dpdk.org (Postfix) with ESMTP id 6CEC7488B9 for ; Sun, 5 Oct 2025 10:41:12 +0200 (CEST) Received: from mails.dpdk.org (localhost [127.0.0.1]) by mails.dpdk.org (Postfix) with ESMTP id 53E43402B9; Sun, 5 Oct 2025 10:41:12 +0200 (CEST) Received: from mail-qv1-f100.google.com (mail-qv1-f100.google.com [209.85.219.100]) by mails.dpdk.org (Postfix) with ESMTP id EB6C9402B9 for ; Sun, 5 Oct 2025 10:41:10 +0200 (CEST) Received: by mail-qv1-f100.google.com with SMTP id 6a1803df08f44-87499a3cd37so29336436d6.3 for ; Sun, 05 Oct 2025 01:41:10 -0700 (PDT) DKIM-Signature: v=1; a=rsa-sha256; c=relaxed/relaxed; d=iol.unh.edu; s=unh-iol; t=1759653670; x=1760258470; darn=dpdk.org; h=references:in-reply-to:cc:to:from:subject:message-id:date:from:to :cc:subject:date:message-id:reply-to; bh=xYRiioAgm5kx4jXuT+5jkGVmxyNTGh9dOVUACVaF3X0=; b=D9ZyAbwyg8w82sthI5OLjsUMT5xM6dhjwB9RgJHjufsLehmvXRnswcMmpHe+meBTqF l3PKuH6RM5NquFL+JF/oEktDERPJV4seGZ7FJo4BXED/IGA0vgnYV4ryBZGoJgAiu2pi RZeES+83xAPOKPUue3kEK+Etv+pGc2DA9Jeqk= X-Google-DKIM-Signature: v=1; a=rsa-sha256; c=relaxed/relaxed; d=1e100.net; s=20230601; t=1759653670; x=1760258470; h=references:in-reply-to:cc:to:from:subject:message-id:date :x-gm-message-state:from:to:cc:subject:date:message-id:reply-to; bh=xYRiioAgm5kx4jXuT+5jkGVmxyNTGh9dOVUACVaF3X0=; b=gn8BmvXHxyd/c3L+hHEJSLgINSsCjoJBLA8cQtB/1WvgsXakAfnUUtVzWo20WOJnm2 j7n6r+k2aRpLT1ue1PaVYZ7uJhnqTxmvnQfPZ7cQic5VQJNmDp5QulkRwPmWNMWMFYgq IxKc0S+RtY8NiSnH4weLPvzJ3xPlpdIy3F3QoEFWspIHJjsq1rp2J3hAVYa7OLj2wbbr kDvu7zoov7syVCXEnDSMhWNdHb5g58GpMIJtukKv9BBHQicyaxO9Vhb34cAQxQPVrmVK 4pd8IQK0UuwR5NFEJ1LYZQolBfHs8yP+mbzao4UgwjSZK0c3sIL3Q6MWj/bJnxIj2suS Uu9Q== X-Gm-Message-State: AOJu0Ywm94MIZXX1b3Sc17ajslL5XY1rpoJPLdKgp1TH/WydxiiC1BHY pmHNTxpvw8K/VjU64LVQtiKFwqyedVpPX98aHXm71t+64BZP928r31LqtD6uVFkXSSmTT2g2zHi Pq26EXcFdCljywj5l8i/TPRG58RtPr4uahgVyZWbTvYvN X-Gm-Gg: ASbGncv4SfknIs255eNp0ieFZCm5u2vyXmGJ7iQa67cH/gmXAwh5c+BBKtS2Zys5GiX ep1CxZ85NW0E+LFcASs/gOS9CFMu/d+UQpuBdtCsIhLsw8w95SLDN/frWTH0f7M+ZkIR3s4h8pj ehkULCyb5rIL4kiedlWRhWADBVSvsFER3EUBv2/I8MwyD87yFsBtZ29F4VERvwAQVfBvUy8A6Cb uSZziP04DMn2C+esEqpJK5TXeWRF1wv8dm6h6ufes+h5W17u4Jz7hoJTHXO/P2gAWsYMXH8hq05 1CcdGE7L3EE+nu6yxHS96Z0his97OhdFb94sGOMpUcuZX1fblXejz2gr43kOfAGDtKTcbfIfaK7 tRQ== X-Google-Smtp-Source: AGHT+IEh4ClPWCs05imbuouZex49uLt09tBlzRZP7s92WOaR2EdG7dSeBIaozzVd7/HV0iHJBnesGvW/aqAB X-Received: by 2002:a05:6214:2b06:b0:78e:9c29:28bb with SMTP id 6a1803df08f44-879dc7aacb8mr104357696d6.13.1759653670273; Sun, 05 Oct 2025 01:41:10 -0700 (PDT) Received: from postal.iol.unh.edu (postal.iol.unh.edu. [132.177.123.84]) by smtp-relay.gmail.com with ESMTPS id 6a1803df08f44-878bb44367bsm8641746d6.12.2025.10.05.01.41.10 (version=TLS1_2 cipher=ECDHE-ECDSA-AES128-GCM-SHA256 bits=128/128); Sun, 05 Oct 2025 01:41:10 -0700 (PDT) X-Relaying-Domain: iol.unh.edu Date: Sun, 05 Oct 2025 01:41:10 -0700 (PDT) Message-ID: <68e22f26.050a0220.1191dc.df75SMTPIN_ADDED_MISSING@mx.google.com> Received: from [172.21.0.3] (unknown [172.18.0.240]) by postal.iol.unh.edu (Postfix) with ESMTP id 0167060003EA; Sun, 5 Oct 2025 04:41:09 -0400 (EDT) Subject: |SUCCESS| pw157277 [PATCH] net/mlx5: release allocated indexed pools From: dpdklab@iol.unh.edu To: Test Report Cc: dpdk-test-reports@iol.unh.edu In-Reply-To: <20251005072346.66007-1-mkashani@nvidia.com> References: <20251005072346.66007-1-mkashani@nvidia.com> Content-Type: text/plain X-BeenThere: test-report@dpdk.org X-Mailman-Version: 2.1.29 Precedence: list List-Id: automatic DPDK test reports List-Unsubscribe: , List-Archive: List-Post: List-Help: List-Subscribe: , Errors-To: test-report-bounces@dpdk.org Test-Label: iol-unit-amd64-testing Test-Status: SUCCESS http://dpdk.org/patch/157277 _Testing PASS_ Submitter: Maayan Kashani Date: Sunday, October 05 2025 07:23:45 DPDK git baseline: Repo:dpdk-next-net-mlx Branch: master CommitID:2374f33e1d964e100895fd294966380c46f0886d 157277 --> testing pass Upstream job id: Generic-Unit-Test-DPDK#378630 Test environment and result as below: +-------------------------------+----------------+ | Environment | dpdk_unit_test | +===============================+================+ | CentOS Stream 9 | PASS | +-------------------------------+----------------+ | CentOS Stream 10 | PASS | +-------------------------------+----------------+ | Debian GNU/Linux 12 | PASS | +-------------------------------+----------------+ | Fedora Linux 40 | PASS | +-------------------------------+----------------+ | Fedora Linux 41 | PASS | +-------------------------------+----------------+ | Fedora Linux 42 | PASS | +-------------------------------+----------------+ | Ubuntu 20.04 | PASS | +-------------------------------+----------------+ | Red Hat Enterprise Linux 8.10 | PASS | +-------------------------------+----------------+ | Red Hat Enterprise Linux 9.5 | PASS | +-------------------------------+----------------+ | Ubuntu 22.04 | PASS | +-------------------------------+----------------+ | Ubuntu 24.04 | PASS | +-------------------------------+----------------+ | Windows Server 2022 | PASS | +-------------------------------+----------------+ CentOS Stream 9 Kernel: 5.15 Compiler: gcc gcc (GCC) 11.5.0 20240719 (Red Hat 11.5.0-11) CentOS Stream 10 Kernel: 5.15 Compiler: gcc gcc (GCC) 14.2.1 20250110 (Red Hat 14.2.1-8) Debian GNU/Linux 12 Kernel: 5.15 Compiler: gcc gcc (Debian 12.2.0-14+deb12u1) 12.2.0 Fedora Linux 40 Kernel: 5.15 Compiler: gcc gcc (GCC) 14.2.1 20240912 (Red Hat 14.2.1-3) Fedora Linux 41 Kernel: 5.15 Compiler: gcc gcc (GCC) 14.3.1 20250523 (Red Hat 14.3.1-1) Fedora Linux 42 Kernel: 5.15 Compiler: clang gcc (GCC) 15.2.1 20250808 (Red Hat 15.2.1-1) Ubuntu 20.04 Kernel: 5.15 Compiler: gcc gcc (Ubuntu 9.4.0-1ubuntu1~20.04.2) 9.4.0 Red Hat Enterprise Linux 8.10 Kernel: 5.15 Compiler: gcc gcc (GCC) 8.5.0 20210514 (Red Hat 8.5.0-22) Red Hat Enterprise Linux 9.5 Kernel: 5.15 Compiler: gcc gcc (GCC) 11.5.0 20240719 (Red Hat 11.5.0-2) Ubuntu 22.04 Kernel: 5.15 Compiler: gcc gcc (Ubuntu 11.4.0-1ubuntu1~22.04) 11.4.0 Ubuntu 24.04 Kernel: 5.15 Compiler: gcc gcc (Ubuntu 13.3.0-6ubuntu2~24.04) 13.3.0 Windows Server 2022 Kernel: 10.0.20348.2031 Compiler: clang 15.0.7, gcc 14.1.0 (MinGW), and MSVC VS 19.39.33521 To view detailed results, visit: https://lab.dpdk.org/results/dashboard/patchsets/34216/ UNH-IOL DPDK Community Lab To manage your email subscriptions, visit: https://lab.dpdk.org/results/dashboard/preferences/subscriptions/