From mboxrd@z Thu Jan 1 00:00:00 1970 Return-Path: Received: from mails.dpdk.org (mails.dpdk.org [217.70.189.124]) by inbox.dpdk.org (Postfix) with ESMTP id 7E42D488B9 for ; Sun, 5 Oct 2025 10:42:29 +0200 (CEST) Received: from mails.dpdk.org (localhost [127.0.0.1]) by mails.dpdk.org (Postfix) with ESMTP id 78A27402B9; Sun, 5 Oct 2025 10:42:29 +0200 (CEST) Received: from mail-io1-f98.google.com (mail-io1-f98.google.com [209.85.166.98]) by mails.dpdk.org (Postfix) with ESMTP id 1C13E402B9 for ; Sun, 5 Oct 2025 10:42:28 +0200 (CEST) Received: by mail-io1-f98.google.com with SMTP id ca18e2360f4ac-91e578e2a61so158478839f.2 for ; Sun, 05 Oct 2025 01:42:28 -0700 (PDT) DKIM-Signature: v=1; a=rsa-sha256; c=relaxed/relaxed; d=iol.unh.edu; s=unh-iol; t=1759653747; x=1760258547; darn=dpdk.org; h=cc:to:from:subject:message-id:date:from:to:cc:subject:date :message-id:reply-to; bh=p2v900okGXS51CNpr6S/Nqvgjh6p9r55iasf6HAr3Uw=; b=Q1jYdD/r4lOkyABUDT9d7mnpqarOShbK/XHG98R+nLgHMqSBKZGqzmunDeRr+JR5z4 tfTXpeRjhthbVySlc5BxIzEelZQTZLTTVTtLWz6feRv5WRhOnKliJSWdCHqHjGT/iXpQ 4zUE5ssTyNvkSYLarqGgLbgjTMDb2grynadfM= X-Google-DKIM-Signature: v=1; a=rsa-sha256; c=relaxed/relaxed; d=1e100.net; s=20230601; t=1759653747; x=1760258547; h=cc:to:from:subject:message-id:date:x-gm-message-state:from:to:cc :subject:date:message-id:reply-to; bh=p2v900okGXS51CNpr6S/Nqvgjh6p9r55iasf6HAr3Uw=; b=ePwcuH0tAezxWv6esQuS1eKtcYxOQ0CDuzvvC4KTpbc7FsCmMM5TCJ2wGbzM+WBVC9 pZ4K6nB1gA7Apn+iHzFJRYQCGJBXp/pg3J7ZVrqhS2pX1ATwK903ZK8uf0BrOBLm3jjh 5VN+q3uiBZv7V83NDMTalutBo3XYUAq0b32t10tAUzIFq4k9eP7a8qbnfk4p0ltXX8M0 FEUteLLkIAzn0z3NneCz+SUq3zdkkIV2Kp5Rpv0hT4yH3NZnuP7jfa4O6Y2Kmtct9Qoy d+cxA5xOPXjvWasgTaUhjA8vPzA4yEdwQhfT8p/WzQG3XNv9V/KkT7TrCTgjtSq/x+h+ fFzw== X-Gm-Message-State: AOJu0Yw8GkUdckRvdX9CwFzoTW9dr8phE3/zYtidlVL2uuz7TsHliEDc HmhkHt/O4K03P5eWVb2+/BrGTub4IX/D9T7/XRwf3ZA+7KCcaZXJs56m4M1dNMYby/h1rYE215B 7GDUntBFZqlkU0lkaXuHjMyAXHcRovb2gHi7W6DxlnLb9Ona7de/87btCWWw+ X-Gm-Gg: ASbGncuAsAdO2VQjyo1NLGYsHUG/sbgnUYHLjKij604g/clVDC69HVLQ7j5OQSqC/XT pR01CnLZEhkPJ/SeoccZg5KkqkURf0dCG1mOv5DJYYY852dcg/T79rJVZQIC7pWSbTAa+roG3tN Q9bfwNPPJ+OUzUiRl63raA/IT/BOWkJ7l+JxQUJqDc2HIdUZH0hyoa0ux46KWKJPQ5Bv/zhf5XG ywlMne+IuFPHW5o3fXkS5RZI5Qb7oJy4TR6XTP8pK1/0WWfDiS0rrb8nYkihBjTHz9GP51h85jo 0EEFXCh2waQzX+3pxrNmSMML3Re3EXqnDLLfrAZxYPp5g5lxPqQ00gg= X-Google-Smtp-Source: AGHT+IEgjIY7nhjVKbYPRTOoM6kG1s3rGSuOEJkGUX82y0/zm2cRHTVJgzDrB5geb8NejP+jmk4Y8pQ4YzKV X-Received: by 2002:a05:6e02:2142:b0:42d:8ad3:d626 with SMTP id e9e14a558f8ab-42e7ad84885mr111079495ab.21.1759653747443; Sun, 05 Oct 2025 01:42:27 -0700 (PDT) Received: from postal.iol.unh.edu (postal.iol.unh.edu. [2606:4100:3880:1234::84]) by smtp-relay.gmail.com with ESMTPS id 8926c6da1cb9f-57b5edeb9desm806404173.49.2025.10.05.01.42.27 (version=TLS1_2 cipher=ECDHE-ECDSA-AES128-GCM-SHA256 bits=128/128); Sun, 05 Oct 2025 01:42:27 -0700 (PDT) X-Relaying-Domain: iol.unh.edu Date: Sun, 05 Oct 2025 01:42:27 -0700 (PDT) Message-ID: <68e22f73.050a0220.2c601d.b660SMTPIN_ADDED_MISSING@mx.google.com> Received: from [172.21.0.4] (unknown [172.18.0.240]) by postal.iol.unh.edu (Postfix) with ESMTP id A205B6051830; Sun, 5 Oct 2025 04:42:26 -0400 (EDT) Subject: |SUCCESS| [GIT MASTER] caa17cb4b057a31ee04067459fe543f7d7ae1079 From: dpdklab@iol.unh.edu To: Test Report Cc: dpdk-test-reports@iol.unh.edu, Akhil Goyal Content-Type: text/plain X-BeenThere: test-report@dpdk.org X-Mailman-Version: 2.1.29 Precedence: list List-Id: automatic DPDK test reports List-Unsubscribe: , List-Archive: List-Post: List-Help: List-Subscribe: , Errors-To: test-report-bounces@dpdk.org _Testing PASS_ Branch: dpdk-next-crypto caa17cb4b057a31ee04067459fe543f7d7ae1079 --> testing pass Upstream job id: Generic-DPDK-Compile-Meson#430921 Test environment and result as below: +------------------------------+--------------------+ | Environment | dpdk_meson_compile | +==============================+====================+ | Red Hat Enterprise Linux 9.5 | PASS | +------------------------------+--------------------+ | Ubuntu 20.04 | PASS | +------------------------------+--------------------+ | Debian GNU/Linux 12 | PASS | +------------------------------+--------------------+ | Fedora Linux 42 | PASS | +------------------------------+--------------------+ | Ubuntu 22.04 | PASS | +------------------------------+--------------------+ | Ubuntu 24.04 | PASS | +------------------------------+--------------------+ | CentOS Stream 9 | PASS | +------------------------------+--------------------+ | CentOS Stream 10 | PASS | +------------------------------+--------------------+ Red Hat Enterprise Linux 9.5 Kernel: 5.4 Compiler: gcc gcc (GCC) 11.5.0 20240719 (Red Hat 11.5.0-2) Ubuntu 20.04 Kernel: 5.15 Compiler: aarch64-linux-gnu-gcc gcc (Ubuntu 9.4.0-1ubuntu1~20.04.2) 9.4.0 Debian GNU/Linux 12 Kernel: 5.4 Compiler: gcc gcc (Debian 12.2.0-14+deb12u1) 12.2.0 Fedora Linux 42 Kernel: 5.4 Compiler: gcc gcc (GCC) 15.2.1 20250808 (Red Hat 15.2.1-1) Ubuntu 22.04 Kernel: 5.4 Compiler: gcc gcc (Ubuntu 11.4.0-1ubuntu1~22.04) 11.4.0 Ubuntu 24.04 Kernel: 5.4 Compiler: gcc gcc (Ubuntu 13.3.0-6ubuntu2~24.04) 13.3.0 CentOS Stream 9 Kernel: 5.4 Compiler: gcc gcc (GCC) 11.5.0 20240719 (Red Hat 11.5.0-11) CentOS Stream 10 Kernel: 5.4 Compiler: gcc gcc (GCC) 14.2.1 20250110 (Red Hat 14.2.1-8) To view detailed results, visit: https://lab.dpdk.org/results/dashboard/tarballs/35079/ UNH-IOL DPDK Community Lab To manage your email subscriptions, visit: https://lab.dpdk.org/results/dashboard/preferences/subscriptions/