From mboxrd@z Thu Jan 1 00:00:00 1970 Return-Path: Received: from mails.dpdk.org (mails.dpdk.org [217.70.189.124]) by inbox.dpdk.org (Postfix) with ESMTP id D2585488B9 for ; Sun, 5 Oct 2025 10:45:13 +0200 (CEST) Received: from mails.dpdk.org (localhost [127.0.0.1]) by mails.dpdk.org (Postfix) with ESMTP id B5375402B9; Sun, 5 Oct 2025 10:45:13 +0200 (CEST) Received: from mail-pg1-f227.google.com (mail-pg1-f227.google.com [209.85.215.227]) by mails.dpdk.org (Postfix) with ESMTP id DD935402B9 for ; Sun, 5 Oct 2025 10:45:11 +0200 (CEST) Received: by mail-pg1-f227.google.com with SMTP id 41be03b00d2f7-b550eff972eso2573214a12.3 for ; Sun, 05 Oct 2025 01:45:11 -0700 (PDT) DKIM-Signature: v=1; a=rsa-sha256; c=relaxed/relaxed; d=iol.unh.edu; s=unh-iol; t=1759653911; x=1760258711; darn=dpdk.org; h=cc:to:from:subject:message-id:date:from:to:cc:subject:date :message-id:reply-to; bh=rfMv1rkwmupkS6wmXt1V9RokGcVSf6o3GN7SW7boWyU=; b=QelsGDeaBYNeRf9+G6qZKWxhi8W1DK9MGbOw6BehFqZAqS+1eH+6OIRaPE08TliE+C /yYvDWR9Ki0tCasb2A/0j/gD/o9bH8Ma/VGsTrm5E9AZNTIPi1zXkXdh6g3udqHgOp3h DxdeZ/40qL7wmapvren0TxcGlqQNMxlQUeuKA= X-Google-DKIM-Signature: v=1; a=rsa-sha256; c=relaxed/relaxed; d=1e100.net; s=20230601; t=1759653911; x=1760258711; h=cc:to:from:subject:message-id:date:x-gm-message-state:from:to:cc :subject:date:message-id:reply-to; bh=rfMv1rkwmupkS6wmXt1V9RokGcVSf6o3GN7SW7boWyU=; b=aGT6qdxZLdfsJkCcmJykGaSkHzV0VJD6kjlRD43FDdbPS8peKKMaFNgsHBvJcA5kBD HzVoPHxpoYCzZvbdSh5FXYQUiMnD9mTbS2lrFHqwq1JJlEBE84JxX48RPyiQtHA9vhcY Svm7PY0CnvXvxRs6xBWHFKbU7uNC52wL8y8vBlCqeRHc/DGqNQBjCFHOkxCcfA6suncj 2iksop9QE/5XB15l4wOlydFW36mqObYynN4hOqUGJaiejMsxe8ufQoTjFuliBflBV19k CMPpNSYBBHNGABRpAyD+04cYJY2L6p/Nm8Otcndvdd+yUF0QTQskWYpPhO0jqDZBQSku OvJQ== X-Gm-Message-State: AOJu0YxVTo9wrqXT5eCbBN+jg6yQdIqyFb/pbko8kEG12p6jpKcAbL4O +CDbeKVj7kWIbFq4vheFlgLcssmV4ho2qDQbtq8uIM+GBfyl8pDrpMzIjOBQZ/QoWB+EWVCYq6x k1Bh9KOblRKnFGAFuro9fOInuv7PMCSLzpZyT24Dzdyo/ X-Gm-Gg: ASbGncs6xyrHKgYotxC6mNhq9CfrJpe9TiOYqUEp36AmIcUWsfHegZHa4JcbTKxByiN 5dmUaBEDBfeLAiY4VMbGiW33ghLCJy3NMod30BE2z7PH2f5XVXCp4j/uY/u4JpsxhwsNNUQ1cQ+ wd1gWcEEsv0S+OKknYF3ORGoPKuSpTPtFhEWmi1sq3LPLtFF4FnEqkT6WnYwl8uOKGjkZVlQDl8 GxNksBEHaWmvgG64mcOWL6Ua6TNyqRdayXkdH/cSx/v6eg3YuxtcU8A1uQFNuPM9APG8hxNSr0+ TWJ8C1HDCSZ+q+uulNKGbqhcy44WWtTzlk/0lcFWDYwsLZbzezdkaCuqHqUIklLKnP7dGpmh2D7 EIg== X-Google-Smtp-Source: AGHT+IHcvmS179PYjip7FmQyQ0ieIO9ChfDC+FF9jhOHC95eIJgnG0ZPiRNTXjuMiJvdRX1yvFNSaMn8UO1w X-Received: by 2002:a17:902:d544:b0:25c:d4b6:f111 with SMTP id d9443c01a7336-28e9a65258fmr122261355ad.47.1759653910931; Sun, 05 Oct 2025 01:45:10 -0700 (PDT) Received: from postal.iol.unh.edu (postal.iol.unh.edu. [132.177.123.84]) by smtp-relay.gmail.com with ESMTPS id d9443c01a7336-28e8d1b2e5asm7720315ad.73.2025.10.05.01.45.10 (version=TLS1_2 cipher=ECDHE-ECDSA-AES128-GCM-SHA256 bits=128/128); Sun, 05 Oct 2025 01:45:10 -0700 (PDT) X-Relaying-Domain: iol.unh.edu Date: Sun, 05 Oct 2025 01:45:10 -0700 (PDT) Message-ID: <68e23016.170a0220.369f22.f5d2SMTPIN_ADDED_MISSING@mx.google.com> Received: from [172.21.0.3] (unknown [172.18.0.240]) by postal.iol.unh.edu (Postfix) with ESMTP id 294A46051830; Sun, 5 Oct 2025 04:45:10 -0400 (EDT) Subject: |SUCCESS| [GIT MASTER] 2ffda8c2e357662354ee6ddcca769258c33642a9 From: dpdklab@iol.unh.edu To: Test Report Cc: dpdk-test-reports@iol.unh.edu Content-Type: text/plain X-BeenThere: test-report@dpdk.org X-Mailman-Version: 2.1.29 Precedence: list List-Id: automatic DPDK test reports List-Unsubscribe: , List-Archive: List-Post: List-Help: List-Subscribe: , Errors-To: test-report-bounces@dpdk.org _Testing PASS_ Branch: dpdk 2ffda8c2e357662354ee6ddcca769258c33642a9 --> testing pass Upstream job id: Generic-DPDK-Compile-Meson#430964 Test environment and result as below: +------------------------------+--------------------+ | Environment | dpdk_meson_compile | +==============================+====================+ | Ubuntu 24.04 | PASS | +------------------------------+--------------------+ | Red Hat Enterprise Linux 9.5 | PASS | +------------------------------+--------------------+ | Ubuntu 20.04 | PASS | +------------------------------+--------------------+ | Debian GNU/Linux 12 | PASS | +------------------------------+--------------------+ | Fedora Linux 42 | PASS | +------------------------------+--------------------+ | Ubuntu 22.04 | PASS | +------------------------------+--------------------+ | CentOS Stream 9 | PASS | +------------------------------+--------------------+ | CentOS Stream 10 | PASS | +------------------------------+--------------------+ Ubuntu 24.04 Kernel: 5.4 Compiler: gcc gcc (Ubuntu 13.3.0-6ubuntu2~24.04) 13.3.0 Red Hat Enterprise Linux 9.5 Kernel: 5.4 Compiler: gcc gcc (GCC) 11.5.0 20240719 (Red Hat 11.5.0-2) Ubuntu 20.04 Kernel: 5.15 Compiler: aarch64-linux-gnu-gcc gcc (Ubuntu 9.4.0-1ubuntu1~20.04.2) 9.4.0 Debian GNU/Linux 12 Kernel: 5.4 Compiler: gcc gcc (Debian 12.2.0-14+deb12u1) 12.2.0 Fedora Linux 42 Kernel: 5.4 Compiler: gcc gcc (GCC) 15.2.1 20250808 (Red Hat 15.2.1-1) Ubuntu 22.04 Kernel: 5.4 Compiler: gcc gcc (Ubuntu 11.4.0-1ubuntu1~22.04) 11.4.0 CentOS Stream 9 Kernel: 5.4 Compiler: gcc gcc (GCC) 11.5.0 20240719 (Red Hat 11.5.0-11) CentOS Stream 10 Kernel: 5.4 Compiler: gcc gcc (GCC) 14.2.1 20250110 (Red Hat 14.2.1-8) To view detailed results, visit: https://lab.dpdk.org/results/dashboard/tarballs/35081/ UNH-IOL DPDK Community Lab To manage your email subscriptions, visit: https://lab.dpdk.org/results/dashboard/preferences/subscriptions/