From mboxrd@z Thu Jan 1 00:00:00 1970 Return-Path: Received: from mails.dpdk.org (mails.dpdk.org [217.70.189.124]) by inbox.dpdk.org (Postfix) with ESMTP id 07925488B9 for ; Sun, 5 Oct 2025 10:46:19 +0200 (CEST) Received: from mails.dpdk.org (localhost [127.0.0.1]) by mails.dpdk.org (Postfix) with ESMTP id 01709402B9; Sun, 5 Oct 2025 10:46:19 +0200 (CEST) Received: from mail-pl1-f228.google.com (mail-pl1-f228.google.com [209.85.214.228]) by mails.dpdk.org (Postfix) with ESMTP id 797B3402B9 for ; Sun, 5 Oct 2025 10:46:18 +0200 (CEST) Received: by mail-pl1-f228.google.com with SMTP id d9443c01a7336-27eceb38eb1so37966195ad.3 for ; Sun, 05 Oct 2025 01:46:18 -0700 (PDT) DKIM-Signature: v=1; a=rsa-sha256; c=relaxed/relaxed; d=iol.unh.edu; s=unh-iol; t=1759653977; x=1760258777; darn=dpdk.org; h=references:in-reply-to:cc:to:from:subject:message-id:date:from:to :cc:subject:date:message-id:reply-to; bh=mnXaiHwO9LAyyLDxqCAyEAsWLIid2LQbikRj1ulN6QA=; b=F9EAZK2qImPqgL/bX8hV5m3b6+Bdah0wXQEFImcjpjnh41Wt6DsxK9OhQbkbv7tFqT xLjhPpHb8kZPQrGQK/p1unuddzr0V+cTfHI9SkSOwST2CTKojVUpSmZiF7WKYcXZH5lY pXw1W/bj3i8cGMa0YhBqAqXruIg0ODZ2ZGtNg= X-Google-DKIM-Signature: v=1; a=rsa-sha256; c=relaxed/relaxed; d=1e100.net; s=20230601; t=1759653977; x=1760258777; h=references:in-reply-to:cc:to:from:subject:message-id:date :x-gm-message-state:from:to:cc:subject:date:message-id:reply-to; bh=mnXaiHwO9LAyyLDxqCAyEAsWLIid2LQbikRj1ulN6QA=; b=Py9VNRijuchsfbw/lRZBZVXdcd4COJn2wY3sxv41hFILaenRZwASKjpQ5dVCMDxw+W wDLBI+jcNGhoERGsloIYtpuBuoNN67rCqHCzBMs/VjDIXfVJ/MTZQzwssjlf2etZsj2T K2ZNUoSyyLYMAHYGT13Urz2udAG97/Fyka139Wqd46BAyGg+rp1Q+i/1aQRnlgWQsbHL JaHau85IqrA3fS4dxO7Z+h8qA1+ScQ0yQO6cqUKC05y4FT5T1oYyyXEteFNu2dTkWcGO XhPtD+JuJvIhtyOZyMIb4ciWQWuIrGI3J+IwloeqrQaqnpQL1vl30+zcsw2ElKOUp9Dt kP6Q== X-Gm-Message-State: AOJu0YyaeDKZZbC3lFqd+2ZqHrQjR8iBDTpx6XlExijtwkDLHJavlTpH nqjpWWB+HFDzBzyj/sTtlZVZZNTJ9xwJkToez4wGXy6sCymc41sUdEZkfcj5zmqJrprtsdws0gZ lbrr+6/KOcoiDJDZ4/wxxzkOUGMSKax0+56Eiu/IQSOTwC3tTMxfeN4KrtDqF X-Gm-Gg: ASbGncvhvNtZW58vfzMGxaeaGKtGBSXjMLx3X6fi9gLFItBMZkE8jaaMeCh5A04L/1k YivQmAPre25fqudI8lqNbqlxfj98RiFw4U8oJp/jmObQYeGhoxUaxqzb3f5w62hKlrRhYJwtJEz mK5FkmY8l6pN25iVwhjYSZwBPiwUutY6T30FvH2Dd+u88n0tdyN4b8IIfj879E2zz21Xwgrk/nv wtTtigeTb0yyT4U8BifR2GDADxTmVGESadgkB9U2BH+a1ySIb927NGVRy1r2aw2y3JvDCizCZCs bsaPiRd09j0psF+XQ5eX5N5mgzRzTFDxIbqTxv4YxL9WY4pPul/nY9w= X-Google-Smtp-Source: AGHT+IFKNK/qpdvLJoCu26/etH1ctxlF/hlKq5Uk5Qnlo1gsp7KpXwYKbKez6YoIKL3hN/QrpiUek5KwDOFL X-Received: by 2002:a17:903:1b70:b0:270:4aa8:2dcc with SMTP id d9443c01a7336-28e9a546456mr101360725ad.19.1759653977630; Sun, 05 Oct 2025 01:46:17 -0700 (PDT) Received: from postal.iol.unh.edu (postal.iol.unh.edu. [2606:4100:3880:1234::84]) by smtp-relay.gmail.com with ESMTPS id d9443c01a7336-28e8d180abfsm8055085ad.45.2025.10.05.01.46.17 (version=TLS1_2 cipher=ECDHE-ECDSA-AES128-GCM-SHA256 bits=128/128); Sun, 05 Oct 2025 01:46:17 -0700 (PDT) X-Relaying-Domain: iol.unh.edu Date: Sun, 05 Oct 2025 01:46:17 -0700 (PDT) Message-ID: <68e23059.170a0220.2edee9.c5e9SMTPIN_ADDED_MISSING@mx.google.com> Received: from [172.21.0.5] (unknown [172.18.0.240]) by postal.iol.unh.edu (Postfix) with ESMTP id D631F6051830; Sun, 5 Oct 2025 04:46:16 -0400 (EDT) Subject: |SUCCESS| pw157202-157204 [PATCH] [v4,3/3] dts: add performance test From: dpdklab@iol.unh.edu To: Test Report Cc: dpdk-test-reports@iol.unh.edu In-Reply-To: <20251001231659.2297751-4-probb@iol.unh.edu> References: <20251001231659.2297751-4-probb@iol.unh.edu> Content-Type: text/plain X-BeenThere: test-report@dpdk.org X-Mailman-Version: 2.1.29 Precedence: list List-Id: automatic DPDK test reports List-Unsubscribe: , List-Archive: List-Post: List-Help: List-Subscribe: , Errors-To: test-report-bounces@dpdk.org Test-Label: iol-compile-arm64-testing Test-Status: SUCCESS http://dpdk.org/patch/157204 _Testing PASS_ Submitter: Patrick Robb Date: Wednesday, October 01 2025 23:16:59 DPDK git baseline: Repo:dpdk-next-dts Branch: master CommitID:b71d7bdf2b663f9fedc1d344b81a8cf65518026c 157202-157204 --> testing pass Upstream job id: Generic-DPDK-Compile-Meson#430941 Test environment and result as below: +------------------------------+--------------------+ | Environment | dpdk_meson_compile | +==============================+====================+ | Ubuntu 20.04 | PASS | +------------------------------+--------------------+ | CentOS Stream 9 | PASS | +------------------------------+--------------------+ | Red Hat Enterprise Linux 9.5 | PASS | +------------------------------+--------------------+ | Debian GNU/Linux 12 | PASS | +------------------------------+--------------------+ | Fedora Linux 42 | PASS | +------------------------------+--------------------+ | Ubuntu 22.04 | PASS | +------------------------------+--------------------+ | Ubuntu 24.04 | PASS | +------------------------------+--------------------+ | CentOS Stream 10 | PASS | +------------------------------+--------------------+ Ubuntu 20.04 Kernel: 5.15 Compiler: gcc gcc (Ubuntu 9.4.0-1ubuntu1~20.04.2) 9.4.0 CentOS Stream 9 Kernel: 5.4 Compiler: gcc gcc (GCC) 11.5.0 20240719 (Red Hat 11.5.0-11) Red Hat Enterprise Linux 9.5 Kernel: 5.4 Compiler: gcc gcc (GCC) 11.5.0 20240719 (Red Hat 11.5.0-2) Debian GNU/Linux 12 Kernel: 5.4 Compiler: gcc gcc (Debian 12.2.0-14+deb12u1) 12.2.0 Fedora Linux 42 Kernel: 5.4 Compiler: gcc gcc (GCC) 15.2.1 20250808 (Red Hat 15.2.1-1) Ubuntu 22.04 Kernel: 5.4 Compiler: gcc gcc (Ubuntu 11.4.0-1ubuntu1~22.04) 11.4.0 Ubuntu 24.04 Kernel: 5.4 Compiler: gcc gcc (Ubuntu 13.3.0-6ubuntu2~24.04) 13.3.0 CentOS Stream 10 Kernel: 5.4 Compiler: gcc gcc (GCC) 14.2.1 20250110 (Red Hat 14.2.1-8) To view detailed results, visit: https://lab.dpdk.org/results/dashboard/patchsets/34197/ UNH-IOL DPDK Community Lab To manage your email subscriptions, visit: https://lab.dpdk.org/results/dashboard/preferences/subscriptions/