From mboxrd@z Thu Jan 1 00:00:00 1970 Return-Path: Received: from mails.dpdk.org (mails.dpdk.org [217.70.189.124]) by inbox.dpdk.org (Postfix) with ESMTP id D5181488B9 for ; Sun, 5 Oct 2025 11:31:21 +0200 (CEST) Received: from mails.dpdk.org (localhost [127.0.0.1]) by mails.dpdk.org (Postfix) with ESMTP id D0206402B9; Sun, 5 Oct 2025 11:31:21 +0200 (CEST) Received: from mail-pj1-f99.google.com (mail-pj1-f99.google.com [209.85.216.99]) by mails.dpdk.org (Postfix) with ESMTP id 00908402C4 for ; Sun, 5 Oct 2025 11:31:19 +0200 (CEST) Received: by mail-pj1-f99.google.com with SMTP id 98e67ed59e1d1-339c9bf3492so2443794a91.2 for ; Sun, 05 Oct 2025 02:31:19 -0700 (PDT) DKIM-Signature: v=1; a=rsa-sha256; c=relaxed/relaxed; d=iol.unh.edu; s=unh-iol; t=1759656679; x=1760261479; darn=dpdk.org; h=cc:to:from:subject:message-id:date:from:to:cc:subject:date :message-id:reply-to; bh=cCID9LXhAD2HE1kDpvo0TSqgdS1YBaeg9q2bZ800328=; b=KhvUTvMUeCLUCvQ9jmvsXgAl/nttY+A3QMEyJ4PL4zU35T7S965ZIUTYk478CKNhs3 p0UTlIh5CaxOe5V8ezQG526t6q4GQMMCdw4iBosnsyjIWpbaN7kYkQL/rThrjuQuMQqi uYoPnp5ob1ETZiU1zONw/CQZ15dq91b8tmKaQ= X-Google-DKIM-Signature: v=1; a=rsa-sha256; c=relaxed/relaxed; d=1e100.net; s=20230601; t=1759656679; x=1760261479; h=cc:to:from:subject:message-id:date:x-gm-message-state:from:to:cc :subject:date:message-id:reply-to; bh=cCID9LXhAD2HE1kDpvo0TSqgdS1YBaeg9q2bZ800328=; b=lO+g68euB7Bk0LLgqNn/Z4+TvRT9Rk2oSn284isJ/UaTWuvMG3yWr0PZyVWfgdBjK0 Jfos5lwH5BUW6EzVpXZhK6/+Hl1wk9pzt6gqc+WBwdYwcpOHMgeEDxQmHRXkSMHIyMkY QWCiVYJD9i6XiU0g1+E1SbD/hkQaW1+NoXovIVyt65gLhl9OwwFyRyAvDkRyR6zwrH1w YXJqktQKVK+bngBuatI57ARbQ0ZJI4xfTcZzFjTcfbBuoKDRRsH6qccgMuGZGT14e1oW Wp2aI3WkyksFOJ6CV3p2dS31XTKVZvGnBb/8I+2YCxPXNenzUx2fmDjhU4R9elU3X79M Xs2Q== X-Gm-Message-State: AOJu0Yz1YAX0cFWTQRv5tCSk3OdYp1fl/31FfKsQZsyosarxlbBD2k9O d3ZHjmrwESVJ+YagI5Xr5PSkjYyr6x7ilGGcVL85YXbzwizZwdRrtrjzn5Jz9lY+yRi9OJ4Yowb 1xobnLt5wgW1jViNqKIlVfqxonvLmzPYjXMD9v3QfH7ml X-Gm-Gg: ASbGncvD8Lk2ysY3NDqkdf4NytMYY7iP5CLqGjqJvrvf5s4FQWUDcaOEsdNfyO1/yJ/ wZFhvmC55LxsJGWfB0zfhJqSJWH1gfNir2OkRwX+FG0G66wd5mykXORgPuxgnBndzZqkxitYpnb +qYIDSHkshAmt0ppa7PECvmQW2xO9kTGXYDSGeBaJOhClwI37Z/nV/Eh3r7DcIkGxKUx7nS/3Xd djHNQ2xR5j/v/XQrAsSYhzYSV4wKvOnJ62+zDgGc1d1302unSDbeRenUvkrOj64NcbkPlBM+gzT 8kjKE+Yf1H5b5s3QZQw040RzDtAIXo0k7hYA3Wqp1OYWzB32X6ps8iZloGFRRYFVJXkVUKhiMrb suA== X-Google-Smtp-Source: AGHT+IG9InRhg38veg5HsUEK86xdTBHxU0TZDfXCWd3ID+ZnzDNgcQ6GAxXBYI2X8O7zIgIp7lMkrsCdXZj4 X-Received: by 2002:a17:903:3c24:b0:24e:593b:d107 with SMTP id d9443c01a7336-28e9a693f6bmr101279805ad.32.1759656679130; Sun, 05 Oct 2025 02:31:19 -0700 (PDT) Received: from postal.iol.unh.edu (postal.iol.unh.edu. [132.177.123.84]) by smtp-relay.gmail.com with ESMTPS id 98e67ed59e1d1-339a6f6d34bsm1126935a91.5.2025.10.05.02.31.19 (version=TLS1_2 cipher=ECDHE-ECDSA-AES128-GCM-SHA256 bits=128/128); Sun, 05 Oct 2025 02:31:19 -0700 (PDT) X-Relaying-Domain: iol.unh.edu Date: Sun, 05 Oct 2025 02:31:19 -0700 (PDT) Message-ID: <68e23ae7.170a0220.c9dd8.d94eSMTPIN_ADDED_MISSING@mx.google.com> Received: from [172.21.0.2] (unknown [172.18.0.240]) by postal.iol.unh.edu (Postfix) with ESMTP id 68DDE6051830; Sun, 5 Oct 2025 05:31:18 -0400 (EDT) Subject: |SUCCESS| [GIT MASTER] e7d8cc7ef4df3552575525697079d3c957cfcdaf From: dpdklab@iol.unh.edu To: Test Report Cc: dpdk-test-reports@iol.unh.edu, Bruce Richardson Content-Type: text/plain X-BeenThere: test-report@dpdk.org X-Mailman-Version: 2.1.29 Precedence: list List-Id: automatic DPDK test reports List-Unsubscribe: , List-Archive: List-Post: List-Help: List-Subscribe: , Errors-To: test-report-bounces@dpdk.org _Testing PASS_ Branch: dpdk-next-net-intel e7d8cc7ef4df3552575525697079d3c957cfcdaf --> testing pass Upstream job id: Generic-DPDK-Compile-Meson#431051 Test environment and result as below: +-------------------------------+--------------------+-------------------------+-------------------+----------------------+-------------------+------------------+ | Environment | dpdk_meson_compile | dpdk_llvm_clang_compile | dpdk_msvc_compile | dpdk_mingw64_compile | dpdk_compile_spdk | dpdk_compile_ovs | +===============================+====================+=========================+===================+======================+===================+==================+ | Ubuntu 20.04 | PASS | SKIPPED | SKIPPED | SKIPPED | SKIPPED | SKIPPED | +-------------------------------+--------------------+-------------------------+-------------------+----------------------+-------------------+------------------+ | FreeBSD 14.2 | PASS | SKIPPED | SKIPPED | SKIPPED | SKIPPED | SKIPPED | +-------------------------------+--------------------+-------------------------+-------------------+----------------------+-------------------+------------------+ | CentOS Stream 9 | PASS | SKIPPED | SKIPPED | SKIPPED | PASS | SKIPPED | +-------------------------------+--------------------+-------------------------+-------------------+----------------------+-------------------+------------------+ | CentOS Stream 10 | PASS | SKIPPED | SKIPPED | SKIPPED | SKIPPED | SKIPPED | +-------------------------------+--------------------+-------------------------+-------------------+----------------------+-------------------+------------------+ | Debian GNU/Linux 12 | PASS | SKIPPED | SKIPPED | SKIPPED | PASS | SKIPPED | +-------------------------------+--------------------+-------------------------+-------------------+----------------------+-------------------+------------------+ | Fedora Linux 42 | PASS | SKIPPED | SKIPPED | SKIPPED | PASS | PASS | +-------------------------------+--------------------+-------------------------+-------------------+----------------------+-------------------+------------------+ | openSUSE Leap 15.6 | PASS | SKIPPED | SKIPPED | SKIPPED | SKIPPED | SKIPPED | +-------------------------------+--------------------+-------------------------+-------------------+----------------------+-------------------+------------------+ | Red Hat Enterprise Linux 8.10 | PASS | SKIPPED | SKIPPED | SKIPPED | SKIPPED | SKIPPED | +-------------------------------+--------------------+-------------------------+-------------------+----------------------+-------------------+------------------+ | Red Hat Enterprise Linux 9.5 | PASS | SKIPPED | SKIPPED | SKIPPED | SKIPPED | SKIPPED | +-------------------------------+--------------------+-------------------------+-------------------+----------------------+-------------------+------------------+ | Ubuntu 22.04 | PASS | SKIPPED | SKIPPED | SKIPPED | PASS | SKIPPED | +-------------------------------+--------------------+-------------------------+-------------------+----------------------+-------------------+------------------+ | Ubuntu 24.04 | PASS | SKIPPED | SKIPPED | SKIPPED | PASS | PASS | +-------------------------------+--------------------+-------------------------+-------------------+----------------------+-------------------+------------------+ | Alpine Linux 3.22.0 | PASS | SKIPPED | SKIPPED | SKIPPED | SKIPPED | SKIPPED | +-------------------------------+--------------------+-------------------------+-------------------+----------------------+-------------------+------------------+ | Windows Server 2022 | SKIPPED | PASS | PASS | PASS | SKIPPED | SKIPPED | +-------------------------------+--------------------+-------------------------+-------------------+----------------------+-------------------+------------------+ Ubuntu 20.04 Kernel: 4.19 Compiler: gcc gcc (Ubuntu 9.4.0-1ubuntu1~20.04.2) 9.4.0 FreeBSD 14.2 Kernel: 14.2-RELEASE Compiler: clang 18.1.6 CentOS Stream 9 Kernel: 5.15 Compiler: gcc gcc (GCC) 11.5.0 20240719 (Red Hat 11.5.0-11) CentOS Stream 10 Kernel: 5.15 Compiler: gcc gcc (GCC) 14.2.1 20250110 (Red Hat 14.2.1-8) Debian GNU/Linux 12 Kernel: 5.15 Compiler: gcc gcc (Debian 12.2.0-14+deb12u1) 12.2.0 Fedora Linux 42 Kernel: 5.15 Compiler: clang gcc (GCC) 15.2.1 20250808 (Red Hat 15.2.1-1) openSUSE Leap 15.6 Kernel: 5.15 Compiler: gcc gcc (SUSE Linux) 7.5.0 Red Hat Enterprise Linux 8.10 Kernel: 5.15 Compiler: gcc gcc (GCC) 8.5.0 20210514 (Red Hat 8.5.0-22) Red Hat Enterprise Linux 9.5 Kernel: 5.15 Compiler: gcc gcc (GCC) 11.5.0 20240719 (Red Hat 11.5.0-2) Ubuntu 22.04 Kernel: 5.15 Compiler: gcc gcc (Ubuntu 11.4.0-1ubuntu1~22.04) 11.4.0 Ubuntu 24.04 Kernel: 5.15 Compiler: gcc gcc (Ubuntu 13.3.0-6ubuntu2~24.04) 13.3.0 Alpine Linux 3.22.0 Kernel: 5.15 Compiler: gcc gcc (Alpine 14.2.0) 14.2.0 Windows Server 2022 Kernel: 10.0.20348.2031 Compiler: clang 15.0.7, gcc 14.1.0 (MinGW), and MSVC VS 19.39.33521 To view detailed results, visit: https://lab.dpdk.org/results/dashboard/tarballs/35085/ UNH-IOL DPDK Community Lab To manage your email subscriptions, visit: https://lab.dpdk.org/results/dashboard/preferences/subscriptions/