From mboxrd@z Thu Jan 1 00:00:00 1970 Return-Path: Received: from mails.dpdk.org (mails.dpdk.org [217.70.189.124]) by inbox.dpdk.org (Postfix) with ESMTP id 05C34488B9 for ; Sun, 5 Oct 2025 11:56:07 +0200 (CEST) Received: from mails.dpdk.org (localhost [127.0.0.1]) by mails.dpdk.org (Postfix) with ESMTP id D6108402B9; Sun, 5 Oct 2025 11:56:07 +0200 (CEST) Received: from mail-yx1-f98.google.com (mail-yx1-f98.google.com [74.125.224.98]) by mails.dpdk.org (Postfix) with ESMTP id F2045402B9 for ; Sun, 5 Oct 2025 11:56:05 +0200 (CEST) Received: by mail-yx1-f98.google.com with SMTP id 956f58d0204a3-6352a77add0so5102371d50.1 for ; Sun, 05 Oct 2025 02:56:05 -0700 (PDT) DKIM-Signature: v=1; a=rsa-sha256; c=relaxed/relaxed; d=iol.unh.edu; s=unh-iol; t=1759658165; x=1760262965; darn=dpdk.org; h=references:in-reply-to:cc:to:from:subject:message-id:date:from:to :cc:subject:date:message-id:reply-to; bh=slIbzY7BWgMj6uI6BEJBgqRkX2uLmZuzGkGpe3za9oo=; b=aH7l4BFAa6r6JoUPdBtPaNskejQ7oOAih95uqofLiF4aJiw0GwYv/k7M0oDrM1TBQ2 u1yFEC08IGS1Ogs30Vu52YFLwAR9RzYxf/ORrRXYsIZg7qDUmkeZ5/hrLJ7reecD38EN s3uGfWwMgut/xbL3X01XWvpefrI4wF4xuEyww= X-Google-DKIM-Signature: v=1; a=rsa-sha256; c=relaxed/relaxed; d=1e100.net; s=20230601; t=1759658165; x=1760262965; h=references:in-reply-to:cc:to:from:subject:message-id:date :x-gm-message-state:from:to:cc:subject:date:message-id:reply-to; bh=slIbzY7BWgMj6uI6BEJBgqRkX2uLmZuzGkGpe3za9oo=; b=I66Xvf0SOhphqefz5WZ7dMXRjd/sbejrJV2+I1URURkEDPZMVBe8SuaZQS4nDEvwlF qxdwZN/kXnLJeK3tF7I5bnKfJqVLnHDqxeuDdZGi6QrqaklxlSlRhcoYIzxWqEjIFuZs Igc+7ksmKp6lrhAgD7SXbzFOyjxMMIKHyIr8k6dlPi3Ifq1fd01LGt/costpoLgKLR15 nbe7SpZiBd1UpvRIFmvgSnfX5gTAi0jdpQhzw4n+iAkmwnlM1KoQS3sNVHp1vUvEDwBS AAdTzKjyRblQFbR9y1cgWzZVE2wo45fxWSDOuEbm1ZeCYCgSPkU12pmNmzUDxhtnwrsz OzoQ== X-Gm-Message-State: AOJu0YyYalqcjnyjr7woeyuMERGxx2ITqVOeTb4NrSlI7up4TLQW1+4m zmyxG9+2U2CuzMi1dHS/BUoW1LgIXEeGE9cyduj1eQ77gB2HTbp6UYkz8k36Bch0JXzdiLI5aL5 xIPPyQmIsIIHc4lGLDeOcVn4b1vApFcTENfaatoQwF8zPR5sac9YuvnownyhK X-Gm-Gg: ASbGncun68y2tiw+xSMfGJGwUvjo+cGgmWC+jRs8qjZJky2zTZV4L7xtoTmhhNgMeBr 2RrU2FR8hHNmk6MI9S5w11xlHRdesrSAtUullGKaRF/RCY5wHCO1Gzzh2JWhi1MfGn1C8JvnZOM 6V1GfiELhl2kvX9uxOuEczp8VyR/V0129yxZI3s8nMRINd7BMDhxYyWM2JqzhCwEF6DULcpifr7 SsUc0BRSEyI2wdeDmMOGks6+2VGI7RZRk/XJvvHn9F45r5xMUqbuwEHESpZZqIJe1g9TQwDF/ep KFE2HrcPZFYJi3wdZsgSdmYwMfviYAuaZN9bzVCddRvf6SDvC6AAsLA= X-Google-Smtp-Source: AGHT+IElU1B9KxKCjyPinJckC9yNyXqvx0AwB4VwAcaSUehhNwvHGqEy+zSRlh5ENL/qiOlJwfXiZChfZj6Y X-Received: by 2002:a53:a0ca:0:b0:633:ab16:f82c with SMTP id 956f58d0204a3-63b9a0701b0mr6536501d50.18.1759658165040; Sun, 05 Oct 2025 02:56:05 -0700 (PDT) Received: from postal.iol.unh.edu (postal.iol.unh.edu. [2606:4100:3880:1234::84]) by smtp-relay.gmail.com with ESMTPS id 00721157ae682-77f81d0265esm6009537b3.19.2025.10.05.02.56.04 (version=TLS1_2 cipher=ECDHE-ECDSA-AES128-GCM-SHA256 bits=128/128); Sun, 05 Oct 2025 02:56:05 -0700 (PDT) X-Relaying-Domain: iol.unh.edu Date: Sun, 05 Oct 2025 02:56:05 -0700 (PDT) Message-ID: <68e240b5.050a0220.125f42.0d05SMTPIN_ADDED_MISSING@mx.google.com> Received: from [172.21.0.2] (unknown [172.18.0.240]) by postal.iol.unh.edu (Postfix) with ESMTP id 6B5136051830; Sun, 5 Oct 2025 05:56:04 -0400 (EDT) Subject: |SUCCESS| pw157207-157208 [PATCH] [v6,2/2] crypto/ipsec-mb: use cons From: dpdklab@iol.unh.edu To: Test Report Cc: dpdk-test-reports@iol.unh.edu In-Reply-To: <20251002153229.98158-2-kai.ji@intel.com> References: <20251002153229.98158-2-kai.ji@intel.com> Content-Type: text/plain X-BeenThere: test-report@dpdk.org X-Mailman-Version: 2.1.29 Precedence: list List-Id: automatic DPDK test reports List-Unsubscribe: , List-Archive: List-Post: List-Help: List-Subscribe: , Errors-To: test-report-bounces@dpdk.org Test-Label: iol-compile-amd64-testing Test-Status: SUCCESS http://dpdk.org/patch/157208 _Testing PASS_ Submitter: Kai Ji Date: Thursday, October 02 2025 15:32:29 DPDK git baseline: Repo:dpdk Branch: master CommitID:76393b98bf67f94dc6aa23cf5016c32571899261 157207-157208 --> testing pass Upstream job id: Generic-DPDK-Compile-Meson#431088 Test environment and result as below: +-------------------------------+--------------------+-------------------------+-------------------+----------------------+-------------------+------------------+ | Environment | dpdk_meson_compile | dpdk_llvm_clang_compile | dpdk_msvc_compile | dpdk_mingw64_compile | dpdk_compile_spdk | dpdk_compile_ovs | +===============================+====================+=========================+===================+======================+===================+==================+ | Ubuntu 20.04 | PASS | SKIPPED | SKIPPED | SKIPPED | SKIPPED | SKIPPED | +-------------------------------+--------------------+-------------------------+-------------------+----------------------+-------------------+------------------+ | FreeBSD 14.2 | PASS | SKIPPED | SKIPPED | SKIPPED | SKIPPED | SKIPPED | +-------------------------------+--------------------+-------------------------+-------------------+----------------------+-------------------+------------------+ | CentOS Stream 9 | PASS | SKIPPED | SKIPPED | SKIPPED | PASS | SKIPPED | +-------------------------------+--------------------+-------------------------+-------------------+----------------------+-------------------+------------------+ | CentOS Stream 10 | PASS | SKIPPED | SKIPPED | SKIPPED | SKIPPED | SKIPPED | +-------------------------------+--------------------+-------------------------+-------------------+----------------------+-------------------+------------------+ | Debian GNU/Linux 12 | PASS | SKIPPED | SKIPPED | SKIPPED | PASS | SKIPPED | +-------------------------------+--------------------+-------------------------+-------------------+----------------------+-------------------+------------------+ | Fedora Linux 42 | PASS | SKIPPED | SKIPPED | SKIPPED | PASS | PASS | +-------------------------------+--------------------+-------------------------+-------------------+----------------------+-------------------+------------------+ | openSUSE Leap 15.6 | PASS | SKIPPED | SKIPPED | SKIPPED | SKIPPED | SKIPPED | +-------------------------------+--------------------+-------------------------+-------------------+----------------------+-------------------+------------------+ | Red Hat Enterprise Linux 8.10 | PASS | SKIPPED | SKIPPED | SKIPPED | SKIPPED | SKIPPED | +-------------------------------+--------------------+-------------------------+-------------------+----------------------+-------------------+------------------+ | Red Hat Enterprise Linux 9.5 | PASS | SKIPPED | SKIPPED | SKIPPED | SKIPPED | SKIPPED | +-------------------------------+--------------------+-------------------------+-------------------+----------------------+-------------------+------------------+ | Ubuntu 22.04 | PASS | SKIPPED | SKIPPED | SKIPPED | PASS | SKIPPED | +-------------------------------+--------------------+-------------------------+-------------------+----------------------+-------------------+------------------+ | Ubuntu 24.04 | PASS | SKIPPED | SKIPPED | SKIPPED | PASS | PASS | +-------------------------------+--------------------+-------------------------+-------------------+----------------------+-------------------+------------------+ | Alpine Linux 3.22.0 | PASS | SKIPPED | SKIPPED | SKIPPED | SKIPPED | SKIPPED | +-------------------------------+--------------------+-------------------------+-------------------+----------------------+-------------------+------------------+ | Windows Server 2022 | SKIPPED | PASS | PASS | PASS | SKIPPED | SKIPPED | +-------------------------------+--------------------+-------------------------+-------------------+----------------------+-------------------+------------------+ Ubuntu 20.04 Kernel: 4.19 Compiler: gcc gcc (Ubuntu 9.4.0-1ubuntu1~20.04.2) 9.4.0 FreeBSD 14.2 Kernel: 14.2-RELEASE Compiler: clang 18.1.6 CentOS Stream 9 Kernel: 5.15 Compiler: gcc gcc (GCC) 11.5.0 20240719 (Red Hat 11.5.0-11) CentOS Stream 10 Kernel: 5.15 Compiler: gcc gcc (GCC) 14.2.1 20250110 (Red Hat 14.2.1-8) Debian GNU/Linux 12 Kernel: 5.15 Compiler: gcc gcc (Debian 12.2.0-14+deb12u1) 12.2.0 Fedora Linux 42 Kernel: 5.15 Compiler: clang gcc (GCC) 15.2.1 20250808 (Red Hat 15.2.1-1) openSUSE Leap 15.6 Kernel: 5.15 Compiler: gcc gcc (SUSE Linux) 7.5.0 Red Hat Enterprise Linux 8.10 Kernel: 5.15 Compiler: gcc gcc (GCC) 8.5.0 20210514 (Red Hat 8.5.0-22) Red Hat Enterprise Linux 9.5 Kernel: 5.15 Compiler: gcc gcc (GCC) 11.5.0 20240719 (Red Hat 11.5.0-2) Ubuntu 22.04 Kernel: 5.15 Compiler: gcc gcc (Ubuntu 11.4.0-1ubuntu1~22.04) 11.4.0 Ubuntu 24.04 Kernel: 5.15 Compiler: gcc gcc (Ubuntu 13.3.0-6ubuntu2~24.04) 13.3.0 Alpine Linux 3.22.0 Kernel: 5.15 Compiler: gcc gcc (Alpine 14.2.0) 14.2.0 Windows Server 2022 Kernel: 10.0.20348.2031 Compiler: clang 15.0.7, gcc 14.1.0 (MinGW), and MSVC VS 19.39.33521 To view detailed results, visit: https://lab.dpdk.org/results/dashboard/patchsets/34199/ UNH-IOL DPDK Community Lab To manage your email subscriptions, visit: https://lab.dpdk.org/results/dashboard/preferences/subscriptions/