From mboxrd@z Thu Jan 1 00:00:00 1970 Return-Path: Received: from mails.dpdk.org (mails.dpdk.org [217.70.189.124]) by inbox.dpdk.org (Postfix) with ESMTP id 92937488BA for ; Sun, 5 Oct 2025 12:23:36 +0200 (CEST) Received: from mails.dpdk.org (localhost [127.0.0.1]) by mails.dpdk.org (Postfix) with ESMTP id 6C654402C0; Sun, 5 Oct 2025 12:23:36 +0200 (CEST) Received: from mail-yw1-f227.google.com (mail-yw1-f227.google.com [209.85.128.227]) by mails.dpdk.org (Postfix) with ESMTP id 0935B402C0 for ; Sun, 5 Oct 2025 12:23:34 +0200 (CEST) Received: by mail-yw1-f227.google.com with SMTP id 00721157ae682-71d60528734so43260767b3.2 for ; Sun, 05 Oct 2025 03:23:34 -0700 (PDT) DKIM-Signature: v=1; a=rsa-sha256; c=relaxed/relaxed; d=iol.unh.edu; s=unh-iol; t=1759659814; x=1760264614; darn=dpdk.org; h=references:in-reply-to:cc:to:from:subject:message-id:date:from:to :cc:subject:date:message-id:reply-to; bh=d+mmCWKVSsRaPjnkEZWz/bHGwmLoXQL32TKM2fHwXXI=; b=O5UWI7ruhNyP/vR/XdqIEUOJadTIabW/9W7frHRJfPquIJOXhUeB+WfQtRQ1RFUhH8 DVh2f7nnyZF4shvarriPwPhjJXe3YWRjefxdJz+JTwaW7qKWUlOX4xTBRGj6/NOJBIz+ HiybmyALZlg6eqsdvFKaC5ORORtB2VzvB9HsQ= X-Google-DKIM-Signature: v=1; a=rsa-sha256; c=relaxed/relaxed; d=1e100.net; s=20230601; t=1759659814; x=1760264614; h=references:in-reply-to:cc:to:from:subject:message-id:date :x-gm-message-state:from:to:cc:subject:date:message-id:reply-to; bh=d+mmCWKVSsRaPjnkEZWz/bHGwmLoXQL32TKM2fHwXXI=; b=aNunJRcxu3wUJ32xy2mDw92eiGcFytMIj/5yoCkHBj2vL46Qqy1APijCG0BEjtGnTs vl0VdJ5Hh0otC92/egtOi7+8LvmOF49MG42R27fHNu9RtLfbos6P5ePxwOeCJkspVJHP inkNk/JcVaCttDokKYclIH+3gWDrNF417Ki9zh+NH42TiDVNZ5NITgR70NgoTl4mpdE7 r9MmkAs9aSF7GUC+yLSsQx/dSu1lvtmd/INZU3zz+RNvD9yWOJ4Yd6/Z2OpCHxDGP9KJ m/ElctCXXi73qMWyegzpTpDeFRIEoihQrbBamewfCD7JW1H6OdoQNSknASu3fgwD/eRH hJ/A== X-Gm-Message-State: AOJu0YwhZAuNFeJySRmGTgvBknQLnLtZyqz5OHXTtmZAy0lNyP57KQzc 3nxaYxUYycGkCL373oJPD7eazfSMBAWmlUGl2FvMWVHk5WCM0UMWkQcZN9T+tYwcWbdlrh6G1vu dhcVQ6kn34lN7f3FUEn+Cg8oDfVwwEQr/6r3ngWtJFFAH1ZtcyX7OzSlBOTN/ X-Gm-Gg: ASbGncu8Fmt+finsIFQ4qig2a0ZcdTJ99q29IvB9If5gCQMMngz66zG8gNWJx4hPMZx 6ltOFLAKiEXLckmCSPWUE4n9zbrMJqA2yYk8Y1J5SzAT3ugqUVF21CE3QuuTQF2MQBS6bMoOMeD 6MoIUNGIaHW7WWSWhUN+IDVNevqGUA2gCMI5Xq4zw5xEj0fAi7MHgV8mpY1aNap2Qt8WzF6hptS H/DO6bO8JKD6L8d2qRdT92CJzY4P2enb3MOIVecKOYRqQbNL3RcU5lSbi4K+0q7yij9RopGRg/0 Ajh39FsjBLNP+X+Qw3jIGES0fUq1fSuNVCYnbRg97U/zE0QPM0X9ArI= X-Google-Smtp-Source: AGHT+IGm7Ob86/DMCj6H8dSO5JhQMpibojJsq0yKS8xs4MVddOCnv9/rkWkMQZfFz1Q+2SJiFFkjo/R3PWLL X-Received: by 2002:a0d:d3c7:0:b0:77f:949a:d08e with SMTP id 00721157ae682-77f949ad425mr88539447b3.26.1759659814232; Sun, 05 Oct 2025 03:23:34 -0700 (PDT) Received: from postal.iol.unh.edu (postal.iol.unh.edu. [2606:4100:3880:1234::84]) by smtp-relay.gmail.com with ESMTPS id 00721157ae682-77f81c35a5esm5958867b3.15.2025.10.05.03.23.34 (version=TLS1_2 cipher=ECDHE-ECDSA-AES128-GCM-SHA256 bits=128/128); Sun, 05 Oct 2025 03:23:34 -0700 (PDT) X-Relaying-Domain: iol.unh.edu Date: Sun, 05 Oct 2025 03:23:34 -0700 (PDT) Message-ID: <68e24726.050a0220.1c841a.1644SMTPIN_ADDED_MISSING@mx.google.com> Received: from [172.21.0.3] (unknown [172.18.0.240]) by postal.iol.unh.edu (Postfix) with ESMTP id D2A816051830; Sun, 5 Oct 2025 06:23:33 -0400 (EDT) Subject: |SUCCESS| pw157209 [PATCH] test/debug: fix crash with mlx5 devices From: dpdklab@iol.unh.edu To: Test Report Cc: dpdk-test-reports@iol.unh.edu In-Reply-To: <20251002165546.523435-1-david.marchand@redhat.com> References: <20251002165546.523435-1-david.marchand@redhat.com> Content-Type: text/plain X-BeenThere: test-report@dpdk.org X-Mailman-Version: 2.1.29 Precedence: list List-Id: automatic DPDK test reports List-Unsubscribe: , List-Archive: List-Post: List-Help: List-Subscribe: , Errors-To: test-report-bounces@dpdk.org Test-Label: iol-compile-amd64-testing Test-Status: SUCCESS http://dpdk.org/patch/157209 _Testing PASS_ Submitter: David Marchand Date: Thursday, October 02 2025 16:55:45 DPDK git baseline: Repo:dpdk Branch: master CommitID:76393b98bf67f94dc6aa23cf5016c32571899261 157209 --> testing pass Upstream job id: Generic-DPDK-Compile-Meson#431123 Test environment and result as below: +-------------------------------+--------------------+-------------------+-------------------------+----------------------+-------------------+------------------+ | Environment | dpdk_meson_compile | dpdk_msvc_compile | dpdk_llvm_clang_compile | dpdk_mingw64_compile | dpdk_compile_spdk | dpdk_compile_ovs | +===============================+====================+===================+=========================+======================+===================+==================+ | Ubuntu 20.04 | PASS | SKIPPED | SKIPPED | SKIPPED | SKIPPED | SKIPPED | +-------------------------------+--------------------+-------------------+-------------------------+----------------------+-------------------+------------------+ | FreeBSD 14.2 | PASS | SKIPPED | SKIPPED | SKIPPED | SKIPPED | SKIPPED | +-------------------------------+--------------------+-------------------+-------------------------+----------------------+-------------------+------------------+ | Red Hat Enterprise Linux 8.10 | PASS | SKIPPED | SKIPPED | SKIPPED | SKIPPED | SKIPPED | +-------------------------------+--------------------+-------------------+-------------------------+----------------------+-------------------+------------------+ | CentOS Stream 9 | PASS | SKIPPED | SKIPPED | SKIPPED | PASS | SKIPPED | +-------------------------------+--------------------+-------------------+-------------------------+----------------------+-------------------+------------------+ | CentOS Stream 10 | PASS | SKIPPED | SKIPPED | SKIPPED | SKIPPED | SKIPPED | +-------------------------------+--------------------+-------------------+-------------------------+----------------------+-------------------+------------------+ | Debian GNU/Linux 12 | PASS | SKIPPED | SKIPPED | SKIPPED | PASS | SKIPPED | +-------------------------------+--------------------+-------------------+-------------------------+----------------------+-------------------+------------------+ | Fedora Linux 42 | PASS | SKIPPED | SKIPPED | SKIPPED | PASS | PASS | +-------------------------------+--------------------+-------------------+-------------------------+----------------------+-------------------+------------------+ | openSUSE Leap 15.6 | PASS | SKIPPED | SKIPPED | SKIPPED | SKIPPED | SKIPPED | +-------------------------------+--------------------+-------------------+-------------------------+----------------------+-------------------+------------------+ | Red Hat Enterprise Linux 9.5 | PASS | SKIPPED | SKIPPED | SKIPPED | SKIPPED | SKIPPED | +-------------------------------+--------------------+-------------------+-------------------------+----------------------+-------------------+------------------+ | Ubuntu 22.04 | PASS | SKIPPED | SKIPPED | SKIPPED | PASS | SKIPPED | +-------------------------------+--------------------+-------------------+-------------------------+----------------------+-------------------+------------------+ | Ubuntu 24.04 | PASS | SKIPPED | SKIPPED | SKIPPED | PASS | PASS | +-------------------------------+--------------------+-------------------+-------------------------+----------------------+-------------------+------------------+ | Alpine Linux 3.22.0 | PASS | SKIPPED | SKIPPED | SKIPPED | SKIPPED | SKIPPED | +-------------------------------+--------------------+-------------------+-------------------------+----------------------+-------------------+------------------+ | Windows Server 2022 | SKIPPED | PASS | PASS | PASS | SKIPPED | SKIPPED | +-------------------------------+--------------------+-------------------+-------------------------+----------------------+-------------------+------------------+ Ubuntu 20.04 Kernel: 4.19 Compiler: gcc gcc (Ubuntu 9.4.0-1ubuntu1~20.04.2) 9.4.0 FreeBSD 14.2 Kernel: 14.2-RELEASE Compiler: clang 18.1.6 Red Hat Enterprise Linux 8.10 Kernel: 5.15 Compiler: gcc gcc (GCC) 8.5.0 20210514 (Red Hat 8.5.0-22) CentOS Stream 9 Kernel: 5.15 Compiler: gcc gcc (GCC) 11.5.0 20240719 (Red Hat 11.5.0-11) CentOS Stream 10 Kernel: 5.15 Compiler: gcc gcc (GCC) 14.2.1 20250110 (Red Hat 14.2.1-8) Debian GNU/Linux 12 Kernel: 5.15 Compiler: gcc gcc (Debian 12.2.0-14+deb12u1) 12.2.0 Fedora Linux 42 Kernel: 5.15 Compiler: clang gcc (GCC) 15.2.1 20250808 (Red Hat 15.2.1-1) openSUSE Leap 15.6 Kernel: 5.15 Compiler: gcc gcc (SUSE Linux) 7.5.0 Red Hat Enterprise Linux 9.5 Kernel: 5.15 Compiler: gcc gcc (GCC) 11.5.0 20240719 (Red Hat 11.5.0-2) Ubuntu 22.04 Kernel: 5.15 Compiler: gcc gcc (Ubuntu 11.4.0-1ubuntu1~22.04) 11.4.0 Ubuntu 24.04 Kernel: 5.15 Compiler: gcc gcc (Ubuntu 13.3.0-6ubuntu2~24.04) 13.3.0 Alpine Linux 3.22.0 Kernel: 5.15 Compiler: gcc gcc (Alpine 14.2.0) 14.2.0 Windows Server 2022 Kernel: 10.0.20348.2031 Compiler: clang 15.0.7, gcc 14.1.0 (MinGW), and MSVC VS 19.39.33521 To view detailed results, visit: https://lab.dpdk.org/results/dashboard/patchsets/34200/ UNH-IOL DPDK Community Lab To manage your email subscriptions, visit: https://lab.dpdk.org/results/dashboard/preferences/subscriptions/