From mboxrd@z Thu Jan 1 00:00:00 1970 Return-Path: Received: from mails.dpdk.org (mails.dpdk.org [217.70.189.124]) by inbox.dpdk.org (Postfix) with ESMTP id 15040488BA for ; Sun, 5 Oct 2025 12:42:01 +0200 (CEST) Received: from mails.dpdk.org (localhost [127.0.0.1]) by mails.dpdk.org (Postfix) with ESMTP id DC892402C0; Sun, 5 Oct 2025 12:42:00 +0200 (CEST) Received: from mail-oa1-f98.google.com (mail-oa1-f98.google.com [209.85.160.98]) by mails.dpdk.org (Postfix) with ESMTP id AFAD8402C0 for ; Sun, 5 Oct 2025 12:41:58 +0200 (CEST) Received: by mail-oa1-f98.google.com with SMTP id 586e51a60fabf-364bd7cce53so2968829fac.3 for ; Sun, 05 Oct 2025 03:41:58 -0700 (PDT) DKIM-Signature: v=1; a=rsa-sha256; c=relaxed/relaxed; d=iol.unh.edu; s=unh-iol; t=1759660918; x=1760265718; darn=dpdk.org; h=cc:to:from:subject:message-id:date:from:to:cc:subject:date :message-id:reply-to; bh=B4yGJdQ2eIgqBl0nHXedMiHzb0kHOIULSY5/i7KUjdk=; b=D9U6xCQJ80bfbU2xybKAMRV+CDhRbU5OUKtrqK9c4lBsUX1hcNIa8nHalXYtv1sIwG edcznxjenCcRksQeluTYv0kyRPWOKcrsBnhHhh8D7Lc/OC/LBCD5dklfVl/zFmueW0tH BKnpDMDvBO5ljiFv4ZeqCp/g0ir4znoPjAk84= X-Google-DKIM-Signature: v=1; a=rsa-sha256; c=relaxed/relaxed; d=1e100.net; s=20230601; t=1759660918; x=1760265718; h=cc:to:from:subject:message-id:date:x-gm-message-state:from:to:cc :subject:date:message-id:reply-to; bh=B4yGJdQ2eIgqBl0nHXedMiHzb0kHOIULSY5/i7KUjdk=; b=ui6HVmKOL9MUjUnJT9ADgwFMhvhGKlr+YFbg0MaLzjasdhKFI3sZMxsBBdLTgOH+eb R1G7Ogy8eVqKwvg0MNW3wYyCOeaB+m9+qyI0TIep/vnne8FgvJwc+rJETsA7v8Ctli+7 2JaYFGxWto2s/BlcbIQJgTnGOI2uTrrepbwUvKbzmBZSiAbsrrIMe/NYYIeLp1oQ5tX7 k8GTqwNbdOcbHQLoF5Iq1a/LLdHhg/tdi9vbckHR03vplRuKK14jg1d1LxQ6WPHaAxyk UIBcIXa43SlIwa7UGqSOxdwTdAme1KVx+6a32SBhH1nS1g0rmTQG562CgPA15Xh3kI85 zj5w== X-Gm-Message-State: AOJu0Yw9ROp9xzhHyijA4zzKI0+i4rJtLxzeaWGKMzocuM/6yhMWAJLE MeGCVW2jC+xCB7xShz8IUfvB+FOSPUhoZp8VEQ46HxONgaMkX49fbZOGhlezBXaHjBuY6jUrgpI E4bg2RxAOer58bXtkVMHmwYvoJ8NLRdYTQpaV X-Gm-Gg: ASbGncsvfC/WXzJ5JdmJSIsfRLTnqz/Pxuv9Q/M8HEiOi3o3Q39s4MRiLDk3f+sDddh 4l9DTNX9daS5+j50++AcwhBbc5NZgXa7bUHt3Zl7yiEU+HJf4FpV7SG0pWWTfyH0gtjIHvRZDaH MssWwZUl96XsobiDBFCgK+RAgdOPQhjQNI9VMt3HMRwuuBng77AlkecjXT3XFI+i8iARuTfjK88 groML4ffvOdmUDyt2GHy1IOB8q0Me7/9GiT2gD8Wsp8LMCsprPC0y/vS9ItqdXVR1akyOu1xaOE ZiFSBG5MQ/Cdgrz0IxQpsgqCsebLXfjIJO2RhudcpU7yhCEFRhlh5raSye3npPz7bxqovxd2B7U SlA== X-Google-Smtp-Source: AGHT+IGjNwkhB7t66SqYbUUw1cjkLVaiOx0ajTp09fbgcBm4QvotEcYpG8Gx10rF4GW0UQfvfNnTSg3sk6Dj X-Received: by 2002:a05:6870:1702:b0:315:914b:8e3f with SMTP id 586e51a60fabf-3b0fadf329amr4774913fac.43.1759660917878; Sun, 05 Oct 2025 03:41:57 -0700 (PDT) Received: from postal.iol.unh.edu (postal.iol.unh.edu. [132.177.123.84]) by smtp-relay.gmail.com with ESMTPS id 586e51a60fabf-3ab79f51586sm872662fac.3.2025.10.05.03.41.57 (version=TLS1_2 cipher=ECDHE-ECDSA-AES128-GCM-SHA256 bits=128/128); Sun, 05 Oct 2025 03:41:57 -0700 (PDT) X-Relaying-Domain: iol.unh.edu Date: Sun, 05 Oct 2025 03:41:57 -0700 (PDT) Message-ID: <68e24b75.050a0220.26cf16.f506SMTPIN_ADDED_MISSING@mx.google.com> Received: from [172.21.0.2] (unknown [172.18.0.240]) by postal.iol.unh.edu (Postfix) with ESMTP id 01CF160003EA; Sun, 5 Oct 2025 06:41:56 -0400 (EDT) Subject: |SUCCESS| [GIT MASTER] 3b43ce3f4a54468e7ef65760c2fd7b4d6ee6d9fc From: dpdklab@iol.unh.edu To: Test Report Cc: dpdk-test-reports@iol.unh.edu, Xueming Li , Christian Ehrhardt , Kevin Traynor , Luca Boccassi Content-Type: text/plain X-BeenThere: test-report@dpdk.org X-Mailman-Version: 2.1.29 Precedence: list List-Id: automatic DPDK test reports List-Unsubscribe: , List-Archive: List-Post: List-Help: List-Subscribe: , Errors-To: test-report-bounces@dpdk.org _Testing PASS_ Branch: tags/v22.11 3b43ce3f4a54468e7ef65760c2fd7b4d6ee6d9fc --> testing pass Upstream job id: Generic-DPDK-Compile-Meson#430990 Test environment and result as below: +------------------------------+--------------------+ | Environment | dpdk_meson_compile | +==============================+====================+ | CentOS Stream 10 | PASS | +------------------------------+--------------------+ | Red Hat Enterprise Linux 9.5 | PASS | +------------------------------+--------------------+ | Ubuntu 20.04 | PASS | +------------------------------+--------------------+ | Debian GNU/Linux 12 | PASS | +------------------------------+--------------------+ | Fedora Linux 42 | PASS | +------------------------------+--------------------+ | Ubuntu 22.04 | PASS | +------------------------------+--------------------+ | Ubuntu 24.04 | PASS | +------------------------------+--------------------+ | CentOS Stream 9 | PASS | +------------------------------+--------------------+ CentOS Stream 10 Kernel: 5.4 Compiler: gcc gcc (GCC) 14.2.1 20250110 (Red Hat 14.2.1-8) Red Hat Enterprise Linux 9.5 Kernel: 5.4 Compiler: gcc gcc (GCC) 11.5.0 20240719 (Red Hat 11.5.0-2) Ubuntu 20.04 Kernel: 5.15 Compiler: aarch64-linux-gnu-gcc gcc (Ubuntu 9.4.0-1ubuntu1~20.04.2) 9.4.0 Debian GNU/Linux 12 Kernel: 5.4 Compiler: gcc gcc (Debian 12.2.0-14+deb12u1) 12.2.0 Fedora Linux 42 Kernel: 5.4 Compiler: gcc gcc (GCC) 15.2.1 20250808 (Red Hat 15.2.1-1) Ubuntu 22.04 Kernel: 5.4 Compiler: gcc gcc (Ubuntu 11.4.0-1ubuntu1~22.04) 11.4.0 Ubuntu 24.04 Kernel: 5.4 Compiler: gcc gcc (Ubuntu 13.3.0-6ubuntu2~24.04) 13.3.0 CentOS Stream 9 Kernel: 5.4 Compiler: gcc gcc (GCC) 11.5.0 20240719 (Red Hat 11.5.0-11) To view detailed results, visit: https://lab.dpdk.org/results/dashboard/tarballs/35082/ UNH-IOL DPDK Community Lab To manage your email subscriptions, visit: https://lab.dpdk.org/results/dashboard/preferences/subscriptions/