From mboxrd@z Thu Jan 1 00:00:00 1970 Return-Path: Received: from mails.dpdk.org (mails.dpdk.org [217.70.189.124]) by inbox.dpdk.org (Postfix) with ESMTP id 17B5A488BA for ; Sun, 5 Oct 2025 12:43:31 +0200 (CEST) Received: from mails.dpdk.org (localhost [127.0.0.1]) by mails.dpdk.org (Postfix) with ESMTP id 10690402C0; Sun, 5 Oct 2025 12:43:31 +0200 (CEST) Received: from mail-oa1-f100.google.com (mail-oa1-f100.google.com [209.85.160.100]) by mails.dpdk.org (Postfix) with ESMTP id 7F99D402C0 for ; Sun, 5 Oct 2025 12:43:30 +0200 (CEST) Received: by mail-oa1-f100.google.com with SMTP id 586e51a60fabf-30cce86052cso2318638fac.1 for ; Sun, 05 Oct 2025 03:43:30 -0700 (PDT) DKIM-Signature: v=1; a=rsa-sha256; c=relaxed/relaxed; d=iol.unh.edu; s=unh-iol; t=1759661010; x=1760265810; darn=dpdk.org; h=cc:to:from:subject:message-id:date:from:to:cc:subject:date :message-id:reply-to; bh=ec9jyhP4wtDKk6p3QeHrxp29NtKUURPPo60kkdPgkdo=; b=dWiFng/2W0BZZ7bTW4P3VSbz6b5zlEoaOM/DFlNHzrmgLkAea8dm50SSqZIyua2OhR nTVSrpOEOQfj4TlbNyeyZoa1pDtxM5GVNxwzzeOaLcrNb3I8fbgWZYmlSDWcttW8fT/I BGKOp/Mhtn6Yi4UYmEzrSL450YheCf6Jq5ZV8= X-Google-DKIM-Signature: v=1; a=rsa-sha256; c=relaxed/relaxed; d=1e100.net; s=20230601; t=1759661010; x=1760265810; h=cc:to:from:subject:message-id:date:x-gm-message-state:from:to:cc :subject:date:message-id:reply-to; bh=ec9jyhP4wtDKk6p3QeHrxp29NtKUURPPo60kkdPgkdo=; b=sXxa19j5iXtwS3lwODR5qJIygjKaiG0lt1QALnjmeD4oGmNI3gXcfHrGb8jzeoIA1L wOGilWFdbniVB5xkc94i5v4VxtFqBUYSjjWex22wqft/orRiCzhREdb0pZA5VSRhjj2U 2Q6m/ziZf5sh0QahxeCng+OB8EREIxnqp+dpo8BVa4r0WIJFYYFlxnMga4ciyD4+XtQo uQbivOtCX5UDKlXjeSSFSBcslqDhYFfUH0ofgppDBlZx4XLoZm+153he0UAMeLBL46bt l068nBvJ89UwtU7C93vqGGjd13FOqCuYW73VdFZawi74CTCirAcEqfjEtTSN9F9kO/bp wz2w== X-Gm-Message-State: AOJu0YyYNWaUqL1y1zkdD+oCducNBD+xsLmrtNIGDaypO54WoO8GxRUT dSiIIaj0WaLTWo9n3Qks7cO90Obu2ir2qP7BZE7CXpRWGmWDCGo+UkRHL43yEZMGhHAvtaZC8WS vY4TQC7FDyFpUkJjDSX7vphvMEX+mFKcmyK5w X-Gm-Gg: ASbGncus1WC8DXiR159OPHoEtAIsiu+LARY4REPbsMXVSg3+vtazO7A/AB61qb2E7fI Id6O1A0THBrdRKRpn8YMo8x37MX2myAZ06TRUnchdV4DrBfFugMH7hROIqmUF6IaqA5FXlLJZx5 UlJTDxuCxTlsJgYYH6788Ww94ENhOVo1nyxjfbJ64CGzmtJ0cxBMba2Q05X4pYM1cfVAgXVPQRh 0O4Q0sXqk9X4tXd21N7aduI1uaJRCWTFqsEuL3JSrOsmvNElPnJRxKQZ8/KQFfPCweGnKQjOWXW aRmJfskaT7ifdH6yQJQl5ws9N7NHA/xghbt7KgRqTRLjUgK3TWqAC3xrYsy6Cvd+jO0Ji/vdKlu RFQ== X-Google-Smtp-Source: AGHT+IHpxjE9t/5w/U/+IAf5qMeW7vnykSM6wIug6/t6fENWbcxXwYWMbFuxFvl6sf7Wriyl79Cx80ZrVtV6 X-Received: by 2002:a05:6870:e243:b0:329:7f93:2b6 with SMTP id 586e51a60fabf-3b10283e4b4mr5422317fac.29.1759661009820; Sun, 05 Oct 2025 03:43:29 -0700 (PDT) Received: from postal.iol.unh.edu (postal.iol.unh.edu. [132.177.123.84]) by smtp-relay.gmail.com with ESMTPS id 586e51a60fabf-3ab7d51305esm789474fac.7.2025.10.05.03.43.29 (version=TLS1_2 cipher=ECDHE-ECDSA-AES128-GCM-SHA256 bits=128/128); Sun, 05 Oct 2025 03:43:29 -0700 (PDT) X-Relaying-Domain: iol.unh.edu Date: Sun, 05 Oct 2025 03:43:29 -0700 (PDT) Message-ID: <68e24bd1.050a0220.db86f.b18aSMTPIN_ADDED_MISSING@mx.google.com> Received: from [172.21.0.2] (unknown [172.18.0.240]) by postal.iol.unh.edu (Postfix) with ESMTP id 4EC266051830; Sun, 5 Oct 2025 06:43:29 -0400 (EDT) Subject: |WARNING| [GIT MASTER] 62f583c49bf67dd4d6733ece14e55fe6839e66d1 From: dpdklab@iol.unh.edu To: Test Report Cc: dpdk-test-reports@iol.unh.edu, Xueming Li , Christian Ehrhardt , Kevin Traynor , Luca Boccassi Content-Type: text/plain X-BeenThere: test-report@dpdk.org X-Mailman-Version: 2.1.29 Precedence: list List-Id: automatic DPDK test reports List-Unsubscribe: , List-Archive: List-Post: List-Help: List-Subscribe: , Errors-To: test-report-bounces@dpdk.org _Testing issues_ Branch: tags/v23.11 62f583c49bf67dd4d6733ece14e55fe6839e66d1 --> testing issues Upstream job id: Generic-Unit-Test-DPDK#378570 Test environment and result as below: +------------------------------+---------------------------+--------------+------------------------------+----------------+ | Environment | cryptodev_sw_zuc_autotest | lpm_autotest | cryptodev_sw_snow3g_autotest | dpdk_unit_test | +==============================+===========================+==============+==============================+================+ | Debian 12 (arm) | PASS | SKIPPED | PASS | SKIPPED | +------------------------------+---------------------------+--------------+------------------------------+----------------+ | Ubuntu 20.04 | SKIPPED | PASS | SKIPPED | PASS | +------------------------------+---------------------------+--------------+------------------------------+----------------+ | Debian GNU/Linux 12 | SKIPPED | SKIPPED | SKIPPED | PASS | +------------------------------+---------------------------+--------------+------------------------------+----------------+ | CentOS Stream 10 | SKIPPED | SKIPPED | SKIPPED | PASS | +------------------------------+---------------------------+--------------+------------------------------+----------------+ | CentOS Stream 9 | SKIPPED | SKIPPED | SKIPPED | PASS | +------------------------------+---------------------------+--------------+------------------------------+----------------+ | Fedora Linux 40 | SKIPPED | SKIPPED | SKIPPED | PASS | +------------------------------+---------------------------+--------------+------------------------------+----------------+ | Fedora Linux 41 | SKIPPED | SKIPPED | SKIPPED | PASS | +------------------------------+---------------------------+--------------+------------------------------+----------------+ | Fedora Linux 42 | SKIPPED | SKIPPED | SKIPPED | PASS | +------------------------------+---------------------------+--------------+------------------------------+----------------+ | Ubuntu 22.04 | SKIPPED | SKIPPED | SKIPPED | PASS | +------------------------------+---------------------------+--------------+------------------------------+----------------+ | Red Hat Enterprise Linux 9.5 | SKIPPED | SKIPPED | SKIPPED | PASS | +------------------------------+---------------------------+--------------+------------------------------+----------------+ | Ubuntu 24.04 | SKIPPED | SKIPPED | SKIPPED | PASS | +------------------------------+---------------------------+--------------+------------------------------+----------------+ Debian 12 (arm) Kernel: Depends on container host Compiler: gcc (Debian 12.2.0-14) 12.2.0 Ubuntu 20.04 Kernel: 5.4 Compiler: gcc gcc (Ubuntu 9.4.0-1ubuntu1~20.04.2) 9.4.0 Debian GNU/Linux 12 Kernel: 5.4 Compiler: gcc gcc (Debian 12.2.0-14+deb12u1) 12.2.0 CentOS Stream 10 Kernel: 5.4 Compiler: gcc gcc (GCC) 14.2.1 20250110 (Red Hat 14.2.1-8) CentOS Stream 9 Kernel: 5.4 Compiler: gcc gcc (GCC) 11.5.0 20240719 (Red Hat 11.5.0-11) Fedora Linux 40 Kernel: 5.4 Compiler: gcc gcc (GCC) 14.2.1 20240912 (Red Hat 14.2.1-3) Fedora Linux 41 Kernel: 5.4 Compiler: clang gcc (GCC) 14.3.1 20250523 (Red Hat 14.3.1-1) Fedora Linux 42 Kernel: 5.4 Compiler: gcc gcc (GCC) 15.2.1 20250808 (Red Hat 15.2.1-1) Ubuntu 22.04 Kernel: 5.4 Compiler: gcc gcc (Ubuntu 11.4.0-1ubuntu1~22.04) 11.4.0 Red Hat Enterprise Linux 9.5 Kernel: 5.4 Compiler: gcc gcc (GCC) 11.5.0 20240719 (Red Hat 11.5.0-2) Ubuntu 24.04 Kernel: 5.4 Compiler: gcc gcc (Ubuntu 13.3.0-6ubuntu2~24.04) 13.3.0 To view detailed results, visit: https://lab.dpdk.org/results/dashboard/tarballs/35109/ UNH-IOL DPDK Community Lab To manage your email subscriptions, visit: https://lab.dpdk.org/results/dashboard/preferences/subscriptions/