From mboxrd@z Thu Jan 1 00:00:00 1970 Return-Path: Received: from mails.dpdk.org (mails.dpdk.org [217.70.189.124]) by inbox.dpdk.org (Postfix) with ESMTP id DDAE8488BB for ; Sun, 5 Oct 2025 14:26:02 +0200 (CEST) Received: from mails.dpdk.org (localhost [127.0.0.1]) by mails.dpdk.org (Postfix) with ESMTP id B2191402C0; Sun, 5 Oct 2025 14:26:02 +0200 (CEST) Received: from mail-io1-f99.google.com (mail-io1-f99.google.com [209.85.166.99]) by mails.dpdk.org (Postfix) with ESMTP id 55C10402C0 for ; Sun, 5 Oct 2025 14:26:01 +0200 (CEST) Received: by mail-io1-f99.google.com with SMTP id ca18e2360f4ac-8cc0cb783ffso377095739f.2 for ; Sun, 05 Oct 2025 05:26:01 -0700 (PDT) DKIM-Signature: v=1; a=rsa-sha256; c=relaxed/relaxed; d=iol.unh.edu; s=unh-iol; t=1759667160; x=1760271960; darn=dpdk.org; h=references:in-reply-to:cc:to:from:subject:message-id:date:from:to :cc:subject:date:message-id:reply-to; bh=L5CMjrl0HFop6GsUdMF6O2yPXb+UBfuGzTjXbP7MCjQ=; b=J/5bNd8AmUQMjpmEuomq+8MG1vdroZzERHYvoSCDnin9l/5TpGxSwLEH4n+8IXBwFH XEyxrqzeQn3+7dZQc7SU5SrmUfJqJHkX3bKEr2WFG8VrIQQe4JgYXtBsAwpBBJKsTpJR dEi3CST55opcAM4xilgD0DnzM3c4vCQGq9qdg= X-Google-DKIM-Signature: v=1; a=rsa-sha256; c=relaxed/relaxed; d=1e100.net; s=20230601; t=1759667160; x=1760271960; h=references:in-reply-to:cc:to:from:subject:message-id:date :x-gm-message-state:from:to:cc:subject:date:message-id:reply-to; bh=L5CMjrl0HFop6GsUdMF6O2yPXb+UBfuGzTjXbP7MCjQ=; b=DXXJBmGHa8ZQTp4VTV8Slbn9+9UT1fKn9ilrIRE7mvxJXLGG9LDLIhMJtdvFtniOs5 lx0WUCAzY09FYuPIM2stgEw7gEnTLCCnSuySXcGgHXNP6s7PLTor57fXnrqvD5UUrjjn Kiru8URpoadk1OeeAcZFtGk1w7fBT/vfdw17POvskG33ql4D23qBShbSUZLiVdKwfhnL np+fse/fU8pHxJEjXar5OzIWjs8hNsH7QKj49duHoIATHJEX+zwe1Tz5uqmsxP1WvRTm +pWm8fPEEZoBlcjfMw8q0I0wQzkpdrlRza3MoOCEnI9xdz6wY+uYchWpfvkr1GndAaoO onMA== X-Gm-Message-State: AOJu0Yz/CK52ZS1pVmQHTH0I8OP3rbGEemskT9j7Z4hbhTetGK9FZl+h gVK29bfPLRzbnNp7iG4/X9GtW4pTkjnvThA8n8MepDAQot5Wy0C79JBu6wbJtWiY/0614dTJu2/ NC7W2rWbyokjwrO5rUJqsl2uKI/2S45pOOHQg55LwDPdm X-Gm-Gg: ASbGncsSsf8heFwPhe/0i/jbN7IhKXvvbl9t8bRMTYLQcU5xrRONfliP3spbhI4CPRs ALMioMqOXUTNdDViaIDvWLWppU6m5ydF3cBfNyQgclw9o6diUd75ZBIgB/kqa+co9K4AKHBvDqw +Y6GrgWyF65PBotAWucgq//uukxcv2hBWEtAz/8weewO50as3glMyuSsTAyxgbI+hCmLtb2vBTS 6j8iWQcAmcA0GAu+NavljcWoga2lE+CWJvF9frCYKN9EEvfX2b6WuB+LzyhATkfP9jix+JsiZot H6CrQC0j2RatrYfnQjlkz4gUI5TrpSp8pv0FQe/qCgoxm1/0xV5rx9vawySmtawl4T9QgcuZ4tG ZZw== X-Google-Smtp-Source: AGHT+IGjZpma2xA852Je/ds66oaA/zPxiYFXYAuR1n2kOr58Nwtqjmj3mRRWvYXpSioHyXZyhQytgLY8Zvaw X-Received: by 2002:a05:6602:a008:b0:893:d33f:e5ad with SMTP id ca18e2360f4ac-93b96aeb313mr1256953339f.18.1759667160492; Sun, 05 Oct 2025 05:26:00 -0700 (PDT) Received: from postal.iol.unh.edu (postal.iol.unh.edu. [132.177.123.84]) by smtp-relay.gmail.com with ESMTPS id 8926c6da1cb9f-57b5eaa3fe5sm828045173.4.2025.10.05.05.26.00 (version=TLS1_2 cipher=ECDHE-ECDSA-AES128-GCM-SHA256 bits=128/128); Sun, 05 Oct 2025 05:26:00 -0700 (PDT) X-Relaying-Domain: iol.unh.edu Date: Sun, 05 Oct 2025 05:26:00 -0700 (PDT) Message-ID: <68e263d8.050a0220.150bc3.d81eSMTPIN_ADDED_MISSING@mx.google.com> Received: from [172.21.0.2] (unknown [172.18.0.240]) by postal.iol.unh.edu (Postfix) with ESMTP id E0FC56051830; Sun, 5 Oct 2025 08:25:59 -0400 (EDT) Subject: |SUCCESS| pw157210 [PATCH] [v2,1/1] ring: safe partial ordering for From: dpdklab@iol.unh.edu To: Test Report Cc: dpdk-test-reports@iol.unh.edu In-Reply-To: <20251002174137.3612042-2-wathsala.vithanage@arm.com> References: <20251002174137.3612042-2-wathsala.vithanage@arm.com> Content-Type: text/plain X-BeenThere: test-report@dpdk.org X-Mailman-Version: 2.1.29 Precedence: list List-Id: automatic DPDK test reports List-Unsubscribe: , List-Archive: List-Post: List-Help: List-Subscribe: , Errors-To: test-report-bounces@dpdk.org Test-Label: iol-compile-amd64-testing Test-Status: SUCCESS http://dpdk.org/patch/157210 _Testing PASS_ Submitter: Wathsala Vithanage Date: Thursday, October 02 2025 17:41:37 DPDK git baseline: Repo:dpdk Branch: master CommitID:76393b98bf67f94dc6aa23cf5016c32571899261 157210 --> testing pass Upstream job id: Generic-DPDK-Compile-Meson#431148 Test environment and result as below: +-------------------------------+--------------------+-------------------------+-------------------+----------------------+-------------------+------------------+ | Environment | dpdk_meson_compile | dpdk_llvm_clang_compile | dpdk_msvc_compile | dpdk_mingw64_compile | dpdk_compile_spdk | dpdk_compile_ovs | +===============================+====================+=========================+===================+======================+===================+==================+ | FreeBSD 14.2 | PASS | SKIPPED | SKIPPED | SKIPPED | SKIPPED | SKIPPED | +-------------------------------+--------------------+-------------------------+-------------------+----------------------+-------------------+------------------+ | Ubuntu 20.04 | PASS | SKIPPED | SKIPPED | SKIPPED | SKIPPED | SKIPPED | +-------------------------------+--------------------+-------------------------+-------------------+----------------------+-------------------+------------------+ | CentOS Stream 9 | PASS | SKIPPED | SKIPPED | SKIPPED | PASS | SKIPPED | +-------------------------------+--------------------+-------------------------+-------------------+----------------------+-------------------+------------------+ | CentOS Stream 10 | PASS | SKIPPED | SKIPPED | SKIPPED | SKIPPED | SKIPPED | +-------------------------------+--------------------+-------------------------+-------------------+----------------------+-------------------+------------------+ | Debian GNU/Linux 12 | PASS | SKIPPED | SKIPPED | SKIPPED | PASS | SKIPPED | +-------------------------------+--------------------+-------------------------+-------------------+----------------------+-------------------+------------------+ | Fedora Linux 42 | PASS | SKIPPED | SKIPPED | SKIPPED | PASS | PASS | +-------------------------------+--------------------+-------------------------+-------------------+----------------------+-------------------+------------------+ | openSUSE Leap 15.6 | PASS | SKIPPED | SKIPPED | SKIPPED | SKIPPED | SKIPPED | +-------------------------------+--------------------+-------------------------+-------------------+----------------------+-------------------+------------------+ | Red Hat Enterprise Linux 8.10 | PASS | SKIPPED | SKIPPED | SKIPPED | SKIPPED | SKIPPED | +-------------------------------+--------------------+-------------------------+-------------------+----------------------+-------------------+------------------+ | Red Hat Enterprise Linux 9.5 | PASS | SKIPPED | SKIPPED | SKIPPED | SKIPPED | SKIPPED | +-------------------------------+--------------------+-------------------------+-------------------+----------------------+-------------------+------------------+ | Ubuntu 22.04 | PASS | SKIPPED | SKIPPED | SKIPPED | PASS | SKIPPED | +-------------------------------+--------------------+-------------------------+-------------------+----------------------+-------------------+------------------+ | Ubuntu 24.04 | PASS | SKIPPED | SKIPPED | SKIPPED | PASS | PASS | +-------------------------------+--------------------+-------------------------+-------------------+----------------------+-------------------+------------------+ | Alpine Linux 3.22.0 | PASS | SKIPPED | SKIPPED | SKIPPED | SKIPPED | SKIPPED | +-------------------------------+--------------------+-------------------------+-------------------+----------------------+-------------------+------------------+ | Windows Server 2022 | SKIPPED | PASS | PASS | PASS | SKIPPED | SKIPPED | +-------------------------------+--------------------+-------------------------+-------------------+----------------------+-------------------+------------------+ FreeBSD 14.2 Kernel: 14.2-RELEASE Compiler: clang 18.1.6 Ubuntu 20.04 Kernel: 4.19 Compiler: gcc gcc (Ubuntu 9.4.0-1ubuntu1~20.04.2) 9.4.0 CentOS Stream 9 Kernel: 5.15 Compiler: gcc gcc (GCC) 11.5.0 20240719 (Red Hat 11.5.0-11) CentOS Stream 10 Kernel: 5.15 Compiler: gcc gcc (GCC) 14.2.1 20250110 (Red Hat 14.2.1-8) Debian GNU/Linux 12 Kernel: 5.15 Compiler: gcc gcc (Debian 12.2.0-14+deb12u1) 12.2.0 Fedora Linux 42 Kernel: 5.15 Compiler: clang gcc (GCC) 15.2.1 20250808 (Red Hat 15.2.1-1) openSUSE Leap 15.6 Kernel: 5.15 Compiler: gcc gcc (SUSE Linux) 7.5.0 Red Hat Enterprise Linux 8.10 Kernel: 5.15 Compiler: gcc gcc (GCC) 8.5.0 20210514 (Red Hat 8.5.0-22) Red Hat Enterprise Linux 9.5 Kernel: 5.15 Compiler: gcc gcc (GCC) 11.5.0 20240719 (Red Hat 11.5.0-2) Ubuntu 22.04 Kernel: 5.15 Compiler: gcc gcc (Ubuntu 11.4.0-1ubuntu1~22.04) 11.4.0 Ubuntu 24.04 Kernel: 5.15 Compiler: gcc gcc (Ubuntu 13.3.0-6ubuntu2~24.04) 13.3.0 Alpine Linux 3.22.0 Kernel: 5.15 Compiler: gcc gcc (Alpine 14.2.0) 14.2.0 Windows Server 2022 Kernel: 10.0.20348.2031 Compiler: clang 15.0.7, gcc 14.1.0 (MinGW), and MSVC VS 19.39.33521 To view detailed results, visit: https://lab.dpdk.org/results/dashboard/patchsets/34202/ UNH-IOL DPDK Community Lab To manage your email subscriptions, visit: https://lab.dpdk.org/results/dashboard/preferences/subscriptions/