From mboxrd@z Thu Jan 1 00:00:00 1970 Return-Path: Received: from mails.dpdk.org (mails.dpdk.org [217.70.189.124]) by inbox.dpdk.org (Postfix) with ESMTP id C4D15488BB for ; Sun, 5 Oct 2025 14:50:05 +0200 (CEST) Received: from mails.dpdk.org (localhost [127.0.0.1]) by mails.dpdk.org (Postfix) with ESMTP id A42ED402C0; Sun, 5 Oct 2025 14:50:05 +0200 (CEST) Received: from mail-vs1-f98.google.com (mail-vs1-f98.google.com [209.85.217.98]) by mails.dpdk.org (Postfix) with ESMTP id D6C2D402C0 for ; Sun, 5 Oct 2025 14:50:03 +0200 (CEST) Received: by mail-vs1-f98.google.com with SMTP id ada2fe7eead31-583a520bd81so1889839137.2 for ; Sun, 05 Oct 2025 05:50:03 -0700 (PDT) DKIM-Signature: v=1; a=rsa-sha256; c=relaxed/relaxed; d=iol.unh.edu; s=unh-iol; t=1759668603; x=1760273403; darn=dpdk.org; h=references:in-reply-to:cc:to:from:subject:message-id:date:from:to :cc:subject:date:message-id:reply-to; bh=PFp+rp4yEmiirDysTQnRq8pRLPmAkNW4XZQTrEjoP1w=; b=Ue5mT2qkqfMX7FH8hL+CqMPvvNFOFBlE9LCj66nLjeDqs0+9qJZdEbetsinAgnCckr gt9GRspAIN+fqPwVTZ8SoQhui8/ZrWMSbMWhrFrsLZ3mdYu7jzFwj472768f3385qP51 HnQqD7gb85mwfcCJP3MKVdZynQAy3rdwM2mEo= X-Google-DKIM-Signature: v=1; a=rsa-sha256; c=relaxed/relaxed; d=1e100.net; s=20230601; t=1759668603; x=1760273403; h=references:in-reply-to:cc:to:from:subject:message-id:date :x-gm-message-state:from:to:cc:subject:date:message-id:reply-to; bh=PFp+rp4yEmiirDysTQnRq8pRLPmAkNW4XZQTrEjoP1w=; b=iZ3NwyGShnnwLk5BYdtfToYUPU2GFgfsgtUN4DSL5PbkBHS/c9J6jyFtfEqp1UJ3vr JcSGkckd/QOZeTwptvJfXxEQX+L4Q1gNMc3iSSDAiUwBL+8vAZ3Ttme8HVkD4OuDAOIM ffUySxozlOy9LiyKnmPJU8ogFboyV8M5LgryYqdn8lKcZXrL8neRxYeRgGXifNXZpFE2 e11a63XLN6peHUqaVxhq3hTOGx7sIE9PjGZYTzrp+Ei6SM9f/d/a8TtP8rAU/GaZWSab 9zN1dN9J61rBCYVDcfJmRDWDq944MjjmRa0z+ZmOCwjp3LthJuNr2jgNDn3DQ4r7Qcif eVzQ== X-Gm-Message-State: AOJu0Yz9msQyAmzdl9q/GcSoOBA1DZ5ngUxRYwb3SvzIlfym14SJhoE5 u7H1q3bCxtkz+/JgYKe7idr04oQSx5k7NRoHNNF2GufN8ZuaD2iLe9EetWFWrbcIhLFX/FZ3/5y KRgOz+C901JDk1R8pWc9X8x7V5Xtg7Mbt2wPlyGMprdsl X-Gm-Gg: ASbGncvJiIDL1o3nsQ6woVNw6Gu5RlGZ81hQ2ESs+qqz+AnywxX0r3lRWA2/bNwVtYe vsIFN4bLyuHY+wpbiLiAVV08V6kSe5MW6eUNPaG81COl25vwn5gaTGS7j7UagFfxrwTaxttZ+QT Sj346s6Faj99xlaCWu8yn1ah3Hodlr9E3TRmzcug0LY6uTNAPuFrAI4Zt99OiNJTtPvxbZwLpg5 ZbqC+WCZn2tOSvQVGSlKsILN3oFxWrqlnFGXuEcSNXOIQgSA+siWQFTkp/luvRCscRkfcRpe9rd m4H0sKDbUPafFHO53QF5OdnEoVoKGqmxW/QZDjMRsAwn5dE8Kqr5m1Z2QPKZh6FRxvucyT8tSsp siw== X-Google-Smtp-Source: AGHT+IHHX3/AbMZoRt1A6Ukk+UKOMP4XER6M3xwyYku3rrwyuvj08s5qXYiexnt3P5/I77lJIUqlcDH+KP5W X-Received: by 2002:a67:e7ca:0:b0:555:ef1e:49d1 with SMTP id ada2fe7eead31-5d41d11907bmr3026224137.20.1759668603102; Sun, 05 Oct 2025 05:50:03 -0700 (PDT) Received: from postal.iol.unh.edu (postal.iol.unh.edu. [132.177.123.84]) by smtp-relay.gmail.com with ESMTPS id a1e0cc1a2514c-92eb4e70d16sm110406241.6.2025.10.05.05.50.03 (version=TLS1_2 cipher=ECDHE-ECDSA-AES128-GCM-SHA256 bits=128/128); Sun, 05 Oct 2025 05:50:03 -0700 (PDT) X-Relaying-Domain: iol.unh.edu Date: Sun, 05 Oct 2025 05:50:03 -0700 (PDT) Message-ID: <68e2697b.050a0220.1e59a0.57b6SMTPIN_ADDED_MISSING@mx.google.com> Received: from [172.21.0.2] (unknown [172.18.0.240]) by postal.iol.unh.edu (Postfix) with ESMTP id 8C0DE60003EA; Sun, 5 Oct 2025 08:50:02 -0400 (EDT) Subject: |SUCCESS| pw157210 [PATCH] [v2,1/1] ring: safe partial ordering for From: dpdklab@iol.unh.edu To: Test Report Cc: dpdk-test-reports@iol.unh.edu In-Reply-To: <20251002174137.3612042-2-wathsala.vithanage@arm.com> References: <20251002174137.3612042-2-wathsala.vithanage@arm.com> Content-Type: text/plain X-BeenThere: test-report@dpdk.org X-Mailman-Version: 2.1.29 Precedence: list List-Id: automatic DPDK test reports List-Unsubscribe: , List-Archive: List-Post: List-Help: List-Subscribe: , Errors-To: test-report-bounces@dpdk.org Test-Label: iol-compile-amd64-testing Test-Status: SUCCESS http://dpdk.org/patch/157210 _Testing PASS_ Submitter: Wathsala Vithanage Date: Thursday, October 02 2025 17:41:37 DPDK git baseline: Repo:dpdk Branch: master CommitID:76393b98bf67f94dc6aa23cf5016c32571899261 157210 --> testing pass Upstream job id: Generic-DPDK-Compile-Meson#431149 Test environment and result as below: +-------------------------------+--------------------+-------------------------+-------------------+----------------------+-------------------+------------------+ | Environment | dpdk_meson_compile | dpdk_llvm_clang_compile | dpdk_msvc_compile | dpdk_mingw64_compile | dpdk_compile_spdk | dpdk_compile_ovs | +===============================+====================+=========================+===================+======================+===================+==================+ | FreeBSD 14.2 | PASS | SKIPPED | SKIPPED | SKIPPED | SKIPPED | SKIPPED | +-------------------------------+--------------------+-------------------------+-------------------+----------------------+-------------------+------------------+ | Ubuntu 20.04 | PASS | SKIPPED | SKIPPED | SKIPPED | SKIPPED | SKIPPED | +-------------------------------+--------------------+-------------------------+-------------------+----------------------+-------------------+------------------+ | CentOS Stream 9 | PASS | SKIPPED | SKIPPED | SKIPPED | PASS | SKIPPED | +-------------------------------+--------------------+-------------------------+-------------------+----------------------+-------------------+------------------+ | CentOS Stream 10 | PASS | SKIPPED | SKIPPED | SKIPPED | SKIPPED | SKIPPED | +-------------------------------+--------------------+-------------------------+-------------------+----------------------+-------------------+------------------+ | Debian GNU/Linux 12 | PASS | SKIPPED | SKIPPED | SKIPPED | PASS | SKIPPED | +-------------------------------+--------------------+-------------------------+-------------------+----------------------+-------------------+------------------+ | Fedora Linux 42 | PASS | SKIPPED | SKIPPED | SKIPPED | PASS | PASS | +-------------------------------+--------------------+-------------------------+-------------------+----------------------+-------------------+------------------+ | openSUSE Leap 15.6 | PASS | SKIPPED | SKIPPED | SKIPPED | SKIPPED | SKIPPED | +-------------------------------+--------------------+-------------------------+-------------------+----------------------+-------------------+------------------+ | Red Hat Enterprise Linux 8.10 | PASS | SKIPPED | SKIPPED | SKIPPED | SKIPPED | SKIPPED | +-------------------------------+--------------------+-------------------------+-------------------+----------------------+-------------------+------------------+ | Red Hat Enterprise Linux 9.5 | PASS | SKIPPED | SKIPPED | SKIPPED | SKIPPED | SKIPPED | +-------------------------------+--------------------+-------------------------+-------------------+----------------------+-------------------+------------------+ | Ubuntu 22.04 | PASS | SKIPPED | SKIPPED | SKIPPED | PASS | SKIPPED | +-------------------------------+--------------------+-------------------------+-------------------+----------------------+-------------------+------------------+ | Ubuntu 24.04 | PASS | SKIPPED | SKIPPED | SKIPPED | PASS | PASS | +-------------------------------+--------------------+-------------------------+-------------------+----------------------+-------------------+------------------+ | Alpine Linux 3.22.0 | PASS | SKIPPED | SKIPPED | SKIPPED | SKIPPED | SKIPPED | +-------------------------------+--------------------+-------------------------+-------------------+----------------------+-------------------+------------------+ | Windows Server 2022 | SKIPPED | PASS | PASS | PASS | SKIPPED | SKIPPED | +-------------------------------+--------------------+-------------------------+-------------------+----------------------+-------------------+------------------+ FreeBSD 14.2 Kernel: 14.2-RELEASE Compiler: clang 18.1.6 Ubuntu 20.04 Kernel: 4.19 Compiler: gcc gcc (Ubuntu 9.4.0-1ubuntu1~20.04.2) 9.4.0 CentOS Stream 9 Kernel: 5.15 Compiler: gcc gcc (GCC) 11.5.0 20240719 (Red Hat 11.5.0-11) CentOS Stream 10 Kernel: 5.15 Compiler: gcc gcc (GCC) 14.2.1 20250110 (Red Hat 14.2.1-8) Debian GNU/Linux 12 Kernel: 5.15 Compiler: gcc gcc (Debian 12.2.0-14+deb12u1) 12.2.0 Fedora Linux 42 Kernel: 5.15 Compiler: clang gcc (GCC) 15.2.1 20250808 (Red Hat 15.2.1-1) openSUSE Leap 15.6 Kernel: 5.15 Compiler: gcc gcc (SUSE Linux) 7.5.0 Red Hat Enterprise Linux 8.10 Kernel: 5.15 Compiler: gcc gcc (GCC) 8.5.0 20210514 (Red Hat 8.5.0-22) Red Hat Enterprise Linux 9.5 Kernel: 5.15 Compiler: gcc gcc (GCC) 11.5.0 20240719 (Red Hat 11.5.0-2) Ubuntu 22.04 Kernel: 5.15 Compiler: gcc gcc (Ubuntu 11.4.0-1ubuntu1~22.04) 11.4.0 Ubuntu 24.04 Kernel: 5.15 Compiler: gcc gcc (Ubuntu 13.3.0-6ubuntu2~24.04) 13.3.0 Alpine Linux 3.22.0 Kernel: 5.15 Compiler: gcc gcc (Alpine 14.2.0) 14.2.0 Windows Server 2022 Kernel: 10.0.20348.2031 Compiler: clang 15.0.7, gcc 14.1.0 (MinGW), and MSVC VS 19.39.33521 To view detailed results, visit: https://lab.dpdk.org/results/dashboard/patchsets/34202/ UNH-IOL DPDK Community Lab To manage your email subscriptions, visit: https://lab.dpdk.org/results/dashboard/preferences/subscriptions/