From mboxrd@z Thu Jan 1 00:00:00 1970 Return-Path: Received: from mails.dpdk.org (mails.dpdk.org [217.70.189.124]) by inbox.dpdk.org (Postfix) with ESMTP id 15A7F488BB for ; Sun, 5 Oct 2025 14:53:01 +0200 (CEST) Received: from mails.dpdk.org (localhost [127.0.0.1]) by mails.dpdk.org (Postfix) with ESMTP id E978C402C0; Sun, 5 Oct 2025 14:53:00 +0200 (CEST) Received: from mail-yx1-f100.google.com (mail-yx1-f100.google.com [74.125.224.100]) by mails.dpdk.org (Postfix) with ESMTP id 355BC402C0 for ; Sun, 5 Oct 2025 14:52:59 +0200 (CEST) Received: by mail-yx1-f100.google.com with SMTP id 956f58d0204a3-633be3be1e6so5249880d50.1 for ; Sun, 05 Oct 2025 05:52:59 -0700 (PDT) DKIM-Signature: v=1; a=rsa-sha256; c=relaxed/relaxed; d=iol.unh.edu; s=unh-iol; t=1759668778; x=1760273578; darn=dpdk.org; h=cc:to:from:subject:message-id:date:from:to:cc:subject:date :message-id:reply-to; bh=RiMYdKjfVzgMquDNntHX8NZCSNEWncLsYxRfv/14WHQ=; b=U9FO2h8bF3a8Fuck7Sx0/9ctTqrmFEmqZhxQ1utCB1+sXPFILnz93G/P+mrH5cCx14 XRCIbGLnhibrkNq1o34/0a5AhTP9Mkj2jY7i2nTsF7UZbHjA9uqxTzOle9T3agPZqQQ8 gMpNbubPpu2qipHhf5NsPshumc9auUKDJSsM8= X-Google-DKIM-Signature: v=1; a=rsa-sha256; c=relaxed/relaxed; d=1e100.net; s=20230601; t=1759668778; x=1760273578; h=cc:to:from:subject:message-id:date:x-gm-message-state:from:to:cc :subject:date:message-id:reply-to; bh=RiMYdKjfVzgMquDNntHX8NZCSNEWncLsYxRfv/14WHQ=; b=f+mOilULGiAC4YUumtVKZkcKpSvvNGMnwx5BjAyPtOcRMXcq8lM7SEg0GLMmYgXqfT XYF63cAAjLSRQS/n8UQtGibkNzytTRt/I7kjNBR+4nXWSSRspLn11uHJPiiPIryuRdcV 6rjvLoWeBzhKBksKAnHrXNWPqKM0ShsW2ZIOe9PZe9H8jij3hwqFGrMoN6AlAjWarAEH ooiZtIyBF/27WtaJSWMQwvVzBr2CgWlySaUwemmqDgyvEAs7+onln4m9uJxqEald2PF1 j7ryj09VH/uLQrVjZGWKWChU1uHGbL9zINbQmiy8Xurk58nxRK3fPJy85h4ijgt7L4YB MTvA== X-Gm-Message-State: AOJu0YyTSZ2GBVrQc/J4qpxqLvghgbFmP4AOQ/jIgZA+1cZ+8NeVIwsW W5cwPrcpP9YyVwEZoJvVz41yLv4lvWudOKpoYV8jLDJWib81qh6tjNgHa3L84WvLvrOOnhBEceY zwWrVhAlrpvcWXjRVmxiORPZLW73UM/KNSfOP X-Gm-Gg: ASbGncsr8wJgft4QAIE5pX45WFLm50k8ei7WYpoou3HYw98JfnqLbLJ7Zt5uCU/6Adp x+N/wRZcON8IUW0fOvYPRS+RTWuyVGKUchopYLE/x7//qr8/Awa98cVvgSMjnQ1TDENg9CQHqG5 9inBMW7DSC0Sdtusd7cmpvjWeo/a0epvBK3G9RYDXXChHP4qQ+5grw4HSikPIveMKzCEedO3zmw Fy4IFqlvau6O6M40JpWIn75FvwN48ZbZZ02mxDN2rlWdkJ+1YZu8VRmMYFJsgTrpFsbqvwvvtRl XcBUa1RT8BklZJOmRzTjvubgqY2LcJtwq+39KyzG5QS9VQolZTAdWgS8/4rW2NTxAW3H6qbBNGn EsA== X-Google-Smtp-Source: AGHT+IFNAcMpkKm+Ne/gTQdlSXpWYf6267drkRABjM5Q6Nq7xYw4UMObZFgZ+SgIxA4vAmnBIsoVXGZo0BlN X-Received: by 2002:a53:ca0f:0:b0:633:bc86:a1d2 with SMTP id 956f58d0204a3-63b992a5f6bmr7182335d50.0.1759668778356; Sun, 05 Oct 2025 05:52:58 -0700 (PDT) Received: from postal.iol.unh.edu (postal.iol.unh.edu. [132.177.123.84]) by smtp-relay.gmail.com with ESMTPS id 00721157ae682-77f9893b89dsm3944737b3.12.2025.10.05.05.52.58 (version=TLS1_2 cipher=ECDHE-ECDSA-AES128-GCM-SHA256 bits=128/128); Sun, 05 Oct 2025 05:52:58 -0700 (PDT) X-Relaying-Domain: iol.unh.edu Date: Sun, 05 Oct 2025 05:52:58 -0700 (PDT) Message-ID: <68e26a2a.050a0220.3589b2.3c08SMTPIN_ADDED_MISSING@mx.google.com> Received: from [172.21.0.2] (unknown [172.18.0.240]) by postal.iol.unh.edu (Postfix) with ESMTP id 0657D6051830; Sun, 5 Oct 2025 08:52:58 -0400 (EDT) Subject: |SUCCESS| [GIT MASTER] 3b43ce3f4a54468e7ef65760c2fd7b4d6ee6d9fc From: dpdklab@iol.unh.edu To: Test Report Cc: dpdk-test-reports@iol.unh.edu, Xueming Li , Christian Ehrhardt , Kevin Traynor , Luca Boccassi Content-Type: text/plain X-BeenThere: test-report@dpdk.org X-Mailman-Version: 2.1.29 Precedence: list List-Id: automatic DPDK test reports List-Unsubscribe: , List-Archive: List-Post: List-Help: List-Subscribe: , Errors-To: test-report-bounces@dpdk.org _Testing PASS_ Branch: tags/v22.11 3b43ce3f4a54468e7ef65760c2fd7b4d6ee6d9fc --> testing pass Upstream job id: Generic-DPDK-Compile-Meson#431150 Test environment and result as below: +---------------------+--------------------+-------------------------+----------------------+ | Environment | dpdk_meson_compile | dpdk_llvm_clang_compile | dpdk_mingw64_compile | +=====================+====================+=========================+======================+ | Ubuntu 20.04 | PASS | SKIPPED | SKIPPED | +---------------------+--------------------+-------------------------+----------------------+ | FreeBSD 14.2 | PASS | SKIPPED | SKIPPED | +---------------------+--------------------+-------------------------+----------------------+ | CentOS Stream 9 | PASS | SKIPPED | SKIPPED | +---------------------+--------------------+-------------------------+----------------------+ | Windows Server 2022 | SKIPPED | PASS | PASS | +---------------------+--------------------+-------------------------+----------------------+ Ubuntu 20.04 Kernel: 4.19 Compiler: gcc gcc (Ubuntu 9.4.0-1ubuntu1~20.04.2) 9.4.0 FreeBSD 14.2 Kernel: 14.2-RELEASE Compiler: clang 18.1.6 CentOS Stream 9 Kernel: 5.15 Compiler: gcc gcc (GCC) 11.5.0 20240719 (Red Hat 11.5.0-11) Windows Server 2022 Kernel: 10.0.20348.2031 Compiler: clang 15.0.7, gcc 14.1.0 (MinGW), and MSVC VS 19.39.33521 To view detailed results, visit: https://lab.dpdk.org/results/dashboard/tarballs/35089/ UNH-IOL DPDK Community Lab To manage your email subscriptions, visit: https://lab.dpdk.org/results/dashboard/preferences/subscriptions/