From mboxrd@z Thu Jan 1 00:00:00 1970 Return-Path: Received: from mails.dpdk.org (mails.dpdk.org [217.70.189.124]) by inbox.dpdk.org (Postfix) with ESMTP id 40CDF488BB for ; Sun, 5 Oct 2025 14:55:46 +0200 (CEST) Received: from mails.dpdk.org (localhost [127.0.0.1]) by mails.dpdk.org (Postfix) with ESMTP id 385D8402C0; Sun, 5 Oct 2025 14:55:46 +0200 (CEST) Received: from mail-il1-f226.google.com (mail-il1-f226.google.com [209.85.166.226]) by mails.dpdk.org (Postfix) with ESMTP id F3AD7402C0 for ; Sun, 5 Oct 2025 14:55:43 +0200 (CEST) Received: by mail-il1-f226.google.com with SMTP id e9e14a558f8ab-42d888f6b3bso40469185ab.1 for ; Sun, 05 Oct 2025 05:55:43 -0700 (PDT) DKIM-Signature: v=1; a=rsa-sha256; c=relaxed/relaxed; d=iol.unh.edu; s=unh-iol; t=1759668943; x=1760273743; darn=dpdk.org; h=cc:to:from:subject:message-id:date:from:to:cc:subject:date :message-id:reply-to; bh=OxrWjclOtTI21UgRQEyocvc57ldgibFA9gsyeoMbDeI=; b=S4KiVVBUqLG2kTyTM4FvgXnqQPF06KRPaM4Hjh/CGmEliFz6lk16DMyTwJuhkaWwZy sI0FHcqKb4NY2cvCQdPA6Tpzom3uUqvcu2Zrv3tRMdhmg0IHGfhkfDazCvWMdna4hflq D34o3w2G9IY4g92HQ2nRABGO01FKYM4QIwbz4= X-Google-DKIM-Signature: v=1; a=rsa-sha256; c=relaxed/relaxed; d=1e100.net; s=20230601; t=1759668943; x=1760273743; h=cc:to:from:subject:message-id:date:x-gm-message-state:from:to:cc :subject:date:message-id:reply-to; bh=OxrWjclOtTI21UgRQEyocvc57ldgibFA9gsyeoMbDeI=; b=S2txSd8aTvCQDMN+SS0IPC/YRXLj19tk8pnRVcKADuT6WtrfFPeJ1ln34Spj+tScAY DIaI5CJTYQBXvNp1T3M+MaDYMjDQdk+9gxV5HAanw13azTdjkGb0QN5JMCta6aHfqT5b B745rxoIsa/t3zUj3WxMiy74EWrlgsHQTPLxDdwLfCQ6YbJUC4IeX7EeqNhdLBDPNOqx GcK0/pKorC/vz1QBxt8DBsi9yYWEYq4UnEBS6tO3Xw3oxhemswgJ6t6ZNavZZbDrCgOp /KFgKS+wfW1UwkgwnwwQ8sR1NmiOqMvR/PKiIzcb4UDbgDaDKdNUG0FkB+FAyozWc5TW DMbg== X-Gm-Message-State: AOJu0YzM0BAwQMizeXNSD/9SZfpOOZmkblgES2wJwprybiPcv3Z/S4GV FgmoAJZM3Vm51/wO51+4D5KaqqWc8kAGeZKmS3xG1aXT5jWQIcy6Kc66xM9sWaZLwI1LL98PT6U W5GE+ZZ1tafgcMJJ6TjjQQ8ffQWLrq7mHvYZd X-Gm-Gg: ASbGncuoyendlU2bDAi/kv8WnSW/VQcef7TvIxln0PFjg5jU3dn/P5wFm9wB173I/CN essANyD1B7cH2i10+tgJ/1WbJ2OCKd8ev+diBmRQYsKt3M+gZ/mXvTMdvpN9d1RLGHCKjtfxaYq tYUQJu/Ln4KA8+H7mivyRCJLdUyq5rAtA8kFkAhEk1qJFxfy0jqU2tunLMR6PWqAHSiTR2PP6w2 EolBDqCVja/f5bxWj4Zaqacdf6UBEPKtvsJGWMcro0AmzcKSIN7akS44ElIR7rwpREK7pTvjB1K mfQw/WT6GskkRd5JqGXtdCFHdTvlqvXF/ZI1CAAkzVOBmrksTVDWm6DLg0b/YV6m7Xi1dmZpyTH l7Q== X-Google-Smtp-Source: AGHT+IH2pFday4OSyX7KcMP7sxGW0LyrkW7kql+XEz8t3G/2E2pEFnDTkv3tZMy6RYv18Hrp3m13Mt7PLhZ8 X-Received: by 2002:a05:6e02:1a0d:b0:42e:729a:4b0d with SMTP id e9e14a558f8ab-42e7ad6e802mr115502765ab.20.1759668943223; Sun, 05 Oct 2025 05:55:43 -0700 (PDT) Received: from postal.iol.unh.edu (postal.iol.unh.edu. [132.177.123.84]) by smtp-relay.gmail.com with ESMTPS id e9e14a558f8ab-42d8b279848sm7739605ab.19.2025.10.05.05.55.43 (version=TLS1_2 cipher=ECDHE-ECDSA-AES128-GCM-SHA256 bits=128/128); Sun, 05 Oct 2025 05:55:43 -0700 (PDT) X-Relaying-Domain: iol.unh.edu Date: Sun, 05 Oct 2025 05:55:43 -0700 (PDT) Message-ID: <68e26acf.050a0220.59068.a636SMTPIN_ADDED_MISSING@mx.google.com> Received: from [172.21.0.2] (unknown [172.18.0.240]) by postal.iol.unh.edu (Postfix) with ESMTP id B7DED6051830; Sun, 5 Oct 2025 08:55:42 -0400 (EDT) Subject: |SUCCESS| [GIT MASTER] 3b43ce3f4a54468e7ef65760c2fd7b4d6ee6d9fc From: dpdklab@iol.unh.edu To: Test Report Cc: dpdk-test-reports@iol.unh.edu, Xueming Li , Christian Ehrhardt , Kevin Traynor , Luca Boccassi Content-Type: text/plain X-BeenThere: test-report@dpdk.org X-Mailman-Version: 2.1.29 Precedence: list List-Id: automatic DPDK test reports List-Unsubscribe: , List-Archive: List-Post: List-Help: List-Subscribe: , Errors-To: test-report-bounces@dpdk.org _Testing PASS_ Branch: tags/v22.11 3b43ce3f4a54468e7ef65760c2fd7b4d6ee6d9fc --> testing pass Upstream job id: Generic-DPDK-Compile-Meson#431151 Test environment and result as below: +---------------------+--------------------+-------------------------+----------------------+ | Environment | dpdk_meson_compile | dpdk_llvm_clang_compile | dpdk_mingw64_compile | +=====================+====================+=========================+======================+ | Ubuntu 20.04 | PASS | SKIPPED | SKIPPED | +---------------------+--------------------+-------------------------+----------------------+ | FreeBSD 14.2 | PASS | SKIPPED | SKIPPED | +---------------------+--------------------+-------------------------+----------------------+ | CentOS Stream 9 | PASS | SKIPPED | SKIPPED | +---------------------+--------------------+-------------------------+----------------------+ | CentOS Stream 10 | PASS | SKIPPED | SKIPPED | +---------------------+--------------------+-------------------------+----------------------+ | Windows Server 2022 | SKIPPED | PASS | PASS | +---------------------+--------------------+-------------------------+----------------------+ Ubuntu 20.04 Kernel: 4.19 Compiler: gcc gcc (Ubuntu 9.4.0-1ubuntu1~20.04.2) 9.4.0 FreeBSD 14.2 Kernel: 14.2-RELEASE Compiler: clang 18.1.6 CentOS Stream 9 Kernel: 5.15 Compiler: gcc gcc (GCC) 11.5.0 20240719 (Red Hat 11.5.0-11) CentOS Stream 10 Kernel: 5.15 Compiler: gcc gcc (GCC) 14.2.1 20250110 (Red Hat 14.2.1-8) Windows Server 2022 Kernel: 10.0.20348.2031 Compiler: clang 15.0.7, gcc 14.1.0 (MinGW), and MSVC VS 19.39.33521 To view detailed results, visit: https://lab.dpdk.org/results/dashboard/tarballs/35089/ UNH-IOL DPDK Community Lab To manage your email subscriptions, visit: https://lab.dpdk.org/results/dashboard/preferences/subscriptions/