From mboxrd@z Thu Jan 1 00:00:00 1970 Return-Path: Received: from mails.dpdk.org (mails.dpdk.org [217.70.189.124]) by inbox.dpdk.org (Postfix) with ESMTP id 7BF42488BB for ; Sun, 5 Oct 2025 15:46:43 +0200 (CEST) Received: from mails.dpdk.org (localhost [127.0.0.1]) by mails.dpdk.org (Postfix) with ESMTP id 5E5D3402C1; Sun, 5 Oct 2025 15:46:43 +0200 (CEST) Received: from mail-qv1-f100.google.com (mail-qv1-f100.google.com [209.85.219.100]) by mails.dpdk.org (Postfix) with ESMTP id 9D3A9402C1 for ; Sun, 5 Oct 2025 15:46:42 +0200 (CEST) Received: by mail-qv1-f100.google.com with SMTP id 6a1803df08f44-796d68804a0so50151906d6.3 for ; Sun, 05 Oct 2025 06:46:42 -0700 (PDT) DKIM-Signature: v=1; a=rsa-sha256; c=relaxed/relaxed; d=iol.unh.edu; s=unh-iol; t=1759672002; x=1760276802; darn=dpdk.org; h=cc:to:from:subject:message-id:date:from:to:cc:subject:date :message-id:reply-to; bh=9PsUq5/T27Y63esb3KG2kaK93ZaJGgYt/7gcTwEA+rs=; b=Tiw7PiUyHVbH36qZ46Z0QP06HlyOzrnX3GQLE/3W2WZXqe2mlepNCAg6qLhhwj0yIG Pj0X0J9/7ZwjtQbYU8AkCx8ikMM7CawKkkbSt/VVLXTQ//6hWrzlTMOnt9QCcbERkBhm zf2KInpB1d4kYwurGVigOaaJs5970gKB6cZ+s= X-Google-DKIM-Signature: v=1; a=rsa-sha256; c=relaxed/relaxed; d=1e100.net; s=20230601; t=1759672002; x=1760276802; h=cc:to:from:subject:message-id:date:x-gm-message-state:from:to:cc :subject:date:message-id:reply-to; bh=9PsUq5/T27Y63esb3KG2kaK93ZaJGgYt/7gcTwEA+rs=; b=hjSd46MN0ljvNqD89rv7EGLdJqs99pP86C3AregS2KcSapXYiNlvsvWvdmPuYLf2xc d85eH3gcuCz2ZdDMDF0H+s3H8wHz0/TGlpxcLPIyx/8xldTyCWxxTbjXprI+yJljORyn xsxzMgaAC/x349fzkfTqEkxNZgfoJ0mw+UCJOiFTifp84hBYdn7OcnSN9+WJEDKat6ed eCR6RAkK7ebA1EkBAqjsh3IxbGtIfGrv40Pps0i76hUH3jMdLT3zV+aZCmEAT8kHTRSM LBnEKCbKZYJ6XjJDzgqurTvx/hYB+Z/2D1U9DBE+0Qn3JLs99tiaXm9S7rWLP5MqIDkC /Gbw== X-Gm-Message-State: AOJu0Yx7nNbH53C0Esrsm/72x7tSwkqqJbhd0838k+1IBggJ8N/Krsw5 f6stBpEhmaACOJxVU9SZWuNHO+jfCNyr06g5VJktIp5mdWjSKtm+p9zFEUvopfwHTYkzk3ae+44 tzH17jOiyEZ+0Mn2qYfQA68LHUAedDVjMlSCH X-Gm-Gg: ASbGnct0whPkUTKDgJmlXH2cEa3iyxTAb4IPDSjPTs+4BUal/86x3JQlplC1pw8A0+S pAK6QxnuVj7t0nuvio4s/qqUySk2yv5cQnf/ByRAoPZrq8lTtISBvQtNtkhUWnAkY6oza0Bu5QT C5TnJABuNjyrUBa0QdVQ32OpaW4pdEpcF+BU7MCC25lrWgfTWUWBkBsjcW+v7sOutjAaOspZXS9 nyb+B8Tp0Cbs9bAjd/5z3DIklz2NW21UhTGIPi4XCu6xkaLhyCddDwhV0TpNoZOKSyMvj6vrEk9 Uf07IPDH/XGD8LSclYdcnk7XMMx3erSga+6gTvgxAEnT9/e4FaMFHmWKOXuBG0DxL1+WgCPeTLl /8A== X-Google-Smtp-Source: AGHT+IEkkN5BzQRsP7sdMZX8IDWUcR7y7cg6RBrhsg+Q1EMbgwvxtBA1uV64DtqQvhz9VKvpsAQ5N6uZPCcL X-Received: by 2002:a05:6214:29c2:b0:822:edb1:fc5f with SMTP id 6a1803df08f44-879dc84a05fmr102129416d6.46.1759672001821; Sun, 05 Oct 2025 06:46:41 -0700 (PDT) Received: from postal.iol.unh.edu (postal.iol.unh.edu. [132.177.123.84]) by smtp-relay.gmail.com with ESMTPS id 6a1803df08f44-878bb73374asm8968456d6.17.2025.10.05.06.46.41 (version=TLS1_2 cipher=ECDHE-ECDSA-AES128-GCM-SHA256 bits=128/128); Sun, 05 Oct 2025 06:46:41 -0700 (PDT) X-Relaying-Domain: iol.unh.edu Date: Sun, 05 Oct 2025 06:46:41 -0700 (PDT) Message-ID: <68e276c1.050a0220.d4f75.0dafSMTPIN_ADDED_MISSING@mx.google.com> Received: from [172.21.0.2] (unknown [172.18.0.240]) by postal.iol.unh.edu (Postfix) with ESMTP id 8B03A6051830; Sun, 5 Oct 2025 09:46:41 -0400 (EDT) Subject: |SUCCESS| [GIT MASTER] 3b43ce3f4a54468e7ef65760c2fd7b4d6ee6d9fc From: dpdklab@iol.unh.edu To: Test Report Cc: dpdk-test-reports@iol.unh.edu, Xueming Li , Christian Ehrhardt , Kevin Traynor , Luca Boccassi Content-Type: text/plain X-BeenThere: test-report@dpdk.org X-Mailman-Version: 2.1.29 Precedence: list List-Id: automatic DPDK test reports List-Unsubscribe: , List-Archive: List-Post: List-Help: List-Subscribe: , Errors-To: test-report-bounces@dpdk.org _Testing PASS_ Branch: tags/v22.11 3b43ce3f4a54468e7ef65760c2fd7b4d6ee6d9fc --> testing pass Upstream job id: Generic-DPDK-Compile-Meson#431157 Test environment and result as below: +-------------------------------+--------------------+-------------------------+----------------------+ | Environment | dpdk_meson_compile | dpdk_llvm_clang_compile | dpdk_mingw64_compile | +===============================+====================+=========================+======================+ | Ubuntu 20.04 | PASS | SKIPPED | SKIPPED | +-------------------------------+--------------------+-------------------------+----------------------+ | FreeBSD 14.2 | PASS | SKIPPED | SKIPPED | +-------------------------------+--------------------+-------------------------+----------------------+ | CentOS Stream 9 | PASS | SKIPPED | SKIPPED | +-------------------------------+--------------------+-------------------------+----------------------+ | CentOS Stream 10 | PASS | SKIPPED | SKIPPED | +-------------------------------+--------------------+-------------------------+----------------------+ | Debian GNU/Linux 12 | PASS | SKIPPED | SKIPPED | +-------------------------------+--------------------+-------------------------+----------------------+ | Fedora Linux 42 | PASS | SKIPPED | SKIPPED | +-------------------------------+--------------------+-------------------------+----------------------+ | openSUSE Leap 15.6 | PASS | SKIPPED | SKIPPED | +-------------------------------+--------------------+-------------------------+----------------------+ | Red Hat Enterprise Linux 8.10 | PASS | SKIPPED | SKIPPED | +-------------------------------+--------------------+-------------------------+----------------------+ | Red Hat Enterprise Linux 9.5 | PASS | SKIPPED | SKIPPED | +-------------------------------+--------------------+-------------------------+----------------------+ | Ubuntu 22.04 | PASS | SKIPPED | SKIPPED | +-------------------------------+--------------------+-------------------------+----------------------+ | Ubuntu 24.04 | PASS | SKIPPED | SKIPPED | +-------------------------------+--------------------+-------------------------+----------------------+ | Windows Server 2022 | SKIPPED | PASS | PASS | +-------------------------------+--------------------+-------------------------+----------------------+ Ubuntu 20.04 Kernel: 4.19 Compiler: gcc gcc (Ubuntu 9.4.0-1ubuntu1~20.04.2) 9.4.0 FreeBSD 14.2 Kernel: 14.2-RELEASE Compiler: clang 18.1.6 CentOS Stream 9 Kernel: 5.15 Compiler: gcc gcc (GCC) 11.5.0 20240719 (Red Hat 11.5.0-11) CentOS Stream 10 Kernel: 5.15 Compiler: gcc gcc (GCC) 14.2.1 20250110 (Red Hat 14.2.1-8) Debian GNU/Linux 12 Kernel: 5.15 Compiler: gcc gcc (Debian 12.2.0-14+deb12u1) 12.2.0 Fedora Linux 42 Kernel: 5.15 Compiler: clang gcc (GCC) 15.2.1 20250808 (Red Hat 15.2.1-1) openSUSE Leap 15.6 Kernel: 5.15 Compiler: gcc gcc (SUSE Linux) 7.5.0 Red Hat Enterprise Linux 8.10 Kernel: 5.15 Compiler: gcc gcc (GCC) 8.5.0 20210514 (Red Hat 8.5.0-22) Red Hat Enterprise Linux 9.5 Kernel: 5.15 Compiler: gcc gcc (GCC) 11.5.0 20240719 (Red Hat 11.5.0-2) Ubuntu 22.04 Kernel: 5.15 Compiler: gcc gcc (Ubuntu 11.4.0-1ubuntu1~22.04) 11.4.0 Ubuntu 24.04 Kernel: 5.15 Compiler: gcc gcc (Ubuntu 13.3.0-6ubuntu2~24.04) 13.3.0 Windows Server 2022 Kernel: 10.0.20348.2031 Compiler: clang 15.0.7, gcc 14.1.0 (MinGW), and MSVC VS 19.39.33521 To view detailed results, visit: https://lab.dpdk.org/results/dashboard/tarballs/35089/ UNH-IOL DPDK Community Lab To manage your email subscriptions, visit: https://lab.dpdk.org/results/dashboard/preferences/subscriptions/