From mboxrd@z Thu Jan 1 00:00:00 1970 Return-Path: Received: from mails.dpdk.org (mails.dpdk.org [217.70.189.124]) by inbox.dpdk.org (Postfix) with ESMTP id 7BDF8488BC for ; Sun, 5 Oct 2025 16:11:16 +0200 (CEST) Received: from mails.dpdk.org (localhost [127.0.0.1]) by mails.dpdk.org (Postfix) with ESMTP id 5B3E9402C1; Sun, 5 Oct 2025 16:11:16 +0200 (CEST) Received: from mail-il1-f226.google.com (mail-il1-f226.google.com [209.85.166.226]) by mails.dpdk.org (Postfix) with ESMTP id 1905D402C1 for ; Sun, 5 Oct 2025 16:11:15 +0200 (CEST) Received: by mail-il1-f226.google.com with SMTP id e9e14a558f8ab-42f3acb1744so11248355ab.0 for ; Sun, 05 Oct 2025 07:11:15 -0700 (PDT) DKIM-Signature: v=1; a=rsa-sha256; c=relaxed/relaxed; d=iol.unh.edu; s=unh-iol; t=1759673474; x=1760278274; darn=dpdk.org; h=cc:to:from:subject:message-id:date:from:to:cc:subject:date :message-id:reply-to; bh=iIPVerRMSrB+Vw2YHAFhuN6WwhvTCEsBpojEjsMoNKQ=; b=JYjwK3xQ8NxbjPLdhcpsrlUN550ej4j4zCibHXWa3tQMjrAOmRzfd4hzYWDjfmixqA faZZjhBj5fI27Ky0ebw0itAE1OyNMZBWdJl7F1O6+LUOlsoHzQF9zmTL1tnvHt8RcbMw 9ZiGI+j1BPDvY8Gkxn53SRN5s38TgXydgPbCs= X-Google-DKIM-Signature: v=1; a=rsa-sha256; c=relaxed/relaxed; d=1e100.net; s=20230601; t=1759673474; x=1760278274; h=cc:to:from:subject:message-id:date:x-gm-message-state:from:to:cc :subject:date:message-id:reply-to; bh=iIPVerRMSrB+Vw2YHAFhuN6WwhvTCEsBpojEjsMoNKQ=; b=K9HPi7n73iLREjE1+brSKfptelIhluj1lmMahpiX2TYUeDIVA4bp+PYdHv8/iaBH3q 2H1E0L6I7zVob+ch1Vsb9kyxkEPZ8HK03VhC9Czq7Dd6VNbaWqjxAzNSjs1GDCehypbt 0S4YqaPsFxTCyJMhXfeIX/c5VrPuj6gTIWU4KOd/Y5IsCM70muM0wOvUS/cLxjZZZX3J KlHLWLwBXfAExqKrsPWgAEn9334ehJX65He6i3JTyPul7oGN2/jMkJCn6vDwSs6Sog8g ilt/8XMLTEuSgd1PindIC1y6h7q9uQR/boBnR+keOETw6NMrX6cs68Z2L3sCtO3Ici4u IR6g== X-Gm-Message-State: AOJu0YyN7Gw3Y9KVGziD2oWmX2v04IPhQqysX/VkvjvMCQ3m9VU/8RWr 4FspJ0yGDUM+9qvD2i137sbbhqMnuYVTO1LSkje+NMMzb6cXLC/lp4+z3Wt/d7n7bsHt1DaUS5p BFPsaa8nZ6joJKtIK5l7iMCNvDJj9Y0ePCi9RhbqFDUy3Evv8xYyW X-Gm-Gg: ASbGncud+1ujg5sa9ZywSYGSlRe6v/etAXjNNzMYPuiuPYRgyco74px201wYIRztL0R Id/GXeWH1W5E9APkvtz3wXJrBKnBTAoM60MlrwGMeiJiIXYKXp+KdzL5cRxmgkctbTzroAh6m1n Cz3/KsEuu45HEBu3gObWobak94nsEXhWwEAZuG6DsKhYL7xJVwUeHQ+UGXHUYW8ferqKvV8EWcm oiHOAUXQG2CeYrwyTqa7DtvYPk08wcNqDIV3Vq0W26sDdHP/qXHFeWNVVAEjkU0ZgdZL5JRIiQ9 pIRVnfg9/Yi4DWenpgVwohhN8C3dm1EsNG1fqr15pLxnCFG80TsryLs= X-Google-Smtp-Source: AGHT+IGE8deqP5Vy85bcOxPdLJJhgB+MFo/yISXpN8R8ZJ0/tNGHNWLjyJImUT3XuOFmZpDmRi4QUFFaOkMT X-Received: by 2002:a05:6e02:1d94:b0:42d:7d2e:2bff with SMTP id e9e14a558f8ab-42e7ad999edmr105990885ab.22.1759673474259; Sun, 05 Oct 2025 07:11:14 -0700 (PDT) Received: from postal.iol.unh.edu (postal.iol.unh.edu. [2606:4100:3880:1234::84]) by smtp-relay.gmail.com with ESMTPS id 8926c6da1cb9f-57b5ed663c4sm823765173.37.2025.10.05.07.11.14 (version=TLS1_2 cipher=ECDHE-ECDSA-AES128-GCM-SHA256 bits=128/128); Sun, 05 Oct 2025 07:11:14 -0700 (PDT) X-Relaying-Domain: iol.unh.edu Date: Sun, 05 Oct 2025 07:11:14 -0700 (PDT) Message-ID: <68e27c82.050a0220.3519c1.bdf7SMTPIN_ADDED_MISSING@mx.google.com> Received: from [172.21.0.2] (unknown [172.18.0.240]) by postal.iol.unh.edu (Postfix) with ESMTP id C6E5B6051830; Sun, 5 Oct 2025 10:11:13 -0400 (EDT) Subject: |SUCCESS| [GIT MASTER] b287e404643aeab5bb5db084c142789df187844e From: dpdklab@iol.unh.edu To: Test Report Cc: dpdk-test-reports@iol.unh.edu, Xueming Li , Christian Ehrhardt , Kevin Traynor , Luca Boccassi Content-Type: text/plain X-BeenThere: test-report@dpdk.org X-Mailman-Version: 2.1.29 Precedence: list List-Id: automatic DPDK test reports List-Unsubscribe: , List-Archive: List-Post: List-Help: List-Subscribe: , Errors-To: test-report-bounces@dpdk.org _Testing PASS_ Branch: tags/v24.11 b287e404643aeab5bb5db084c142789df187844e --> testing pass Upstream job id: Generic-Unit-Test-DPDK#378598 Test environment and result as below: +------------------------------+----------------+---------------------------+--------------+------------------------------+ | Environment | dpdk_unit_test | cryptodev_sw_zuc_autotest | lpm_autotest | cryptodev_sw_snow3g_autotest | +==============================+================+===========================+==============+==============================+ | CentOS Stream 9 | PASS | SKIPPED | SKIPPED | SKIPPED | +------------------------------+----------------+---------------------------+--------------+------------------------------+ | Debian GNU/Linux 12 | PASS | SKIPPED | SKIPPED | SKIPPED | +------------------------------+----------------+---------------------------+--------------+------------------------------+ | Fedora Linux 40 | PASS | SKIPPED | SKIPPED | SKIPPED | +------------------------------+----------------+---------------------------+--------------+------------------------------+ | CentOS Stream 10 | PASS | SKIPPED | SKIPPED | SKIPPED | +------------------------------+----------------+---------------------------+--------------+------------------------------+ | Fedora Linux 41 | PASS | SKIPPED | SKIPPED | SKIPPED | +------------------------------+----------------+---------------------------+--------------+------------------------------+ | Fedora Linux 42 | PASS | SKIPPED | SKIPPED | SKIPPED | +------------------------------+----------------+---------------------------+--------------+------------------------------+ | Ubuntu 20.04 | PASS | SKIPPED | PASS | SKIPPED | +------------------------------+----------------+---------------------------+--------------+------------------------------+ | Ubuntu 22.04 | PASS | SKIPPED | SKIPPED | SKIPPED | +------------------------------+----------------+---------------------------+--------------+------------------------------+ | Ubuntu 24.04 | PASS | SKIPPED | SKIPPED | SKIPPED | +------------------------------+----------------+---------------------------+--------------+------------------------------+ | Red Hat Enterprise Linux 9.5 | PASS | SKIPPED | SKIPPED | SKIPPED | +------------------------------+----------------+---------------------------+--------------+------------------------------+ | Debian 12 (arm) | SKIPPED | PASS | SKIPPED | PASS | +------------------------------+----------------+---------------------------+--------------+------------------------------+ CentOS Stream 9 Kernel: 5.4 Compiler: gcc gcc (GCC) 11.5.0 20240719 (Red Hat 11.5.0-11) Debian GNU/Linux 12 Kernel: 5.4 Compiler: gcc gcc (Debian 12.2.0-14+deb12u1) 12.2.0 Fedora Linux 40 Kernel: 5.4 Compiler: gcc gcc (GCC) 14.2.1 20240912 (Red Hat 14.2.1-3) CentOS Stream 10 Kernel: 5.4 Compiler: gcc gcc (GCC) 14.2.1 20250110 (Red Hat 14.2.1-8) Fedora Linux 41 Kernel: 5.4 Compiler: clang gcc (GCC) 14.3.1 20250523 (Red Hat 14.3.1-1) Fedora Linux 42 Kernel: 5.4 Compiler: clang gcc (GCC) 15.2.1 20250808 (Red Hat 15.2.1-1) Ubuntu 20.04 Kernel: 5.4 Compiler: gcc gcc (Ubuntu 9.4.0-1ubuntu1~20.04.2) 9.4.0 Ubuntu 22.04 Kernel: 5.4 Compiler: gcc gcc (Ubuntu 11.4.0-1ubuntu1~22.04) 11.4.0 Ubuntu 24.04 Kernel: 5.4 Compiler: gcc gcc (Ubuntu 13.3.0-6ubuntu2~24.04) 13.3.0 Red Hat Enterprise Linux 9.5 Kernel: 5.4 Compiler: gcc gcc (GCC) 11.5.0 20240719 (Red Hat 11.5.0-2) Debian 12 (arm) Kernel: Depends on container host Compiler: gcc (Debian 12.2.0-14) 12.2.0 To view detailed results, visit: https://lab.dpdk.org/results/dashboard/tarballs/35110/ UNH-IOL DPDK Community Lab To manage your email subscriptions, visit: https://lab.dpdk.org/results/dashboard/preferences/subscriptions/