From mboxrd@z Thu Jan 1 00:00:00 1970 Return-Path: Received: from mails.dpdk.org (mails.dpdk.org [217.70.189.124]) by inbox.dpdk.org (Postfix) with ESMTP id B5FCF488BE for ; Sun, 5 Oct 2025 20:13:50 +0200 (CEST) Received: from mails.dpdk.org (localhost [127.0.0.1]) by mails.dpdk.org (Postfix) with ESMTP id 9A9ED402C1; Sun, 5 Oct 2025 20:13:50 +0200 (CEST) Received: from mail-pl1-f227.google.com (mail-pl1-f227.google.com [209.85.214.227]) by mails.dpdk.org (Postfix) with ESMTP id 84404402C1 for ; Sun, 5 Oct 2025 20:13:49 +0200 (CEST) Received: by mail-pl1-f227.google.com with SMTP id d9443c01a7336-27eec33b737so54877185ad.1 for ; Sun, 05 Oct 2025 11:13:49 -0700 (PDT) DKIM-Signature: v=1; a=rsa-sha256; c=relaxed/relaxed; d=iol.unh.edu; s=unh-iol; t=1759688028; x=1760292828; darn=dpdk.org; h=cc:to:from:subject:message-id:date:from:to:cc:subject:date :message-id:reply-to; bh=B74YTu7bbjqpMCSkNBooguix3vfNiD9nLkrQVhAKGCM=; b=azzXTVs2oq+WHbcy5wzf/L9iFaDVRJK6wVFZR5XpYONTkja9C2eNMox5FHMw+SK+Yx LZRN3cjDFzdJief4tcGyF8DPe/Q574HCU0beMojKsc8B7xXfOlM3g04ULoaJ6/ALk16s /7u6m9yHGXFwiMNwhRHRnon6JRuGK1iqbct4o= X-Google-DKIM-Signature: v=1; a=rsa-sha256; c=relaxed/relaxed; d=1e100.net; s=20230601; t=1759688028; x=1760292828; h=cc:to:from:subject:message-id:date:x-gm-message-state:from:to:cc :subject:date:message-id:reply-to; bh=B74YTu7bbjqpMCSkNBooguix3vfNiD9nLkrQVhAKGCM=; b=BWOL01sBqYNd7CKf+MWB03vn2svjU2IE5En3CCe7VV5HlKN2LXfvL6By7X1tRpYsQn SKvy/BLqk+sXE961I1uKwCjoNNCaW8AEwuGIkbtrrd76e59gev6s4A+y9WIvTDOOvtw5 L7HDG1vcqgEbl2LlSuEnpljU7Pz9LiyCvSwJK+0zd7h4/9smNlQDFuyUD4H2VTSaC8R5 TKQJ+s1dnT3IiN8ESOZ2mtMvqNyQM3J4Z2xZ2qxkgfuKbSG/JRSyoOYc6gWn19KFlP5N e4cprvZ+43mM++/VZOTeL1RqaBVru8NFOzRSevaIxYIr5PJXyp631rSa/y7QNGISObpJ 7LpA== X-Gm-Message-State: AOJu0YzktRwvO7Tk3YfYADDrKijQLFM1jfGI8sF1i/I3AYseyE5WLNv8 fNNGYW0pkP7gmK3aNfgDsFbyqBu2D0WMzBvOboGczQHYh7Y2vDN3zIk86qkG3TcGlWHR3gAiuUw hHVNbOQty88dUrYMSH/YVjD/ngUoYecXfckft X-Gm-Gg: ASbGnctr/3aG4p9yvCgvkoy1pXgAIGo7T5XuIG03XurZQ1pXWLkg6dmEAXZTxwY7Dt2 GBDQGujU+2ZYg/t2EwwzNPxd0hh3OZ3s/uXHqs8z6puuyujyMSTOHFC3spTtZS1VhjFsLt7ocwc rgr3WepjDgoyxu6FcDsZnOLirCFHG9o7HWWMzW1w2EtoQTAxK+9xJ2FU/VnJplmGHkzj6Tvtvm6 MR+PxZFmhzQVTuyLyRvOqq2BTnGrDL/pITnLju+OlzsrteQ2KWzrs6D0i/aYY8zZFija8U74NG2 KXcDp4Tl6OEnuL0NrAMMAyDNKbGHcCCiP0mCUM2E6z6cCPyeyQ6k5YFBAmGP30sHPzrqeAz6CaI 6RQ== X-Google-Smtp-Source: AGHT+IFJc7nYz2gp+GRc92w7VTC7CiGeZgZYrxSMwyNWJIjgIHiTcRtfG2iCKwAoFbDOOswPdAUPG9Xd0mQy X-Received: by 2002:a17:903:2447:b0:281:613:8449 with SMTP id d9443c01a7336-28e9a65e1d5mr126954515ad.47.1759688028546; Sun, 05 Oct 2025 11:13:48 -0700 (PDT) Received: from postal.iol.unh.edu (postal.iol.unh.edu. [132.177.123.84]) by smtp-relay.gmail.com with ESMTPS id d9443c01a7336-28e8d119a30sm8483775ad.22.2025.10.05.11.13.48 (version=TLS1_2 cipher=ECDHE-ECDSA-AES128-GCM-SHA256 bits=128/128); Sun, 05 Oct 2025 11:13:48 -0700 (PDT) X-Relaying-Domain: iol.unh.edu Date: Sun, 05 Oct 2025 11:13:48 -0700 (PDT) Message-ID: <68e2b55c.170a0220.3c7842.e8b5SMTPIN_ADDED_MISSING@mx.google.com> Received: from [172.21.0.3] (unknown [172.18.0.240]) by postal.iol.unh.edu (Postfix) with ESMTP id BDDCA6051830; Sun, 5 Oct 2025 14:13:47 -0400 (EDT) Subject: |SUCCESS| [GIT MASTER] b287e404643aeab5bb5db084c142789df187844e From: dpdklab@iol.unh.edu To: Test Report Cc: dpdk-test-reports@iol.unh.edu, Xueming Li , Christian Ehrhardt , Kevin Traynor , Luca Boccassi Content-Type: text/plain X-BeenThere: test-report@dpdk.org X-Mailman-Version: 2.1.29 Precedence: list List-Id: automatic DPDK test reports List-Unsubscribe: , List-Archive: List-Post: List-Help: List-Subscribe: , Errors-To: test-report-bounces@dpdk.org _Testing PASS_ Branch: tags/v24.11 b287e404643aeab5bb5db084c142789df187844e --> testing pass Upstream job id: Generic-DPDK-Compile-Meson#431015 Test environment and result as below: +------------------------------+--------------------+ | Environment | dpdk_meson_compile | +==============================+====================+ | Ubuntu 20.04 | PASS | +------------------------------+--------------------+ | Red Hat Enterprise Linux 9.5 | PASS | +------------------------------+--------------------+ | Debian GNU/Linux 12 | PASS | +------------------------------+--------------------+ | Fedora Linux 42 | PASS | +------------------------------+--------------------+ | Ubuntu 22.04 | PASS | +------------------------------+--------------------+ | Ubuntu 24.04 | PASS | +------------------------------+--------------------+ | CentOS Stream 9 | PASS | +------------------------------+--------------------+ | CentOS Stream 10 | PASS | +------------------------------+--------------------+ Ubuntu 20.04 Kernel: 5.15 Compiler: aarch64-linux-gnu-gcc gcc (Ubuntu 9.4.0-1ubuntu1~20.04.2) 9.4.0 Red Hat Enterprise Linux 9.5 Kernel: 5.4 Compiler: gcc gcc (GCC) 11.5.0 20240719 (Red Hat 11.5.0-2) Debian GNU/Linux 12 Kernel: 5.4 Compiler: gcc gcc (Debian 12.2.0-14+deb12u1) 12.2.0 Fedora Linux 42 Kernel: 5.4 Compiler: gcc gcc (GCC) 15.2.1 20250808 (Red Hat 15.2.1-1) Ubuntu 22.04 Kernel: 5.4 Compiler: gcc gcc (Ubuntu 11.4.0-1ubuntu1~22.04) 11.4.0 Ubuntu 24.04 Kernel: 5.4 Compiler: gcc gcc (Ubuntu 13.3.0-6ubuntu2~24.04) 13.3.0 CentOS Stream 9 Kernel: 5.4 Compiler: gcc gcc (GCC) 11.5.0 20240719 (Red Hat 11.5.0-11) CentOS Stream 10 Kernel: 5.4 Compiler: gcc gcc (GCC) 14.2.1 20250110 (Red Hat 14.2.1-8) To view detailed results, visit: https://lab.dpdk.org/results/dashboard/tarballs/35083/ UNH-IOL DPDK Community Lab To manage your email subscriptions, visit: https://lab.dpdk.org/results/dashboard/preferences/subscriptions/