From mboxrd@z Thu Jan 1 00:00:00 1970 Return-Path: Received: from mails.dpdk.org (mails.dpdk.org [217.70.189.124]) by inbox.dpdk.org (Postfix) with ESMTP id AD192488BE for ; Sun, 5 Oct 2025 20:14:00 +0200 (CEST) Received: from mails.dpdk.org (localhost [127.0.0.1]) by mails.dpdk.org (Postfix) with ESMTP id A8260402C1; Sun, 5 Oct 2025 20:14:00 +0200 (CEST) Received: from mail-pg1-f227.google.com (mail-pg1-f227.google.com [209.85.215.227]) by mails.dpdk.org (Postfix) with ESMTP id 1772B402C1 for ; Sun, 5 Oct 2025 20:14:00 +0200 (CEST) Received: by mail-pg1-f227.google.com with SMTP id 41be03b00d2f7-b54a588ad96so2875072a12.1 for ; Sun, 05 Oct 2025 11:14:00 -0700 (PDT) DKIM-Signature: v=1; a=rsa-sha256; c=relaxed/relaxed; d=iol.unh.edu; s=unh-iol; t=1759688039; x=1760292839; darn=dpdk.org; h=cc:to:from:subject:message-id:date:from:to:cc:subject:date :message-id:reply-to; bh=aHaOgyPk6RUKVTWAN/jwtbl+xkOa0zRP5ksfB7rc10I=; b=TiVsaI2uKP0uO+MXxVCPkSfjFKqOwnxUeZVTRjsrkqRNg0ON9kr+bZyIdih6K3pvSu RV4cLvNvMUuuomEcJznuvjcQJRX5PQN6aIKcV0Hqh0Iw+kAbThLdDi1QmNtofmpmPKBV oUMOa80VwSrBEopraFAQcRPxDzir9ICqwMXSo= X-Google-DKIM-Signature: v=1; a=rsa-sha256; c=relaxed/relaxed; d=1e100.net; s=20230601; t=1759688039; x=1760292839; h=cc:to:from:subject:message-id:date:x-gm-message-state:from:to:cc :subject:date:message-id:reply-to; bh=aHaOgyPk6RUKVTWAN/jwtbl+xkOa0zRP5ksfB7rc10I=; b=isHUjzixIy6lLQr/Byg7xLW5AZAU7yqK3EndpILw+8cytyD/1taW6DTW5SWG3DPqYC uvraFZNwClQtlN9LhJ9CpsCMNO3BygZeivClHP+AHIcYzoARTkaT1eIDYpPP71bRV1Ys hczzui12WYxyR1a5+Gnwi4V2Q46UZPqI9jHVFL1g2hAEBC7N3G4HL+7Zy+vGlR8JBgLP DNEJlQoA5AYy/wkGZ+hTT7aqXtRK2NgU+JrVXwDLFl+JP6rNL56wiKhLcCTCcKLDLl7g HPdX7OMz34uVwrcB1H3T7PgFJeERD7oabuWzZcFVeqRFImCe9dVl1UiDoMiNZ8t5zpCb MSzw== X-Gm-Message-State: AOJu0YxtcBRVl1fYRrSfmt6dEiTE4gN/stxrIDH55DsS8HXxakdGjCL2 t4k8pS/iuKHMj39yfgobkIaBlwfw3lM42um2lf5yHXLcHxRKZCPZWHPSBJ+nVOlQcZuG2wf8ol8 qV+TC9NlD2l5BbZOciqotOe7P5ueGYzeHZlJC X-Gm-Gg: ASbGncvLKQbyzc1xmx+pBt9fXPPipAYaskTrCPurNfr41x5kxVw64mbnEc8JAZLO/rw 5joGhC+XQrXd06x4vXhXThAQ266B6suFv4uo+wv8w3ci5rbws8xk2p+VtYBogV83f+6KPHcinBT p1pTqhWbozAg4edtVFeXLUE7Og//DkAjdrrWVUL4OEtCq9AM/qf6vojFOF6ucxv15ZZXpdJnXMl Enjv7h1QrC7tZTnqRx8dtGOW37wlvGrvn2r/2QJDVVU7vmwsW9HkmYUE0wWr4WXoCUUxsDD6e5x pTISjFJrXyKXSAx+aqn0mXcnTKH3vRnNi3A/Xp/UrpbFRCt+rrIzkjLoH8N0zRb9/HSQPlXzTlC 69A== X-Google-Smtp-Source: AGHT+IFwyodRUCnit1UMh6YUtl+a3XO7hKZxucAq92jSlYomFmdD85C4X2RTq0iGr4ETo5k2jXlUHvXUjUZK X-Received: by 2002:a17:902:cf0e:b0:278:f46b:d49c with SMTP id d9443c01a7336-28e8d038c23mr162782055ad.9.1759688039065; Sun, 05 Oct 2025 11:13:59 -0700 (PDT) Received: from postal.iol.unh.edu (postal.iol.unh.edu. [132.177.123.84]) by smtp-relay.gmail.com with ESMTPS id 98e67ed59e1d1-339a6f9705esm1208252a91.7.2025.10.05.11.13.58 (version=TLS1_2 cipher=ECDHE-ECDSA-AES128-GCM-SHA256 bits=128/128); Sun, 05 Oct 2025 11:13:59 -0700 (PDT) X-Relaying-Domain: iol.unh.edu Date: Sun, 05 Oct 2025 11:13:59 -0700 (PDT) Message-ID: <68e2b567.170a0220.1a736d.ee9dSMTPIN_ADDED_MISSING@mx.google.com> Received: from [172.21.0.2] (unknown [172.18.0.240]) by postal.iol.unh.edu (Postfix) with ESMTP id 5199A6051830; Sun, 5 Oct 2025 14:13:58 -0400 (EDT) Subject: |SUCCESS| [GIT MASTER] b287e404643aeab5bb5db084c142789df187844e From: dpdklab@iol.unh.edu To: Test Report Cc: dpdk-test-reports@iol.unh.edu, Xueming Li , Christian Ehrhardt , Kevin Traynor , Luca Boccassi Content-Type: text/plain X-BeenThere: test-report@dpdk.org X-Mailman-Version: 2.1.29 Precedence: list List-Id: automatic DPDK test reports List-Unsubscribe: , List-Archive: List-Post: List-Help: List-Subscribe: , Errors-To: test-report-bounces@dpdk.org _Testing PASS_ Branch: tags/v24.11 b287e404643aeab5bb5db084c142789df187844e --> testing pass Upstream job id: Generic-DPDK-Compile-Meson#431017 Test environment and result as below: +------------------------------+--------------------+ | Environment | dpdk_meson_compile | +==============================+====================+ | Ubuntu 20.04 | PASS | +------------------------------+--------------------+ | Red Hat Enterprise Linux 9.5 | PASS | +------------------------------+--------------------+ | Debian GNU/Linux 12 | PASS | +------------------------------+--------------------+ | Fedora Linux 42 | PASS | +------------------------------+--------------------+ | Ubuntu 22.04 | PASS | +------------------------------+--------------------+ | Ubuntu 24.04 | PASS | +------------------------------+--------------------+ | CentOS Stream 9 | PASS | +------------------------------+--------------------+ | CentOS Stream 10 | PASS | +------------------------------+--------------------+ Ubuntu 20.04 Kernel: 5.15 Compiler: aarch64-linux-gnu-gcc gcc (Ubuntu 9.4.0-1ubuntu1~20.04.2) 9.4.0 Red Hat Enterprise Linux 9.5 Kernel: 5.4 Compiler: gcc gcc (GCC) 11.5.0 20240719 (Red Hat 11.5.0-2) Debian GNU/Linux 12 Kernel: 5.4 Compiler: gcc gcc (Debian 12.2.0-14+deb12u1) 12.2.0 Fedora Linux 42 Kernel: 5.4 Compiler: gcc gcc (GCC) 15.2.1 20250808 (Red Hat 15.2.1-1) Ubuntu 22.04 Kernel: 5.4 Compiler: gcc gcc (Ubuntu 11.4.0-1ubuntu1~22.04) 11.4.0 Ubuntu 24.04 Kernel: 5.4 Compiler: gcc gcc (Ubuntu 13.3.0-6ubuntu2~24.04) 13.3.0 CentOS Stream 9 Kernel: 5.4 Compiler: gcc gcc (GCC) 11.5.0 20240719 (Red Hat 11.5.0-11) CentOS Stream 10 Kernel: 5.4 Compiler: gcc gcc (GCC) 14.2.1 20250110 (Red Hat 14.2.1-8) To view detailed results, visit: https://lab.dpdk.org/results/dashboard/tarballs/35083/ UNH-IOL DPDK Community Lab To manage your email subscriptions, visit: https://lab.dpdk.org/results/dashboard/preferences/subscriptions/