From mboxrd@z Thu Jan 1 00:00:00 1970 Return-Path: Received: from mails.dpdk.org (mails.dpdk.org [217.70.189.124]) by inbox.dpdk.org (Postfix) with ESMTP id A58DD488BE for ; Sun, 5 Oct 2025 20:22:47 +0200 (CEST) Received: from mails.dpdk.org (localhost [127.0.0.1]) by mails.dpdk.org (Postfix) with ESMTP id 66F6C402C1; Sun, 5 Oct 2025 20:22:47 +0200 (CEST) Received: from mail-yx1-f100.google.com (mail-yx1-f100.google.com [74.125.224.100]) by mails.dpdk.org (Postfix) with ESMTP id 8430C402C1 for ; Sun, 5 Oct 2025 20:22:45 +0200 (CEST) Received: by mail-yx1-f100.google.com with SMTP id 956f58d0204a3-635c9db8a16so4284528d50.0 for ; Sun, 05 Oct 2025 11:22:45 -0700 (PDT) DKIM-Signature: v=1; a=rsa-sha256; c=relaxed/relaxed; d=iol.unh.edu; s=unh-iol; t=1759688564; x=1760293364; darn=dpdk.org; h=cc:to:from:subject:message-id:date:from:to:cc:subject:date :message-id:reply-to; bh=b4PEvUX7O3WYkDYjH5zOpOxylHgBKVF8zKotXr8qMFg=; b=Z54i3F/2Ki5guYkjl6VOgeEXJycaMtRayoQFIVI267Jy20XQi7TVJr+FFtCI5y9JiQ YBxSY2JG+j1Kwuq6fnXufUzryqM7RDGODkAEEaSldVnPN+1zBTJewbAAuGjrApuh3Ks2 63/leaj2TPB28K4f9yhSxu+G/yT+avwaL70eI= X-Google-DKIM-Signature: v=1; a=rsa-sha256; c=relaxed/relaxed; d=1e100.net; s=20230601; t=1759688564; x=1760293364; h=cc:to:from:subject:message-id:date:x-gm-message-state:from:to:cc :subject:date:message-id:reply-to; bh=b4PEvUX7O3WYkDYjH5zOpOxylHgBKVF8zKotXr8qMFg=; b=PlUOD//+JuZEmBxwsXjDm5dcXAy2JTCFVn4PFmFYFDE7McTQJ5GlG/wkp1lygNpvnE 4Po3jJdd0grguMyPXJarmqT84Huo1U1q7IxESuBpEFvBQoAAB8daRkJWXe9BiyoeaFgB FqHKnV2VDiDIrEzFqOMtm3OOkMV54Nk/STyYDbg9zcFcK7Xn9jm9KBIQ80TW2jYCLrO/ BrDi+8pqvOFuvK1loZGd7guzWCjy+mUVRxpxg8ivBv4cEfooVJXtLQxAli7xiBLqXHkf UzTcXZ7FWKHGrNNZO3PZwNwqLF1o9GCDcdFqlAWGWGBwwL+2D38HGFPq6gDrOu91Z94q yDkg== X-Gm-Message-State: AOJu0Yzc5HTcKqnPLycvgjpoaTllYQylYKe/A8vHksxEERhEqVPBD2p0 F8rGMMbI67trzuN4KUNq7EuE9q+pLkk8kiWwY0xUMT2bj1YY3dKW5gNOD/IH/uuIFwwc9C91Ruh LXTNUglvPhYLAmASXmbNbzLWuQK4i97OrEbEd4oF6rbq4 X-Gm-Gg: ASbGnct2q2mRDVVAeGXrGR7UzCqNkxUKxFhLyRKkR81TzjNofSW0+3eZ2mhqlqzta88 uvNyMmrc6tHNn7TPJPBOWNttaXMWOTB8PrqKWq1B9iYD8Bk1Re+/J88VXD8uEAgA9/tMTVqxsb1 HabWyZf+6CdK2+fZgYcfaqM74VOW2wSOhcIQ8Xz+anxDSXptIAVZDyGi2Tv+cFM+ovZUHHnC2EM oyu0aW+L7qQ0cZaEUQ6I83y4MW6ya5IHP2LFWEGQ3RkYA91cVx4KJrd1nT8BHvUZ2lHFo+T/V/l AI375rddNkN+YaFrIeW0fnJ8ix8OydlyqOm6Uq54cgZHzDT3xWWEYhq3mIyzT9xyWigxS8Bjsxu BPQ== X-Google-Smtp-Source: AGHT+IErHsDSTrUTzjlDv0KoAvbyqFKD5RwmEy31Yly0cBUIMHEb456MGxDBbTVmmwvKuj11i6/QQiX/w2NZ X-Received: by 2002:a53:c941:0:b0:612:891a:9ecc with SMTP id 956f58d0204a3-63b9a0542admr7110290d50.9.1759688564691; Sun, 05 Oct 2025 11:22:44 -0700 (PDT) Received: from postal.iol.unh.edu (postal.iol.unh.edu. [132.177.123.84]) by smtp-relay.gmail.com with ESMTPS id 00721157ae682-77f81d026c9sm6288817b3.21.2025.10.05.11.22.44 (version=TLS1_2 cipher=ECDHE-ECDSA-AES128-GCM-SHA256 bits=128/128); Sun, 05 Oct 2025 11:22:44 -0700 (PDT) X-Relaying-Domain: iol.unh.edu Date: Sun, 05 Oct 2025 11:22:44 -0700 (PDT) Message-ID: <68e2b774.050a0220.2d1281.26bbSMTPIN_ADDED_MISSING@mx.google.com> Received: from [172.21.0.2] (unknown [172.18.0.240]) by postal.iol.unh.edu (Postfix) with ESMTP id 5CE496051830; Sun, 5 Oct 2025 14:22:44 -0400 (EDT) Subject: |SUCCESS| [GIT MASTER] e7d8cc7ef4df3552575525697079d3c957cfcdaf From: dpdklab@iol.unh.edu To: Test Report Cc: dpdk-test-reports@iol.unh.edu, Bruce Richardson Content-Type: text/plain X-BeenThere: test-report@dpdk.org X-Mailman-Version: 2.1.29 Precedence: list List-Id: automatic DPDK test reports List-Unsubscribe: , List-Archive: List-Post: List-Help: List-Subscribe: , Errors-To: test-report-bounces@dpdk.org _Testing PASS_ Branch: dpdk-next-net-intel e7d8cc7ef4df3552575525697079d3c957cfcdaf --> testing pass Upstream job id: Generic-DPDK-Compile-Meson#431055 Test environment and result as below: +------------------------------+--------------------+ | Environment | dpdk_meson_compile | +==============================+====================+ | Debian GNU/Linux 12 | PASS | +------------------------------+--------------------+ | Red Hat Enterprise Linux 9.5 | PASS | +------------------------------+--------------------+ | Ubuntu 20.04 | PASS | +------------------------------+--------------------+ | Fedora Linux 42 | PASS | +------------------------------+--------------------+ | Ubuntu 22.04 | PASS | +------------------------------+--------------------+ | Ubuntu 24.04 | PASS | +------------------------------+--------------------+ | CentOS Stream 9 | PASS | +------------------------------+--------------------+ | CentOS Stream 10 | PASS | +------------------------------+--------------------+ Debian GNU/Linux 12 Kernel: 5.4 Compiler: gcc gcc (Debian 12.2.0-14+deb12u1) 12.2.0 Red Hat Enterprise Linux 9.5 Kernel: 5.4 Compiler: gcc gcc (GCC) 11.5.0 20240719 (Red Hat 11.5.0-2) Ubuntu 20.04 Kernel: 5.15 Compiler: aarch64-linux-gnu-gcc gcc (Ubuntu 9.4.0-1ubuntu1~20.04.2) 9.4.0 Fedora Linux 42 Kernel: 5.4 Compiler: gcc gcc (GCC) 15.2.1 20250808 (Red Hat 15.2.1-1) Ubuntu 22.04 Kernel: 5.4 Compiler: gcc gcc (Ubuntu 11.4.0-1ubuntu1~22.04) 11.4.0 Ubuntu 24.04 Kernel: 5.4 Compiler: gcc gcc (Ubuntu 13.3.0-6ubuntu2~24.04) 13.3.0 CentOS Stream 9 Kernel: 5.4 Compiler: gcc gcc (GCC) 11.5.0 20240719 (Red Hat 11.5.0-11) CentOS Stream 10 Kernel: 5.4 Compiler: gcc gcc (GCC) 14.2.1 20250110 (Red Hat 14.2.1-8) To view detailed results, visit: https://lab.dpdk.org/results/dashboard/tarballs/35085/ UNH-IOL DPDK Community Lab To manage your email subscriptions, visit: https://lab.dpdk.org/results/dashboard/preferences/subscriptions/