From mboxrd@z Thu Jan 1 00:00:00 1970 Return-Path: Received: from mails.dpdk.org (mails.dpdk.org [217.70.189.124]) by inbox.dpdk.org (Postfix) with ESMTP id CB7A5488BE for ; Sun, 5 Oct 2025 21:03:22 +0200 (CEST) Received: from mails.dpdk.org (localhost [127.0.0.1]) by mails.dpdk.org (Postfix) with ESMTP id 9EC0A402C1; Sun, 5 Oct 2025 21:03:22 +0200 (CEST) Received: from mail-pf1-f227.google.com (mail-pf1-f227.google.com [209.85.210.227]) by mails.dpdk.org (Postfix) with ESMTP id 72371402C1 for ; Sun, 5 Oct 2025 21:03:21 +0200 (CEST) Received: by mail-pf1-f227.google.com with SMTP id d2e1a72fcca58-7811a5ec5b6so3831352b3a.1 for ; Sun, 05 Oct 2025 12:03:21 -0700 (PDT) DKIM-Signature: v=1; a=rsa-sha256; c=relaxed/relaxed; d=iol.unh.edu; s=unh-iol; t=1759691000; x=1760295800; darn=dpdk.org; h=cc:to:from:subject:message-id:date:from:to:cc:subject:date :message-id:reply-to; bh=o1LWiMWHSEu0SqaOThaUM1OrIp1GzgXFQun4bTWrxDA=; b=JQBOxZDRLxbIwiqzrTF0igRy2HejopyW80FD8BtSwSwHmZ3+Ni3UKNzsDZzyM2j4cJ HGE3001BFN4tS4muL1ILFlCGPmEZ3KLvhrbKMoTKTGZpKzQ7bfjezjL/MXKJHcoBbgHt GcMQhXUOH13zcWx24Xu0DgqT0IJ2eiLEfvlY0= X-Google-DKIM-Signature: v=1; a=rsa-sha256; c=relaxed/relaxed; d=1e100.net; s=20230601; t=1759691000; x=1760295800; h=cc:to:from:subject:message-id:date:x-gm-message-state:from:to:cc :subject:date:message-id:reply-to; bh=o1LWiMWHSEu0SqaOThaUM1OrIp1GzgXFQun4bTWrxDA=; b=KRZYduPgyReDHYEXk4ciqBoXYpl8wm5yv+6BUDjFc1HCTRY0MbBb+AnMOd2kuJ0j/0 jZIA2A+c1azeLGlMgDy2eHbDhySjiJbx8RHxIYrbV6vR/QUlNgI1kvtjLx5EO7KZoi2L lk69cG1YZV4RSs+z/HMWEVEJTYznJOzBlYB0b12AdAZAn1qMFjwq0m0ZBk3QY8GuI+F3 BOn6ZuxnUTiqCEniAaQTUfSqzUN0l+XWLMm2IKbMTFFRz3k7d6Eym8jNAkrk8RbImy9Z 0c2HBR6hO4DvX9rTNQaV25KRKhSpwryuVp7OFiGwLCmY4A+If/egIJ0U2tfs9lKNGkN4 XwEQ== X-Gm-Message-State: AOJu0Yz/VzrGceUCNJZym5YFU+NWU34F/w/Ldx9BQAwLoSOHLvyrRYPw VleR8qPSVeU7Wl98ThjrvMrxY9p/Q3Gu3D83TImxhxifesZru5jTkDX0v1DO6nUegO0j1A1jrIm 7185MnY82R90F7xiE06i6e9Bp9skGkf7dHK6+Ohy6VCb5NhlvLwSe X-Gm-Gg: ASbGncvaAMR8dcTPNwRT2qTiBEVc4Pfr4IieCweQtgTCCD/x4sMbXZgSjNWbLR+OpVM HDjHiMnPJWcD7wDVnYyOas2bFGRHlLMjFci+YzOZN4L7bLbIToxMY+2GkLbAfm6YqqKuaw3roSm WbwHIni4diNQfU+EbLiFEh1QDZhY/UOrOeXCb4OMh6Jya7PJooq1nolpLxC3fRlTu46UIWIFKUT NPHAej58G2CvCpSDLZgdq7f/J6iKlnmtoomMqdnTqyujE92u9NA9SmD4TzzvhTu4iAmtRpMTBat hclIx7VQiBR7pMFbdvQKP9LXmLYtkmmZAz8IDuhwmBlGrklVbEo7jZs= X-Google-Smtp-Source: AGHT+IGA1bG4/TvSbq+qANbRyDwcCw/i8ZZ2kz2qclZRoKsZ8uTJSmVZQYqghXeMIKPvNe09KA7+fDgE1p9R X-Received: by 2002:a05:6a21:999a:b0:2ab:a456:9b09 with SMTP id adf61e73a8af0-32b61d74721mr13487616637.15.1759691000418; Sun, 05 Oct 2025 12:03:20 -0700 (PDT) Received: from postal.iol.unh.edu (postal.iol.unh.edu. [2606:4100:3880:1234::84]) by smtp-relay.gmail.com with ESMTPS id 98e67ed59e1d1-339a6f4b861sm1308062a91.3.2025.10.05.12.03.20 (version=TLS1_2 cipher=ECDHE-ECDSA-AES128-GCM-SHA256 bits=128/128); Sun, 05 Oct 2025 12:03:20 -0700 (PDT) X-Relaying-Domain: iol.unh.edu Date: Sun, 05 Oct 2025 12:03:20 -0700 (PDT) Message-ID: <68e2c0f8.170a0220.3ce26.8dd0SMTPIN_ADDED_MISSING@mx.google.com> Received: from [172.21.0.2] (unknown [172.18.0.240]) by postal.iol.unh.edu (Postfix) with ESMTP id A15B76051830; Sun, 5 Oct 2025 15:03:19 -0400 (EDT) Subject: |SUCCESS| [GIT MASTER] b287e404643aeab5bb5db084c142789df187844e From: dpdklab@iol.unh.edu To: Test Report Cc: dpdk-test-reports@iol.unh.edu, Xueming Li , Christian Ehrhardt , Kevin Traynor , Luca Boccassi Content-Type: text/plain X-BeenThere: test-report@dpdk.org X-Mailman-Version: 2.1.29 Precedence: list List-Id: automatic DPDK test reports List-Unsubscribe: , List-Archive: List-Post: List-Help: List-Subscribe: , Errors-To: test-report-bounces@dpdk.org _Testing PASS_ Branch: tags/v24.11 b287e404643aeab5bb5db084c142789df187844e --> testing pass Upstream job id: Generic-DPDK-Compile-Meson#431196 Test environment and result as below: +---------------------+--------------------+-------------------+-------------------------+----------------------+-------------------+ | Environment | dpdk_meson_compile | dpdk_msvc_compile | dpdk_llvm_clang_compile | dpdk_mingw64_compile | dpdk_compile_spdk | +=====================+====================+===================+=========================+======================+===================+ | Ubuntu 20.04 | PASS | SKIPPED | SKIPPED | SKIPPED | SKIPPED | +---------------------+--------------------+-------------------+-------------------------+----------------------+-------------------+ | FreeBSD 14.2 | PASS | SKIPPED | SKIPPED | SKIPPED | SKIPPED | +---------------------+--------------------+-------------------+-------------------------+----------------------+-------------------+ | CentOS Stream 9 | PASS | SKIPPED | SKIPPED | SKIPPED | PASS | +---------------------+--------------------+-------------------+-------------------------+----------------------+-------------------+ | CentOS Stream 10 | PASS | SKIPPED | SKIPPED | SKIPPED | SKIPPED | +---------------------+--------------------+-------------------+-------------------------+----------------------+-------------------+ | Windows Server 2022 | SKIPPED | PASS | PASS | PASS | SKIPPED | +---------------------+--------------------+-------------------+-------------------------+----------------------+-------------------+ Ubuntu 20.04 Kernel: 4.19 Compiler: gcc gcc (Ubuntu 9.4.0-1ubuntu1~20.04.2) 9.4.0 FreeBSD 14.2 Kernel: 14.2-RELEASE Compiler: clang 18.1.6 CentOS Stream 9 Kernel: 5.15 Compiler: gcc gcc (GCC) 11.5.0 20240719 (Red Hat 11.5.0-11) CentOS Stream 10 Kernel: 5.15 Compiler: gcc gcc (GCC) 14.2.1 20250110 (Red Hat 14.2.1-8) Windows Server 2022 Kernel: 10.0.20348.2031 Compiler: clang 15.0.7, gcc 14.1.0 (MinGW), and MSVC VS 19.39.33521 To view detailed results, visit: https://lab.dpdk.org/results/dashboard/tarballs/35091/ UNH-IOL DPDK Community Lab To manage your email subscriptions, visit: https://lab.dpdk.org/results/dashboard/preferences/subscriptions/