From mboxrd@z Thu Jan 1 00:00:00 1970 Return-Path: Received: from mails.dpdk.org (mails.dpdk.org [217.70.189.124]) by inbox.dpdk.org (Postfix) with ESMTP id 5B8D3488BE for ; Sun, 5 Oct 2025 21:10:27 +0200 (CEST) Received: from mails.dpdk.org (localhost [127.0.0.1]) by mails.dpdk.org (Postfix) with ESMTP id 41203402C1; Sun, 5 Oct 2025 21:10:27 +0200 (CEST) Received: from mail-pg1-f225.google.com (mail-pg1-f225.google.com [209.85.215.225]) by mails.dpdk.org (Postfix) with ESMTP id 22719402C1 for ; Sun, 5 Oct 2025 21:10:26 +0200 (CEST) Received: by mail-pg1-f225.google.com with SMTP id 41be03b00d2f7-b6093f8f71dso2615744a12.3 for ; Sun, 05 Oct 2025 12:10:26 -0700 (PDT) DKIM-Signature: v=1; a=rsa-sha256; c=relaxed/relaxed; d=iol.unh.edu; s=unh-iol; t=1759691425; x=1760296225; darn=dpdk.org; h=cc:to:from:subject:message-id:date:from:to:cc:subject:date :message-id:reply-to; bh=R8lZWdZpGtl9t4vX6qwV7yePXbL2yWkQutXa1VKCszU=; b=KtVZVqv/q7bh+5t4DZJPJyEGnvSRQuhB36Nb0Wd5yLLiBC88K3dZtAZgBOwTvElZH4 BRfV2FT2RiHWcVyzY+IxLq609yMZ3kYutcZxLonhsF2BGEsUwxOrymhW2r2LWXJEZ8QY W2Z0MiivV9B6cqm9S1S/wbR1KAH54FieUEToQ= X-Google-DKIM-Signature: v=1; a=rsa-sha256; c=relaxed/relaxed; d=1e100.net; s=20230601; t=1759691425; x=1760296225; h=cc:to:from:subject:message-id:date:x-gm-message-state:from:to:cc :subject:date:message-id:reply-to; bh=R8lZWdZpGtl9t4vX6qwV7yePXbL2yWkQutXa1VKCszU=; b=iHqYVvuufilzyDbRbtyufLDpH3aeTcgQzc7MzMM2b6GK390cf114Rnad7fz7pXmWKp Z0PsYTJUas2Hi3/mmZJJxLBZwyPNhveonrEaEWrx4YgzryvCLTVI31e0yI2eEYhBMlJS rgI7HRGbM62RjEsfi5iKrULatBNFA67R1yyNHzndoFznjAWfT0q3pFoVE5PMLgKeSHf5 Um+4wAtoQWJzSxl3rtiuB9dH2teHZuvT+WGjEdH5Dn0YSUGPO22Xryc3HkPa11YTN3wL v/f+wOj3katqfGBesdIlMb8foFF67LrqHC0RkIAR1cgoqIue2wUrBeNND/7ktD6El8Os ClTA== X-Gm-Message-State: AOJu0YxKrUYqOe+HfuDlF5Y4bB9llkV4MkLfyw5WGl2omwb/GpT9hRab 3r+8pj1354jDip6vgd47EN9fshgmyZ7d7J4iy7P1pV5ETdrX7o5IS4+M2BD7OGrHHcYpMII7vi6 NkNUTcY/idHjPIZTH0Rd3UFBe3ChV7+5DZ9D3 X-Gm-Gg: ASbGnctTtbviSu9EHQQRQyemI6h30ATJHBWNblWZVop+HDweiQ/kq2ztKKopFNWz5V0 mIBgH48My/NRaGIU8w0mZpOnGqoY6fNf3uvBXi9kvyJm9KfTs75xi/VQbE+3c/ZZaNZ1T8XTq85 8XS1QaSrnMWwl3Tz4xy/7fS7Vihl4NKufDPzLio+BM/yap5D/bLiC0WAkgoi5LiG4Q69JF3ADNa 7qwGAOvHwY4GVf3XOqDI3pJSdSCrLVJXYc20SteEb/c4V0ior9NjU53QiGYKKP483Dbbv++6sTJ XNkWL/BBg8aNLPOzI9m5fwXJMIaezAeH7QqFJMlSk4lkt+vSoSAehBJP9RGm6qsf2r/EsjzppqC WOQ== X-Google-Smtp-Source: AGHT+IGnxmTbuVbrBSZYm3nxcyEXyyolX82V3T+ObQvlqYtQhrm7z+vAK9ujjIpNXLAaW7y58ZBwfrtQKkb7 X-Received: by 2002:a17:903:38cf:b0:277:71e6:b04d with SMTP id d9443c01a7336-28e9a5135efmr120022865ad.3.1759691425135; Sun, 05 Oct 2025 12:10:25 -0700 (PDT) Received: from postal.iol.unh.edu (postal.iol.unh.edu. [132.177.123.84]) by smtp-relay.gmail.com with ESMTPS id d9443c01a7336-28e8d10843fsm8577305ad.7.2025.10.05.12.10.25 (version=TLS1_2 cipher=ECDHE-ECDSA-AES128-GCM-SHA256 bits=128/128); Sun, 05 Oct 2025 12:10:25 -0700 (PDT) X-Relaying-Domain: iol.unh.edu Date: Sun, 05 Oct 2025 12:10:25 -0700 (PDT) Message-ID: <68e2c2a1.170a0220.2487af.efbaSMTPIN_ADDED_MISSING@mx.google.com> Received: from [172.21.0.2] (unknown [172.18.0.240]) by postal.iol.unh.edu (Postfix) with ESMTP id 5A6DC6051830; Sun, 5 Oct 2025 15:10:24 -0400 (EDT) Subject: |SUCCESS| [GIT MASTER] b287e404643aeab5bb5db084c142789df187844e From: dpdklab@iol.unh.edu To: Test Report Cc: dpdk-test-reports@iol.unh.edu, Xueming Li , Christian Ehrhardt , Kevin Traynor , Luca Boccassi Content-Type: text/plain X-BeenThere: test-report@dpdk.org X-Mailman-Version: 2.1.29 Precedence: list List-Id: automatic DPDK test reports List-Unsubscribe: , List-Archive: List-Post: List-Help: List-Subscribe: , Errors-To: test-report-bounces@dpdk.org _Testing PASS_ Branch: tags/v24.11 b287e404643aeab5bb5db084c142789df187844e --> testing pass Upstream job id: Generic-DPDK-Compile-Meson#431198 Test environment and result as below: +---------------------+--------------------+-------------------+-------------------------+----------------------+-------------------+ | Environment | dpdk_meson_compile | dpdk_msvc_compile | dpdk_llvm_clang_compile | dpdk_mingw64_compile | dpdk_compile_spdk | +=====================+====================+===================+=========================+======================+===================+ | Ubuntu 20.04 | PASS | SKIPPED | SKIPPED | SKIPPED | SKIPPED | +---------------------+--------------------+-------------------+-------------------------+----------------------+-------------------+ | FreeBSD 14.2 | PASS | SKIPPED | SKIPPED | SKIPPED | SKIPPED | +---------------------+--------------------+-------------------+-------------------------+----------------------+-------------------+ | CentOS Stream 9 | PASS | SKIPPED | SKIPPED | SKIPPED | PASS | +---------------------+--------------------+-------------------+-------------------------+----------------------+-------------------+ | CentOS Stream 10 | PASS | SKIPPED | SKIPPED | SKIPPED | SKIPPED | +---------------------+--------------------+-------------------+-------------------------+----------------------+-------------------+ | Debian GNU/Linux 12 | PASS | SKIPPED | SKIPPED | SKIPPED | PASS | +---------------------+--------------------+-------------------+-------------------------+----------------------+-------------------+ | Windows Server 2022 | SKIPPED | PASS | PASS | PASS | SKIPPED | +---------------------+--------------------+-------------------+-------------------------+----------------------+-------------------+ Ubuntu 20.04 Kernel: 4.19 Compiler: gcc gcc (Ubuntu 9.4.0-1ubuntu1~20.04.2) 9.4.0 FreeBSD 14.2 Kernel: 14.2-RELEASE Compiler: clang 18.1.6 CentOS Stream 9 Kernel: 5.15 Compiler: gcc gcc (GCC) 11.5.0 20240719 (Red Hat 11.5.0-11) CentOS Stream 10 Kernel: 5.15 Compiler: gcc gcc (GCC) 14.2.1 20250110 (Red Hat 14.2.1-8) Debian GNU/Linux 12 Kernel: 5.15 Compiler: gcc gcc (Debian 12.2.0-14+deb12u1) 12.2.0 Windows Server 2022 Kernel: 10.0.20348.2031 Compiler: clang 15.0.7, gcc 14.1.0 (MinGW), and MSVC VS 19.39.33521 To view detailed results, visit: https://lab.dpdk.org/results/dashboard/tarballs/35091/ UNH-IOL DPDK Community Lab To manage your email subscriptions, visit: https://lab.dpdk.org/results/dashboard/preferences/subscriptions/