From mboxrd@z Thu Jan 1 00:00:00 1970 Return-Path: Received: from mails.dpdk.org (mails.dpdk.org [217.70.189.124]) by inbox.dpdk.org (Postfix) with ESMTP id A3098488BE for ; Sun, 5 Oct 2025 21:25:50 +0200 (CEST) Received: from mails.dpdk.org (localhost [127.0.0.1]) by mails.dpdk.org (Postfix) with ESMTP id 82757402C4; Sun, 5 Oct 2025 21:25:50 +0200 (CEST) Received: from mail-qt1-f225.google.com (mail-qt1-f225.google.com [209.85.160.225]) by mails.dpdk.org (Postfix) with ESMTP id 28949402C4 for ; Sun, 5 Oct 2025 21:25:49 +0200 (CEST) Received: by mail-qt1-f225.google.com with SMTP id d75a77b69052e-4e4a24228c4so31726661cf.1 for ; Sun, 05 Oct 2025 12:25:49 -0700 (PDT) DKIM-Signature: v=1; a=rsa-sha256; c=relaxed/relaxed; d=iol.unh.edu; s=unh-iol; t=1759692348; x=1760297148; darn=dpdk.org; h=references:in-reply-to:cc:to:from:subject:message-id:date:from:to :cc:subject:date:message-id:reply-to; bh=iLl0B35uZ05LDAH/wqGrJEEC7OlB1AH8stfcXs0BvAo=; b=d0cmwTKN7JBGpe/aNcRL87ukinB0xETBAUlszta3oAcVS6zp22It4sdO/slJ8TEyUg XxYwsBw4waVtkJyzOZeBDE7veZ3K4x/H0c47sxZxEVni0qiLkimDn/mpOrJ9A7yPrPcT 71zMHkCN0nOz2uLMYdxgyvmHx+E6g5E0QXx44= X-Google-DKIM-Signature: v=1; a=rsa-sha256; c=relaxed/relaxed; d=1e100.net; s=20230601; t=1759692348; x=1760297148; h=references:in-reply-to:cc:to:from:subject:message-id:date :x-gm-message-state:from:to:cc:subject:date:message-id:reply-to; bh=iLl0B35uZ05LDAH/wqGrJEEC7OlB1AH8stfcXs0BvAo=; b=vuy/oWtZmuMZzZKftTZDE1FtVAfq14jofSqg2Pq+8ZU9tGc6DTW3BbPgHa4ZiG8fM+ ypWkyeM6aUw1RHJuBltfA9ZKbPMNNNgYqLZz27iptcw0pOQlJBqv/9wSPA7cyH2U0tia lW4dL6EmSiT5iUOLQR2qolc4zuuFCrt0j8eN8S0XQsVguXDSJ+FwacQUqexOddRl4WHh tmHxveCUY8CP2odBq8A7ahngPoQw29KIJOEVdtlMYMAcXJbpkVFBd1almVWo6Xe58y2a pas1AXD4F1EqWYQvRmsLhBXQ5ki+nodiX3EiwwJruMwhv2ga7o4KNNrbQia3nHIywsnt L0ig== X-Gm-Message-State: AOJu0YwtrUDB5CuzBfiC4EhfUsp3UErM97j3Thm+moEBqrkT9O9rt56H 948MXyANW6LWnYuDu/Ff6zbrNtgzNQv62RP+QJp51G81i+rcgz3AfUDOVDWWUxmsxyQQaKSluVm PiyNBv2v0NH9g5hlTckE1LJD0YmARQ9yZOU+Pfe0W1wj4pNpjhrV1ILqflQ== X-Gm-Gg: ASbGncvu7EyWc9Ulafi8Q8p0XIb7FQIQxH/mjDxQ8OtQsk32ciTRuNIol0vzek/NMN2 02KwtZ5xbLU+CgkRWwlETMwntObVL/w7m18GxNMPZz1iR49pEN+GrTXFvNZC9k9h/eaOo3l/u7G 605K5TwuXBD5rK/BDx4h9NmXZIXEaZxmIkF24fL+ZyaPBYzNuIOBHh3H8iuxYwTD/EfqfFl4dB1 bWOpvAGaiQSQj9+BAwpKukocwJw18ZN11k8UCQ2W31JIt2RWzPiyb1TOscRCNAqVotXpmrGXSNR UFkXvAJpFa+qc6xSrqzcglnMRbmxXvPCQ1m8zr9iSi9WQHRJx1BQXro= X-Google-Smtp-Source: AGHT+IFTfdkgM272o1OvEyPBxnqdfPn5zQKBuUW4r75WD6PWCVMRBALP4MZM3U9os6QHLnDt80wZzGBYY4YM X-Received: by 2002:a05:622a:148f:b0:4dc:4828:b78c with SMTP id d75a77b69052e-4e576b0b79emr130642251cf.73.1759692348191; Sun, 05 Oct 2025 12:25:48 -0700 (PDT) Received: from postal.iol.unh.edu (postal.iol.unh.edu. [2606:4100:3880:1234::84]) by smtp-relay.gmail.com with ESMTPS id 6a1803df08f44-878bda73490sm9538266d6.19.2025.10.05.12.25.48 (version=TLS1_2 cipher=ECDHE-ECDSA-AES128-GCM-SHA256 bits=128/128); Sun, 05 Oct 2025 12:25:48 -0700 (PDT) X-Relaying-Domain: iol.unh.edu Date: Sun, 05 Oct 2025 12:25:48 -0700 (PDT) Message-ID: <68e2c63c.050a0220.26a174.4206SMTPIN_ADDED_MISSING@mx.google.com> Received: from [172.21.0.2] (unknown [172.18.0.240]) by postal.iol.unh.edu (Postfix) with ESMTP id 9F9AA6051830; Sun, 5 Oct 2025 15:25:47 -0400 (EDT) Subject: |SUCCESS| pw157277 [PATCH] net/mlx5: release allocated indexed pools From: dpdklab@iol.unh.edu To: Test Report Cc: dpdk-test-reports@iol.unh.edu In-Reply-To: <20251005072346.66007-1-mkashani@nvidia.com> References: <20251005072346.66007-1-mkashani@nvidia.com> Content-Type: text/plain X-BeenThere: test-report@dpdk.org X-Mailman-Version: 2.1.29 Precedence: list List-Id: automatic DPDK test reports List-Unsubscribe: , List-Archive: List-Post: List-Help: List-Subscribe: , Errors-To: test-report-bounces@dpdk.org Test-Label: iol-unit-arm64-testing Test-Status: SUCCESS http://dpdk.org/patch/157277 _Testing PASS_ Submitter: Maayan Kashani Date: Sunday, October 05 2025 07:23:45 DPDK git baseline: Repo:dpdk-next-net-mlx Branch: master CommitID:2374f33e1d964e100895fd294966380c46f0886d 157277 --> testing pass Upstream job id: Generic-Unit-Test-DPDK#378631 Test environment and result as below: +------------------------------+----------------+--------------+------------------------------+---------------------------+ | Environment | dpdk_unit_test | lpm_autotest | cryptodev_sw_snow3g_autotest | cryptodev_sw_zuc_autotest | +==============================+================+==============+==============================+===========================+ | CentOS Stream 9 | PASS | SKIPPED | SKIPPED | SKIPPED | +------------------------------+----------------+--------------+------------------------------+---------------------------+ | CentOS Stream 10 | PASS | SKIPPED | SKIPPED | SKIPPED | +------------------------------+----------------+--------------+------------------------------+---------------------------+ | Debian GNU/Linux 12 | PASS | SKIPPED | SKIPPED | SKIPPED | +------------------------------+----------------+--------------+------------------------------+---------------------------+ | Fedora Linux 40 | PASS | SKIPPED | SKIPPED | SKIPPED | +------------------------------+----------------+--------------+------------------------------+---------------------------+ | Fedora Linux 42 | PASS | SKIPPED | SKIPPED | SKIPPED | +------------------------------+----------------+--------------+------------------------------+---------------------------+ | Ubuntu 22.04 | PASS | SKIPPED | SKIPPED | SKIPPED | +------------------------------+----------------+--------------+------------------------------+---------------------------+ | Fedora Linux 41 | PASS | SKIPPED | SKIPPED | SKIPPED | +------------------------------+----------------+--------------+------------------------------+---------------------------+ | Ubuntu 20.04 | PASS | PASS | SKIPPED | SKIPPED | +------------------------------+----------------+--------------+------------------------------+---------------------------+ | Ubuntu 24.04 | PASS | SKIPPED | SKIPPED | SKIPPED | +------------------------------+----------------+--------------+------------------------------+---------------------------+ | Red Hat Enterprise Linux 9.5 | PASS | SKIPPED | SKIPPED | SKIPPED | +------------------------------+----------------+--------------+------------------------------+---------------------------+ | Debian 12 (arm) | SKIPPED | SKIPPED | PASS | PASS | +------------------------------+----------------+--------------+------------------------------+---------------------------+ CentOS Stream 9 Kernel: 5.4 Compiler: gcc gcc (GCC) 11.5.0 20240719 (Red Hat 11.5.0-11) CentOS Stream 10 Kernel: 5.4 Compiler: gcc gcc (GCC) 14.2.1 20250110 (Red Hat 14.2.1-8) Debian GNU/Linux 12 Kernel: 5.4 Compiler: gcc gcc (Debian 12.2.0-14+deb12u1) 12.2.0 Fedora Linux 40 Kernel: 5.4 Compiler: clang gcc (GCC) 14.2.1 20240912 (Red Hat 14.2.1-3) Fedora Linux 42 Kernel: 5.4 Compiler: clang gcc (GCC) 15.2.1 20250808 (Red Hat 15.2.1-1) Ubuntu 22.04 Kernel: 5.15 Compiler: gcc gcc (Ubuntu 11.4.0-1ubuntu1~22.04.2) 11.4.0 Fedora Linux 41 Kernel: 5.4 Compiler: gcc gcc (GCC) 14.3.1 20250523 (Red Hat 14.3.1-1) Ubuntu 20.04 Kernel: 5.4 Compiler: gcc gcc (Ubuntu 9.4.0-1ubuntu1~20.04.2) 9.4.0 Ubuntu 24.04 Kernel: 5.4 Compiler: gcc gcc (Ubuntu 13.3.0-6ubuntu2~24.04) 13.3.0 Red Hat Enterprise Linux 9.5 Kernel: 5.4 Compiler: gcc gcc (GCC) 11.5.0 20240719 (Red Hat 11.5.0-2) Debian 12 (arm) Kernel: Depends on container host Compiler: gcc (Debian 12.2.0-14) 12.2.0 To view detailed results, visit: https://lab.dpdk.org/results/dashboard/patchsets/34216/ UNH-IOL DPDK Community Lab To manage your email subscriptions, visit: https://lab.dpdk.org/results/dashboard/preferences/subscriptions/