From mboxrd@z Thu Jan 1 00:00:00 1970 Return-Path: Received: from mails.dpdk.org (mails.dpdk.org [217.70.189.124]) by inbox.dpdk.org (Postfix) with ESMTP id 2576D488BF for ; Sun, 5 Oct 2025 22:08:09 +0200 (CEST) Received: from mails.dpdk.org (localhost [127.0.0.1]) by mails.dpdk.org (Postfix) with ESMTP id F208E402C4; Sun, 5 Oct 2025 22:08:08 +0200 (CEST) Received: from mail-oa1-f99.google.com (mail-oa1-f99.google.com [209.85.160.99]) by mails.dpdk.org (Postfix) with ESMTP id B319E402C4 for ; Sun, 5 Oct 2025 22:08:07 +0200 (CEST) Received: by mail-oa1-f99.google.com with SMTP id 586e51a60fabf-30cce534a91so1357069fac.0 for ; Sun, 05 Oct 2025 13:08:07 -0700 (PDT) DKIM-Signature: v=1; a=rsa-sha256; c=relaxed/relaxed; d=iol.unh.edu; s=unh-iol; t=1759694887; x=1760299687; darn=dpdk.org; h=cc:to:from:subject:message-id:date:from:to:cc:subject:date :message-id:reply-to; bh=9hPQJtLGqWyfmDSHnVHNm0mVtiyQTZv4OI//yWQGX+M=; b=AmjR0aD5rNf29eAzIibiJWwGnSSPH6SpV+chluOY3pFJFYyImIeNCqJOIQg+mRapEX uikDcIKcMBwkf8OKrT6/jeQsMIYE7X83kgaURv9akl472MPpkNAvZ86HOoaGELouyk/u OBInbGqnFuhdUXdR6OzcoFl4oKBuWUwcdyVhE= X-Google-DKIM-Signature: v=1; a=rsa-sha256; c=relaxed/relaxed; d=1e100.net; s=20230601; t=1759694887; x=1760299687; h=cc:to:from:subject:message-id:date:x-gm-message-state:from:to:cc :subject:date:message-id:reply-to; bh=9hPQJtLGqWyfmDSHnVHNm0mVtiyQTZv4OI//yWQGX+M=; b=RSvSJ2y8UEy5knFWIV1b8TpDxC5qyRUqTePVLxsQzBf+bpXbOvHCxQ0HNZLbXMOMA0 JuvvubGMLgVTkWgJcKqW227eIptOU6BfT4UYpBkz3ljYyr4TRD8lf+3F3CS2QhXgjzXj AjRp5NwXV9ek+A8qNO+/BO853QlK908K/bPvnala8YmDwV1oW/FitdKIb5vWfPZJprTt g4rtYZLpw5eN9Wn8t5L9CRaQgc+8cmy6+IWw7rIgzeh7EbRrdaxUvdD97ud9SRK3cxi+ CCiR0lk0QzoRo8gp9VgLtXV5t1k1M/iFN6Cbloem6juHwIQA6l79UzX6Njznwu8wFrWf lVsw== X-Gm-Message-State: AOJu0YwOS2WTMZgINpt+JSYU/V0ItxO7RqTMBEOV62+EELfdMm7zItun TVehwf8lwl9lZ+2l+YY3k6CD0UUUxeALBWfeNhwG1+H/Xt5GA5HMi8CDN3Jous1UcuCeacpf38t 3LbEof4dkTQeUUuRxafrPWlkunVGVTFc+4rOy X-Gm-Gg: ASbGncsUDdEDpaE54kJc3whq4rZxEIDVCVZqZtHCxjWHFD/t6lYqGjW0N+UJWA7Oth2 m7Jb7O9FbZ9m58SM7bf4x42iQltI/HuVNQVMZMqnROAwxVtik0tbvmuubUy2+KqYfOMdSXEEBTj 4XrddCIQWwqxxUrUX8pX/WVaF2StKMG8+PoL0jP8qVtLPbLMbcmZtdgvrweJicr3uZ0TDw3Don3 ucKnE6HGr33qJl2ZwwGMZPy6nwC80dUFMDD/Bzy3eMDuIY+uHJBCutudADZz01bqsswmbUCIMh+ 4DMAmgcsYoC3vwLJDOv5VqLv7NFr2W3zIAYBJEur8QkSEIKEP/JjsJRKKW3bjcJbm0mCXasEvcq bhw== X-Google-Smtp-Source: AGHT+IGPNk18crePFCJieWjoWbLN+SJoqw1FYO8EvVY9aHBlWCMXk6N93HrtdAaLdrazT2ROEWGEh/XDAa4q X-Received: by 2002:a05:6870:e391:b0:315:b513:a6ef with SMTP id 586e51a60fabf-3b1044776admr6041905fac.43.1759694886908; Sun, 05 Oct 2025 13:08:06 -0700 (PDT) Received: from postal.iol.unh.edu (postal.iol.unh.edu. [132.177.123.84]) by smtp-relay.gmail.com with ESMTPS id 586e51a60fabf-3ab918a9e16sm942305fac.15.2025.10.05.13.08.06 (version=TLS1_2 cipher=ECDHE-ECDSA-AES128-GCM-SHA256 bits=128/128); Sun, 05 Oct 2025 13:08:06 -0700 (PDT) X-Relaying-Domain: iol.unh.edu Date: Sun, 05 Oct 2025 13:08:06 -0700 (PDT) Message-ID: <68e2d026.050a0220.132b09.3bc9SMTPIN_ADDED_MISSING@mx.google.com> Received: from [172.21.0.3] (unknown [172.18.0.240]) by postal.iol.unh.edu (Postfix) with ESMTP id EB8856051830; Sun, 5 Oct 2025 16:08:05 -0400 (EDT) Subject: |SUCCESS| [GIT MASTER] b287e404643aeab5bb5db084c142789df187844e From: dpdklab@iol.unh.edu To: Test Report Cc: dpdk-test-reports@iol.unh.edu, Xueming Li , Christian Ehrhardt , Kevin Traynor , Luca Boccassi Content-Type: text/plain X-BeenThere: test-report@dpdk.org X-Mailman-Version: 2.1.29 Precedence: list List-Id: automatic DPDK test reports List-Unsubscribe: , List-Archive: List-Post: List-Help: List-Subscribe: , Errors-To: test-report-bounces@dpdk.org _Testing PASS_ Branch: tags/v24.11 b287e404643aeab5bb5db084c142789df187844e --> testing pass Upstream job id: Generic-DPDK-Compile-Meson#431208 Test environment and result as below: +-------------------------------+--------------------+-------------------+-------------------------+----------------------+-------------------+------------------+ | Environment | dpdk_meson_compile | dpdk_msvc_compile | dpdk_llvm_clang_compile | dpdk_mingw64_compile | dpdk_compile_spdk | dpdk_compile_ovs | +===============================+====================+===================+=========================+======================+===================+==================+ | Ubuntu 20.04 | PASS | SKIPPED | SKIPPED | SKIPPED | SKIPPED | SKIPPED | +-------------------------------+--------------------+-------------------+-------------------------+----------------------+-------------------+------------------+ | FreeBSD 14.2 | PASS | SKIPPED | SKIPPED | SKIPPED | SKIPPED | SKIPPED | +-------------------------------+--------------------+-------------------+-------------------------+----------------------+-------------------+------------------+ | CentOS Stream 9 | PASS | SKIPPED | SKIPPED | SKIPPED | PASS | SKIPPED | +-------------------------------+--------------------+-------------------+-------------------------+----------------------+-------------------+------------------+ | CentOS Stream 10 | PASS | SKIPPED | SKIPPED | SKIPPED | SKIPPED | SKIPPED | +-------------------------------+--------------------+-------------------+-------------------------+----------------------+-------------------+------------------+ | Debian GNU/Linux 12 | PASS | SKIPPED | SKIPPED | SKIPPED | PASS | SKIPPED | +-------------------------------+--------------------+-------------------+-------------------------+----------------------+-------------------+------------------+ | Fedora Linux 42 | PASS | SKIPPED | SKIPPED | SKIPPED | PASS | PASS | +-------------------------------+--------------------+-------------------+-------------------------+----------------------+-------------------+------------------+ | openSUSE Leap 15.6 | PASS | SKIPPED | SKIPPED | SKIPPED | SKIPPED | SKIPPED | +-------------------------------+--------------------+-------------------+-------------------------+----------------------+-------------------+------------------+ | Red Hat Enterprise Linux 8.10 | PASS | SKIPPED | SKIPPED | SKIPPED | SKIPPED | SKIPPED | +-------------------------------+--------------------+-------------------+-------------------------+----------------------+-------------------+------------------+ | Red Hat Enterprise Linux 9.5 | PASS | SKIPPED | SKIPPED | SKIPPED | SKIPPED | SKIPPED | +-------------------------------+--------------------+-------------------+-------------------------+----------------------+-------------------+------------------+ | Windows Server 2022 | SKIPPED | PASS | PASS | PASS | SKIPPED | SKIPPED | +-------------------------------+--------------------+-------------------+-------------------------+----------------------+-------------------+------------------+ Ubuntu 20.04 Kernel: 4.19 Compiler: gcc gcc (Ubuntu 9.4.0-1ubuntu1~20.04.2) 9.4.0 FreeBSD 14.2 Kernel: 14.2-RELEASE Compiler: clang 18.1.6 CentOS Stream 9 Kernel: 5.15 Compiler: gcc gcc (GCC) 11.5.0 20240719 (Red Hat 11.5.0-11) CentOS Stream 10 Kernel: 5.15 Compiler: gcc gcc (GCC) 14.2.1 20250110 (Red Hat 14.2.1-8) Debian GNU/Linux 12 Kernel: 5.15 Compiler: gcc gcc (Debian 12.2.0-14+deb12u1) 12.2.0 Fedora Linux 42 Kernel: 5.15 Compiler: clang gcc (GCC) 15.2.1 20250808 (Red Hat 15.2.1-1) openSUSE Leap 15.6 Kernel: 5.15 Compiler: gcc gcc (SUSE Linux) 7.5.0 Red Hat Enterprise Linux 8.10 Kernel: 5.15 Compiler: gcc gcc (GCC) 8.5.0 20210514 (Red Hat 8.5.0-22) Red Hat Enterprise Linux 9.5 Kernel: 5.15 Compiler: gcc gcc (GCC) 11.5.0 20240719 (Red Hat 11.5.0-2) Windows Server 2022 Kernel: 10.0.20348.2031 Compiler: clang 15.0.7, gcc 14.1.0 (MinGW), and MSVC VS 19.39.33521 To view detailed results, visit: https://lab.dpdk.org/results/dashboard/tarballs/35091/ UNH-IOL DPDK Community Lab To manage your email subscriptions, visit: https://lab.dpdk.org/results/dashboard/preferences/subscriptions/