From mboxrd@z Thu Jan 1 00:00:00 1970 Return-Path: Received: from mails.dpdk.org (mails.dpdk.org [217.70.189.124]) by inbox.dpdk.org (Postfix) with ESMTP id 9EEE2488BF for ; Sun, 5 Oct 2025 22:36:25 +0200 (CEST) Received: from mails.dpdk.org (localhost [127.0.0.1]) by mails.dpdk.org (Postfix) with ESMTP id 7E429402CB; Sun, 5 Oct 2025 22:36:25 +0200 (CEST) Received: from mail-oa1-f97.google.com (mail-oa1-f97.google.com [209.85.160.97]) by mails.dpdk.org (Postfix) with ESMTP id 06B8E402CB for ; Sun, 5 Oct 2025 22:36:23 +0200 (CEST) Received: by mail-oa1-f97.google.com with SMTP id 586e51a60fabf-36e4d00ebfdso1428740fac.1 for ; Sun, 05 Oct 2025 13:36:23 -0700 (PDT) DKIM-Signature: v=1; a=rsa-sha256; c=relaxed/relaxed; d=iol.unh.edu; s=unh-iol; t=1759696583; x=1760301383; darn=dpdk.org; h=cc:to:from:subject:message-id:date:from:to:cc:subject:date :message-id:reply-to; bh=GG4jkLYeLXVuT6Bs/T+ZW7ghnorwGqO9JcGMUr+RCy8=; b=TUbAW1Z2Y+y+IROT80bb3s3pEInPqcvGl2b2W4xLKehLgliAFFL2LWSw4g/2DsAW4L tfrybyS4Ul8eFymHqpSPy8+EfveNIUhLnNNVboNghEMXGvMcCdARg/KmTczFz1FfyAvv BaHH1q4zN94fb5Ir0Hb/0qGeDEkW3+EO9FaxM= X-Google-DKIM-Signature: v=1; a=rsa-sha256; c=relaxed/relaxed; d=1e100.net; s=20230601; t=1759696583; x=1760301383; h=cc:to:from:subject:message-id:date:x-gm-message-state:from:to:cc :subject:date:message-id:reply-to; bh=GG4jkLYeLXVuT6Bs/T+ZW7ghnorwGqO9JcGMUr+RCy8=; b=AKNV6QjKAwtsqNWUUyOPEW4n8dFvkuEo82wKDmAUnfZPvnQXycpHDJeFzP/JCn3GYp zfKXgYV7mQsXYx+LUREEYq7BnU5KeEUfzxnGUOdNok0xd9bYxT1aCX9t/k8C7Qohtxfs cMuOGTDn0JhpvwgRfilZ+NtkiqrVTT1tng9ZIqjiqwRj7ay2aiglZs4OjXx1zo0M/sSD 1TuzbkL6v/Yt6KOAlMjKAh84TH+mxkMmJThqTIhKr/Kc4TM8VlzZO5I83vQZYCDWurzQ jl/MKd3ZHxBSUgp3ApuWz+DIza+oN+C4IU/rKoWDZZb0F2T2H1kN1c6XJPJv4DNeaWty n2aw== X-Gm-Message-State: AOJu0YzNpuWpm85RB2GzVCRLBQAAtVsfz7obWQOVcAZIDCzFniBP8c9Z Nx+42tuv0CksYZy0E23YeXqxUjmVzKz7F/XVVQ9uhlhrv99wK2VdPpKC1RZJPSifeac5qJFg6EB TB6xj11htW/4AP6PYNnw19bulKAO9ucd9drsMjfSUaHIm1qOH9DVG X-Gm-Gg: ASbGncuLbeNhDRgPDwZw0oimDi+z/Zn02v29CSESbFe5ahtz6mspwjEUNWQ0Q4A4Upx 0s/Husw7c1sw2PFAnBv6uHhoYfIG8JeytRCjkfm7kCn9VSItioypfjs4anSXxvO9yfGMF92UJ9r cSMa7lTPmRqtqAJRYBGyCS5zzQa+W6tnM6/tSV7rNPsal4/Eb+nqTdHxHTwxJjePmC1M8ZsrupP 4/8K3FpXxk4Cy+ULU17ZdIiIHuqvxPtowDmud/y72sfBvm6nfQoQZPcUwdyuaoJszdI5eGZD9q7 xnPAoOfxAnlV0XDRqSv4xMhAMrZIUhgxzpfnXw8Hngb9e8W7l2jnhFs= X-Google-Smtp-Source: AGHT+IGrA1+vgm26gWZIKiAKU8y6lW4gN9tfKlaCPdkeW2P8rZivq6AejASKVQx+ltgN75mzjBQzx7mHtTib X-Received: by 2002:a05:6871:230d:b0:369:c7ae:6425 with SMTP id 586e51a60fabf-3b0f988a875mr5310710fac.28.1759696583236; Sun, 05 Oct 2025 13:36:23 -0700 (PDT) Received: from postal.iol.unh.edu (postal.iol.unh.edu. [2606:4100:3880:1234::84]) by smtp-relay.gmail.com with ESMTPS id 586e51a60fabf-3ab98664798sm880484fac.25.2025.10.05.13.36.23 (version=TLS1_2 cipher=ECDHE-ECDSA-AES128-GCM-SHA256 bits=128/128); Sun, 05 Oct 2025 13:36:23 -0700 (PDT) X-Relaying-Domain: iol.unh.edu Date: Sun, 05 Oct 2025 13:36:23 -0700 (PDT) Message-ID: <68e2d6c7.050a0220.29af13.1155SMTPIN_ADDED_MISSING@mx.google.com> Received: from [172.21.0.2] (unknown [172.18.0.240]) by postal.iol.unh.edu (Postfix) with ESMTP id AF0EF6051830; Sun, 5 Oct 2025 16:36:22 -0400 (EDT) Subject: |SUCCESS| [GIT MASTER] b287e404643aeab5bb5db084c142789df187844e From: dpdklab@iol.unh.edu To: Test Report Cc: dpdk-test-reports@iol.unh.edu, Xueming Li , Christian Ehrhardt , Kevin Traynor , Luca Boccassi Content-Type: text/plain X-BeenThere: test-report@dpdk.org X-Mailman-Version: 2.1.29 Precedence: list List-Id: automatic DPDK test reports List-Unsubscribe: , List-Archive: List-Post: List-Help: List-Subscribe: , Errors-To: test-report-bounces@dpdk.org _Testing PASS_ Branch: tags/v24.11 b287e404643aeab5bb5db084c142789df187844e --> testing pass Upstream job id: Generic-DPDK-Compile-Meson#431210 Test environment and result as below: +-------------------------------+--------------------+-------------------+-------------------------+----------------------+-------------------+------------------+ | Environment | dpdk_meson_compile | dpdk_msvc_compile | dpdk_llvm_clang_compile | dpdk_mingw64_compile | dpdk_compile_spdk | dpdk_compile_ovs | +===============================+====================+===================+=========================+======================+===================+==================+ | Ubuntu 20.04 | PASS | SKIPPED | SKIPPED | SKIPPED | SKIPPED | SKIPPED | +-------------------------------+--------------------+-------------------+-------------------------+----------------------+-------------------+------------------+ | FreeBSD 14.2 | PASS | SKIPPED | SKIPPED | SKIPPED | SKIPPED | SKIPPED | +-------------------------------+--------------------+-------------------+-------------------------+----------------------+-------------------+------------------+ | CentOS Stream 9 | PASS | SKIPPED | SKIPPED | SKIPPED | PASS | SKIPPED | +-------------------------------+--------------------+-------------------+-------------------------+----------------------+-------------------+------------------+ | CentOS Stream 10 | PASS | SKIPPED | SKIPPED | SKIPPED | SKIPPED | SKIPPED | +-------------------------------+--------------------+-------------------+-------------------------+----------------------+-------------------+------------------+ | Debian GNU/Linux 12 | PASS | SKIPPED | SKIPPED | SKIPPED | PASS | SKIPPED | +-------------------------------+--------------------+-------------------+-------------------------+----------------------+-------------------+------------------+ | Fedora Linux 42 | PASS | SKIPPED | SKIPPED | SKIPPED | PASS | PASS | +-------------------------------+--------------------+-------------------+-------------------------+----------------------+-------------------+------------------+ | openSUSE Leap 15.6 | PASS | SKIPPED | SKIPPED | SKIPPED | SKIPPED | SKIPPED | +-------------------------------+--------------------+-------------------+-------------------------+----------------------+-------------------+------------------+ | Red Hat Enterprise Linux 8.10 | PASS | SKIPPED | SKIPPED | SKIPPED | SKIPPED | SKIPPED | +-------------------------------+--------------------+-------------------+-------------------------+----------------------+-------------------+------------------+ | Red Hat Enterprise Linux 9.5 | PASS | SKIPPED | SKIPPED | SKIPPED | SKIPPED | SKIPPED | +-------------------------------+--------------------+-------------------+-------------------------+----------------------+-------------------+------------------+ | Ubuntu 22.04 | PASS | SKIPPED | SKIPPED | SKIPPED | PASS | SKIPPED | +-------------------------------+--------------------+-------------------+-------------------------+----------------------+-------------------+------------------+ | Ubuntu 24.04 | PASS | SKIPPED | SKIPPED | SKIPPED | PASS | PASS | +-------------------------------+--------------------+-------------------+-------------------------+----------------------+-------------------+------------------+ | Windows Server 2022 | SKIPPED | PASS | PASS | PASS | SKIPPED | SKIPPED | +-------------------------------+--------------------+-------------------+-------------------------+----------------------+-------------------+------------------+ Ubuntu 20.04 Kernel: 4.19 Compiler: gcc gcc (Ubuntu 9.4.0-1ubuntu1~20.04.2) 9.4.0 FreeBSD 14.2 Kernel: 14.2-RELEASE Compiler: clang 18.1.6 CentOS Stream 9 Kernel: 5.15 Compiler: gcc gcc (GCC) 11.5.0 20240719 (Red Hat 11.5.0-11) CentOS Stream 10 Kernel: 5.15 Compiler: gcc gcc (GCC) 14.2.1 20250110 (Red Hat 14.2.1-8) Debian GNU/Linux 12 Kernel: 5.15 Compiler: gcc gcc (Debian 12.2.0-14+deb12u1) 12.2.0 Fedora Linux 42 Kernel: 5.15 Compiler: clang gcc (GCC) 15.2.1 20250808 (Red Hat 15.2.1-1) openSUSE Leap 15.6 Kernel: 5.15 Compiler: gcc gcc (SUSE Linux) 7.5.0 Red Hat Enterprise Linux 8.10 Kernel: 5.15 Compiler: gcc gcc (GCC) 8.5.0 20210514 (Red Hat 8.5.0-22) Red Hat Enterprise Linux 9.5 Kernel: 5.15 Compiler: gcc gcc (GCC) 11.5.0 20240719 (Red Hat 11.5.0-2) Ubuntu 22.04 Kernel: 5.15 Compiler: gcc gcc (Ubuntu 11.4.0-1ubuntu1~22.04) 11.4.0 Ubuntu 24.04 Kernel: 5.15 Compiler: gcc gcc (Ubuntu 13.3.0-6ubuntu2~24.04) 13.3.0 Windows Server 2022 Kernel: 10.0.20348.2031 Compiler: clang 15.0.7, gcc 14.1.0 (MinGW), and MSVC VS 19.39.33521 To view detailed results, visit: https://lab.dpdk.org/results/dashboard/tarballs/35091/ UNH-IOL DPDK Community Lab To manage your email subscriptions, visit: https://lab.dpdk.org/results/dashboard/preferences/subscriptions/