From mboxrd@z Thu Jan 1 00:00:00 1970 Return-Path: Received: from mails.dpdk.org (mails.dpdk.org [217.70.189.124]) by inbox.dpdk.org (Postfix) with ESMTP id B205A488BF for ; Sun, 5 Oct 2025 22:47:35 +0200 (CEST) Received: from mails.dpdk.org (localhost [127.0.0.1]) by mails.dpdk.org (Postfix) with ESMTP id 8EAE8402D4; Sun, 5 Oct 2025 22:47:35 +0200 (CEST) Received: from mail-qk1-f226.google.com (mail-qk1-f226.google.com [209.85.222.226]) by mails.dpdk.org (Postfix) with ESMTP id 6F4E9402D4 for ; Sun, 5 Oct 2025 22:47:34 +0200 (CEST) Received: by mail-qk1-f226.google.com with SMTP id af79cd13be357-855d525cd00so542227485a.2 for ; Sun, 05 Oct 2025 13:47:34 -0700 (PDT) DKIM-Signature: v=1; a=rsa-sha256; c=relaxed/relaxed; d=iol.unh.edu; s=unh-iol; t=1759697253; x=1760302053; darn=dpdk.org; h=references:in-reply-to:cc:to:from:subject:message-id:date:from:to :cc:subject:date:message-id:reply-to; bh=5yejzEMZYt+LIiieSUg2okhJj2XRwsVxIBaJCFmhpVE=; b=TqmWKnIxZQ/8a5Kc7EnSHtk4sDr3mW2cMK0eACgWmkRAi6saEDVEWsn4QRLVh5x0TF f0HtPop/zA1s/yUVLXVvfx3GOB/Z7F1QLdue5mBk8j92Q/Z8z75r4IQL1BHFgEVv0InI 48LijsvFWaVoIGG0LKtZQXi1gIlnZcbol3nnQ= X-Google-DKIM-Signature: v=1; a=rsa-sha256; c=relaxed/relaxed; d=1e100.net; s=20230601; t=1759697253; x=1760302053; h=references:in-reply-to:cc:to:from:subject:message-id:date :x-gm-message-state:from:to:cc:subject:date:message-id:reply-to; bh=5yejzEMZYt+LIiieSUg2okhJj2XRwsVxIBaJCFmhpVE=; b=LSxfS0J6TnDjjlfKiereEkq72dKfW7zW7YwHwb2OWlo/jEk7Ce01cm10kygTdKXRxs XAMvP0AWHpha0Cu2VjG56QyZ0r+BUO59WKLBtdnRc60BHrGy7+1RwncvkmycUjLB+A0K Uv4sg1593hfcukRXAJ2t8g6jutdTVQO+KyR4zCh3w+bAbbUM/MtehBxp5aGG8MafloZV K3xBtvF+qjfYhz2q1mQREaWKWr7DX3e4QuA/RxceGtlPkZAP9aM7IiDQ2KOhMP96RwIc 8DEiokv+6CWk5fH52ph7T5FOg0p/8HQfPiMMzpIa3lKM/t+uUyMWEQmVr+xxDRByznBy Qqig== X-Gm-Message-State: AOJu0YyYNRCZTUI+RjUSfA1vEPBnkni2YfqVGEJkUrhgrmusKoS1RnoW GPXvwJCdEy5pCL5i+kOvMCLyZXGQWHwf5WnhbvYiBDe2sDOYO9uyIAIEZOWJ+jMX+7KhKN20tWw v6+O0rduYfEI+paHlfgvNbr8dcUsxHKRPWY5+p7gNGHH3 X-Gm-Gg: ASbGnct2fyv3N6aoG3K5BDFbVJTxKQkrpQR1Djv3xM+7J6oRbdaKC0RN8NmU0tRzIxo Yw1j94kthVrExcr2pxwfexc85LeujnXp9w9SsQKmbhbg8Kie7KzYM+V4gzSUicyCrr/KroDI/8n qNmmQCPT+XRlAIW/AC57TaGWt+QF2q6SO71Jebvc645qZtVQIAWi4+dcxlYhTAqBCppMgUO5SFV OazjkjYzO+XZUxwhaXmCSmkq6ZSvZMdu5T0KRP7XaW73MchaM9RiMYMJ+HxhqfuM6xtrbL4fn4V 7L7qbWY6to+d8Z5mtVDQ+sZCe92h782PU13yQ/O0e57SG1eFUVK0OPvQoYGPk2VTfYAPKrX2GkA Elw== X-Google-Smtp-Source: AGHT+IFxaNeZT/rn0jXa1XOq24sh/+Y5jspQCw7/+QFpxMk8ugH1JqUgZdlVl6HjR76imadfSyCMAWhpLZj+ X-Received: by 2002:a05:6214:5012:b0:7ef:4bbc:7767 with SMTP id 6a1803df08f44-879dc84a054mr131783796d6.52.1759697253405; Sun, 05 Oct 2025 13:47:33 -0700 (PDT) Received: from postal.iol.unh.edu (postal.iol.unh.edu. [132.177.123.84]) by smtp-relay.gmail.com with ESMTPS id 6a1803df08f44-878bac6c1c6sm9300456d6.8.2025.10.05.13.47.33 (version=TLS1_2 cipher=ECDHE-ECDSA-AES128-GCM-SHA256 bits=128/128); Sun, 05 Oct 2025 13:47:33 -0700 (PDT) X-Relaying-Domain: iol.unh.edu Date: Sun, 05 Oct 2025 13:47:33 -0700 (PDT) Message-ID: <68e2d965.050a0220.19e73b.161aSMTPIN_ADDED_MISSING@mx.google.com> Received: from [172.21.0.2] (unknown [172.18.0.240]) by postal.iol.unh.edu (Postfix) with ESMTP id 19C3B60003EA; Sun, 5 Oct 2025 16:47:33 -0400 (EDT) Subject: |SUCCESS| pw157207-157208 [PATCH] [v6,2/2] crypto/ipsec-mb: use cons From: dpdklab@iol.unh.edu To: Test Report Cc: dpdk-test-reports@iol.unh.edu In-Reply-To: <20251002153229.98158-2-kai.ji@intel.com> References: <20251002153229.98158-2-kai.ji@intel.com> Content-Type: text/plain X-BeenThere: test-report@dpdk.org X-Mailman-Version: 2.1.29 Precedence: list List-Id: automatic DPDK test reports List-Unsubscribe: , List-Archive: List-Post: List-Help: List-Subscribe: , Errors-To: test-report-bounces@dpdk.org Test-Label: iol-compile-arm64-testing Test-Status: SUCCESS http://dpdk.org/patch/157208 _Testing PASS_ Submitter: Kai Ji Date: Thursday, October 02 2025 15:32:29 DPDK git baseline: Repo:dpdk Branch: master CommitID:76393b98bf67f94dc6aa23cf5016c32571899261 157207-157208 --> testing pass Upstream job id: Generic-DPDK-Compile-Meson#431093 Test environment and result as below: +------------------------------+--------------------+ | Environment | dpdk_meson_compile | +==============================+====================+ | Red Hat Enterprise Linux 9.5 | PASS | +------------------------------+--------------------+ | Ubuntu 20.04 | PASS | +------------------------------+--------------------+ | Debian GNU/Linux 12 | PASS | +------------------------------+--------------------+ | Fedora Linux 42 | PASS | +------------------------------+--------------------+ | Ubuntu 22.04 | PASS | +------------------------------+--------------------+ | Ubuntu 24.04 | PASS | +------------------------------+--------------------+ | CentOS Stream 9 | PASS | +------------------------------+--------------------+ | CentOS Stream 10 | PASS | +------------------------------+--------------------+ Red Hat Enterprise Linux 9.5 Kernel: 5.4 Compiler: gcc gcc (GCC) 11.5.0 20240719 (Red Hat 11.5.0-2) Ubuntu 20.04 Kernel: 5.15 Compiler: aarch64-linux-gnu-gcc gcc (Ubuntu 9.4.0-1ubuntu1~20.04.2) 9.4.0 Debian GNU/Linux 12 Kernel: 5.4 Compiler: gcc gcc (Debian 12.2.0-14+deb12u1) 12.2.0 Fedora Linux 42 Kernel: 5.4 Compiler: gcc gcc (GCC) 15.2.1 20250808 (Red Hat 15.2.1-1) Ubuntu 22.04 Kernel: 5.4 Compiler: gcc gcc (Ubuntu 11.4.0-1ubuntu1~22.04) 11.4.0 Ubuntu 24.04 Kernel: 5.4 Compiler: gcc gcc (Ubuntu 13.3.0-6ubuntu2~24.04) 13.3.0 CentOS Stream 9 Kernel: 5.4 Compiler: gcc gcc (GCC) 11.5.0 20240719 (Red Hat 11.5.0-11) CentOS Stream 10 Kernel: 5.4 Compiler: gcc gcc (GCC) 14.2.1 20250110 (Red Hat 14.2.1-8) To view detailed results, visit: https://lab.dpdk.org/results/dashboard/patchsets/34199/ UNH-IOL DPDK Community Lab To manage your email subscriptions, visit: https://lab.dpdk.org/results/dashboard/preferences/subscriptions/