From mboxrd@z Thu Jan 1 00:00:00 1970 Return-Path: Received: from mails.dpdk.org (mails.dpdk.org [217.70.189.124]) by inbox.dpdk.org (Postfix) with ESMTP id A3981488BF for ; Sun, 5 Oct 2025 22:47:43 +0200 (CEST) Received: from mails.dpdk.org (localhost [127.0.0.1]) by mails.dpdk.org (Postfix) with ESMTP id 9E4D9402D4; Sun, 5 Oct 2025 22:47:43 +0200 (CEST) Received: from mail-il1-f227.google.com (mail-il1-f227.google.com [209.85.166.227]) by mails.dpdk.org (Postfix) with ESMTP id 53F73402D4 for ; Sun, 5 Oct 2025 22:47:42 +0200 (CEST) Received: by mail-il1-f227.google.com with SMTP id e9e14a558f8ab-42f62c671a3so11030685ab.1 for ; Sun, 05 Oct 2025 13:47:42 -0700 (PDT) DKIM-Signature: v=1; a=rsa-sha256; c=relaxed/relaxed; d=iol.unh.edu; s=unh-iol; t=1759697261; x=1760302061; darn=dpdk.org; h=references:in-reply-to:cc:to:from:subject:message-id:date:from:to :cc:subject:date:message-id:reply-to; bh=/kLFrmEeO6SRyPLksSYtBqODk/GsroWKi8N/IOe5Sdc=; b=V5IOWhJyt7KLWgVAIbS4iDad0uYPqNNef1Ktyirgk6d/Uk6oDro17DCO8BaMWwFN6V Nk5TbhO5EhZ0ZX7cT/jduKRWbnfWqpxabFByZMbTGxDTbsqUqYD//0OLcz2IUV1rOiB3 aohZqcfWYm3Xu+OEh26iuYvjZTlf5jCJGIiIs= X-Google-DKIM-Signature: v=1; a=rsa-sha256; c=relaxed/relaxed; d=1e100.net; s=20230601; t=1759697261; x=1760302061; h=references:in-reply-to:cc:to:from:subject:message-id:date :x-gm-message-state:from:to:cc:subject:date:message-id:reply-to; bh=/kLFrmEeO6SRyPLksSYtBqODk/GsroWKi8N/IOe5Sdc=; b=QZjdLQNQPpxYR9ITBHxpWf2OazgO/MkvJJr5cmEDxlI+CIA0gRhP6JD51QhFmCayw5 Wq2yiQ7YMMu8yZ8Be2bZOUFYabLtjIzwz97603/Kklrr4s55uSIBnQVPJwGzlc7N3aTn wWJdaL/vdHay7xSQkAp3YP3NMUIE+0LM9d2NBJ3ahYtarxOlX6/v2G/FWsLP4GJ3PaCP gXK1g9CLOtakPch+XPnUEo3wOP+has0UhVmVs8W5ObykhwcSZiFbreucVEv1kbs4s0S/ DeUQ9OGTbwVfFcQGtscarRc7QWBKDoBy6xZoQM+1cu1N36k6poK6lnPM/OKU4CYOyuGy Bp3g== X-Gm-Message-State: AOJu0Ywl7YyuzQ7NxAOIsXDP2o7ZyIAhqpMDtu7SVvp0jozSO5AHCYp4 lIpYhVQOw0DJeXATf5uzco9JrddZn4m54HhVwB/92A7dJJhDPm7YhhRmYTAR+r4ji8xZ+TfTZst /lvI9CzUaCX4s9SukiPH+76yhIX5JMQ8FbLnYK7JdeN39 X-Gm-Gg: ASbGncty8BMMN8BEyywBg/gdrkGHpnga0CXKKhN/U8JXXRfQpLalc0o0BJ1f0c70g1o V1DhbkeDaHoxql9Kn8LRGh3/KInOEmYd0Sz6Z7mn5wTPrVuPLKz0mhEIXjHvJVDtXPTm219XPSS np/ooTdznJ6fs7X25x2qiZzJ4T3BpnVHxs+UVWTGwh3gSO6B10jJIA8XYZHm5t8b/pSYhKjvZKd rX9hOICrSvQPP0sdawpkPSEf0wcX18M2Sg4QqFCoxrrQggnMcJpELrf1UEFW981w7XMtP9hi/Kk TxFE5D9U3jGuOfKuZEhJzqj10VHRTqXXNzBukiaSYGv6/5341xaxrSVg6YIq0GCeWEAU1M6tT3h kgw== X-Google-Smtp-Source: AGHT+IHWIgUouslmUki72QaKwSX5a63nlxzYtyAH/S0FHYbiROTIv+bvVF/jZ/VA6BW47MKTm+HMyG5zQ+Wc X-Received: by 2002:a92:c26c:0:b0:425:744b:52d3 with SMTP id e9e14a558f8ab-42e7ad1810emr146231315ab.11.1759697261539; Sun, 05 Oct 2025 13:47:41 -0700 (PDT) Received: from postal.iol.unh.edu (postal.iol.unh.edu. [132.177.123.84]) by smtp-relay.gmail.com with ESMTPS id 8926c6da1cb9f-57b5eded7aasm893376173.45.2025.10.05.13.47.41 (version=TLS1_2 cipher=ECDHE-ECDSA-AES128-GCM-SHA256 bits=128/128); Sun, 05 Oct 2025 13:47:41 -0700 (PDT) X-Relaying-Domain: iol.unh.edu Date: Sun, 05 Oct 2025 13:47:41 -0700 (PDT) Message-ID: <68e2d96d.050a0220.3b50ea.0bbcSMTPIN_ADDED_MISSING@mx.google.com> Received: from [172.21.0.2] (unknown [172.18.0.240]) by postal.iol.unh.edu (Postfix) with ESMTP id D381E6051830; Sun, 5 Oct 2025 16:47:40 -0400 (EDT) Subject: |SUCCESS| pw157209 [PATCH] test/debug: fix crash with mlx5 devices From: dpdklab@iol.unh.edu To: Test Report Cc: dpdk-test-reports@iol.unh.edu In-Reply-To: <20251002165546.523435-1-david.marchand@redhat.com> References: <20251002165546.523435-1-david.marchand@redhat.com> Content-Type: text/plain X-BeenThere: test-report@dpdk.org X-Mailman-Version: 2.1.29 Precedence: list List-Id: automatic DPDK test reports List-Unsubscribe: , List-Archive: List-Post: List-Help: List-Subscribe: , Errors-To: test-report-bounces@dpdk.org Test-Label: iol-compile-arm64-testing Test-Status: SUCCESS http://dpdk.org/patch/157209 _Testing PASS_ Submitter: David Marchand Date: Thursday, October 02 2025 16:55:45 DPDK git baseline: Repo:dpdk Branch: master CommitID:76393b98bf67f94dc6aa23cf5016c32571899261 157209 --> testing pass Upstream job id: Generic-DPDK-Compile-Meson#431119 Test environment and result as below: +------------------------------+--------------------+ | Environment | dpdk_meson_compile | +==============================+====================+ | Red Hat Enterprise Linux 9.5 | PASS | +------------------------------+--------------------+ | Ubuntu 20.04 | PASS | +------------------------------+--------------------+ | Debian GNU/Linux 12 | PASS | +------------------------------+--------------------+ | Fedora Linux 42 | PASS | +------------------------------+--------------------+ | Ubuntu 22.04 | PASS | +------------------------------+--------------------+ | Ubuntu 24.04 | PASS | +------------------------------+--------------------+ | CentOS Stream 9 | PASS | +------------------------------+--------------------+ | CentOS Stream 10 | PASS | +------------------------------+--------------------+ Red Hat Enterprise Linux 9.5 Kernel: 5.4 Compiler: gcc gcc (GCC) 11.5.0 20240719 (Red Hat 11.5.0-2) Ubuntu 20.04 Kernel: 5.15 Compiler: aarch64-linux-gnu-gcc gcc (Ubuntu 9.4.0-1ubuntu1~20.04.2) 9.4.0 Debian GNU/Linux 12 Kernel: 5.4 Compiler: gcc gcc (Debian 12.2.0-14+deb12u1) 12.2.0 Fedora Linux 42 Kernel: 5.4 Compiler: gcc gcc (GCC) 15.2.1 20250808 (Red Hat 15.2.1-1) Ubuntu 22.04 Kernel: 5.4 Compiler: gcc gcc (Ubuntu 11.4.0-1ubuntu1~22.04) 11.4.0 Ubuntu 24.04 Kernel: 5.4 Compiler: gcc gcc (Ubuntu 13.3.0-6ubuntu2~24.04) 13.3.0 CentOS Stream 9 Kernel: 5.4 Compiler: gcc gcc (GCC) 11.5.0 20240719 (Red Hat 11.5.0-11) CentOS Stream 10 Kernel: 5.4 Compiler: gcc gcc (GCC) 14.2.1 20250110 (Red Hat 14.2.1-8) To view detailed results, visit: https://lab.dpdk.org/results/dashboard/patchsets/34200/ UNH-IOL DPDK Community Lab To manage your email subscriptions, visit: https://lab.dpdk.org/results/dashboard/preferences/subscriptions/