From mboxrd@z Thu Jan 1 00:00:00 1970 Return-Path: Received: from mails.dpdk.org (mails.dpdk.org [217.70.189.124]) by inbox.dpdk.org (Postfix) with ESMTP id AF5C2488BF for ; Sun, 5 Oct 2025 22:47:51 +0200 (CEST) Received: from mails.dpdk.org (localhost [127.0.0.1]) by mails.dpdk.org (Postfix) with ESMTP id AA551402D4; Sun, 5 Oct 2025 22:47:51 +0200 (CEST) Received: from mail-il1-f227.google.com (mail-il1-f227.google.com [209.85.166.227]) by mails.dpdk.org (Postfix) with ESMTP id F33E2402D4 for ; Sun, 5 Oct 2025 22:47:49 +0200 (CEST) Received: by mail-il1-f227.google.com with SMTP id e9e14a558f8ab-4256f0fac67so47717385ab.2 for ; Sun, 05 Oct 2025 13:47:49 -0700 (PDT) DKIM-Signature: v=1; a=rsa-sha256; c=relaxed/relaxed; d=iol.unh.edu; s=unh-iol; t=1759697269; x=1760302069; darn=dpdk.org; h=references:in-reply-to:cc:to:from:subject:message-id:date:from:to :cc:subject:date:message-id:reply-to; bh=4QsyURBIe2phzmN81xmtkWp3ExL27Rl1c0Mz4aeN5BA=; b=J/LkE9E1GEPyHBRyhv8belCQiaekD+R5DC57b7Xx1jFCiFiM8Jy5l9GxMNvJ/LLN71 UW/FFC+xQkJ7ayTsLXWtZsmyiGVwmKpNEanJg2E1Dl7P5f1W+kLbNhWTHJ1Q/dORjBLL OdpiKRzy30Qjm52Vbvk/HNA4H4A6wn7cN/zgI= X-Google-DKIM-Signature: v=1; a=rsa-sha256; c=relaxed/relaxed; d=1e100.net; s=20230601; t=1759697269; x=1760302069; h=references:in-reply-to:cc:to:from:subject:message-id:date :x-gm-message-state:from:to:cc:subject:date:message-id:reply-to; bh=4QsyURBIe2phzmN81xmtkWp3ExL27Rl1c0Mz4aeN5BA=; b=NC2C/TT2UmaH4xvGuZE4UcKI81wpoCXSvq7+n8vER1W7wq4DN9kbZxJn/okeoWG5fC EF7bAA7nXcYs0kr48RIqeEITgrSPhuykLSe8yOibkxY6F3mJAh61nMk8SA+yQ9OvLdcY Vwe8S2cuJ8j/DgQG5xN6NFLkQ4j/mwCiEzFpKBtNEmYqgLtydu8TrTx3Q3X7Pqjqnyh4 HkgpPQPq+asGTCR/wq7MVkYCIFTsILO5+r7xbjC2kKHxb8BpnLhaKbhWkABmAVFLYu5U atfBSXjAYPO4sT42crWI3DGr5FRepLj6zB5pZRlqt90BvOq5aha4gCHq7ZFnKKGk8HsO E+sQ== X-Gm-Message-State: AOJu0YwkgthxIn/v9xiDVTsCDfE850qABAj0IYtuUGZtNA/9fLZY1YXq G/gm2SWiyv6bHii3cyQtmi2l+ff0obTQi9nSqWrlv1hwVXl1vVQbxfubCHqFOsYsCnvrtBMtX+z FRucSQmjDlkptzYg0mlart2C3usY6NFc0kgzDT1/pncwu X-Gm-Gg: ASbGncsMQ/W1Fu3dWcNoOYbVD3cjy1dlfIJ7SmllsXOYEozqfELHOi8c27idD7YYd3s arWSXe9wsdCa/OYjTRrDeLVlwu+soBGU/TscmFt5THm6bkjXOEuZgppYb7d2TiUSL/60OVXizI5 3xdU6MHnKWydSZg/t8A9D5ZeiefGtOjV1mR0lUDClcpjQeVETDZQDdRG00sMIjTOJhX4vnEDHdT gpJp5gtt6Kq8DNf7INJGdZh56hsg2UK8py5SzAT/YdKe9qnOSr+BQa1XCH3oaxLS/vBYIrBbjdk 9bwRHIw5nQ0C9s6ec2NB/V94/ftU+bcrGmT5QsWjYeZHs/7FYOwGCbfJ7npDNU4XAzDMjYJD1/p MVQ== X-Google-Smtp-Source: AGHT+IE4MV1IpvYfFMOWpvltJ9hkhBipVZI+PHfntudquAXfidxKwAla3INdEQOVfs3l06yP+tqMbTFyc+Lu X-Received: by 2002:a05:6e02:16c6:b0:42e:712c:b15 with SMTP id e9e14a558f8ab-42e7acd2c6bmr131342235ab.1.1759697269249; Sun, 05 Oct 2025 13:47:49 -0700 (PDT) Received: from postal.iol.unh.edu (postal.iol.unh.edu. [132.177.123.84]) by smtp-relay.gmail.com with ESMTPS id 8926c6da1cb9f-57b5eafe2bfsm905975173.14.2025.10.05.13.47.49 (version=TLS1_2 cipher=ECDHE-ECDSA-AES128-GCM-SHA256 bits=128/128); Sun, 05 Oct 2025 13:47:49 -0700 (PDT) X-Relaying-Domain: iol.unh.edu Date: Sun, 05 Oct 2025 13:47:49 -0700 (PDT) Message-ID: <68e2d975.050a0220.2b7a42.1029SMTPIN_ADDED_MISSING@mx.google.com> Received: from [172.21.0.2] (unknown [172.18.0.240]) by postal.iol.unh.edu (Postfix) with ESMTP id E7CD16051830; Sun, 5 Oct 2025 16:47:48 -0400 (EDT) Subject: |SUCCESS| pw157207-157208 [PATCH] [v6,2/2] crypto/ipsec-mb: use cons From: dpdklab@iol.unh.edu To: Test Report Cc: dpdk-test-reports@iol.unh.edu In-Reply-To: <20251002153229.98158-2-kai.ji@intel.com> References: <20251002153229.98158-2-kai.ji@intel.com> Content-Type: text/plain X-BeenThere: test-report@dpdk.org X-Mailman-Version: 2.1.29 Precedence: list List-Id: automatic DPDK test reports List-Unsubscribe: , List-Archive: List-Post: List-Help: List-Subscribe: , Errors-To: test-report-bounces@dpdk.org Test-Label: iol-compile-arm64-testing Test-Status: SUCCESS http://dpdk.org/patch/157208 _Testing PASS_ Submitter: Kai Ji Date: Thursday, October 02 2025 15:32:29 DPDK git baseline: Repo:dpdk Branch: master CommitID:76393b98bf67f94dc6aa23cf5016c32571899261 157207-157208 --> testing pass Upstream job id: Generic-DPDK-Compile-Meson#431094 Test environment and result as below: +------------------------------+--------------------+ | Environment | dpdk_meson_compile | +==============================+====================+ | Red Hat Enterprise Linux 9.5 | PASS | +------------------------------+--------------------+ | Ubuntu 20.04 | PASS | +------------------------------+--------------------+ | Debian GNU/Linux 12 | PASS | +------------------------------+--------------------+ | Fedora Linux 42 | PASS | +------------------------------+--------------------+ | Ubuntu 22.04 | PASS | +------------------------------+--------------------+ | Ubuntu 24.04 | PASS | +------------------------------+--------------------+ | CentOS Stream 9 | PASS | +------------------------------+--------------------+ | CentOS Stream 10 | PASS | +------------------------------+--------------------+ Red Hat Enterprise Linux 9.5 Kernel: 5.4 Compiler: gcc gcc (GCC) 11.5.0 20240719 (Red Hat 11.5.0-2) Ubuntu 20.04 Kernel: 5.15 Compiler: aarch64-linux-gnu-gcc gcc (Ubuntu 9.4.0-1ubuntu1~20.04.2) 9.4.0 Debian GNU/Linux 12 Kernel: 5.4 Compiler: gcc gcc (Debian 12.2.0-14+deb12u1) 12.2.0 Fedora Linux 42 Kernel: 5.4 Compiler: gcc gcc (GCC) 15.2.1 20250808 (Red Hat 15.2.1-1) Ubuntu 22.04 Kernel: 5.4 Compiler: gcc gcc (Ubuntu 11.4.0-1ubuntu1~22.04) 11.4.0 Ubuntu 24.04 Kernel: 5.4 Compiler: gcc gcc (Ubuntu 13.3.0-6ubuntu2~24.04) 13.3.0 CentOS Stream 9 Kernel: 5.4 Compiler: gcc gcc (GCC) 11.5.0 20240719 (Red Hat 11.5.0-11) CentOS Stream 10 Kernel: 5.4 Compiler: gcc gcc (GCC) 14.2.1 20250110 (Red Hat 14.2.1-8) To view detailed results, visit: https://lab.dpdk.org/results/dashboard/patchsets/34199/ UNH-IOL DPDK Community Lab To manage your email subscriptions, visit: https://lab.dpdk.org/results/dashboard/preferences/subscriptions/