From mboxrd@z Thu Jan 1 00:00:00 1970 Return-Path: Received: from mails.dpdk.org (mails.dpdk.org [217.70.189.124]) by inbox.dpdk.org (Postfix) with ESMTP id B9F00488BF for ; Sun, 5 Oct 2025 23:21:48 +0200 (CEST) Received: from mails.dpdk.org (localhost [127.0.0.1]) by mails.dpdk.org (Postfix) with ESMTP id A54A4402D4; Sun, 5 Oct 2025 23:21:48 +0200 (CEST) Received: from mail-pl1-f228.google.com (mail-pl1-f228.google.com [209.85.214.228]) by mails.dpdk.org (Postfix) with ESMTP id 31034402D4 for ; Sun, 5 Oct 2025 23:21:48 +0200 (CEST) Received: by mail-pl1-f228.google.com with SMTP id d9443c01a7336-2698384978dso29880025ad.0 for ; Sun, 05 Oct 2025 14:21:48 -0700 (PDT) DKIM-Signature: v=1; a=rsa-sha256; c=relaxed/relaxed; d=iol.unh.edu; s=unh-iol; t=1759699307; x=1760304107; darn=dpdk.org; h=cc:to:from:subject:message-id:date:from:to:cc:subject:date :message-id:reply-to; bh=EV7/mCrU+a++BN1mGubJtDnxldychE7Ia+g257zDfK4=; b=QJ1IzMPt3fjavaQf5PsSS1qySmziDGUmsHUsniRIYb/uJb+dIlF157g69WfOuDKI4y jLjdlJ1t03A9Bj7M20eiY/voGfj7460ckhHZIIVjLhx1Owbr+NmxnKBimTpT2LdRbaaD GhRxCIQRYki+nUdMTBuCUNyEswZ7UWjZplLUY= X-Google-DKIM-Signature: v=1; a=rsa-sha256; c=relaxed/relaxed; d=1e100.net; s=20230601; t=1759699307; x=1760304107; h=cc:to:from:subject:message-id:date:x-gm-message-state:from:to:cc :subject:date:message-id:reply-to; bh=EV7/mCrU+a++BN1mGubJtDnxldychE7Ia+g257zDfK4=; b=T0NgwREMYkt8likM/N2sODjuEQyXUSWA98QN7yn9EMH6AWi3bT8FVMGUaQiJuiCO3l lt8IaXgdn+qHUpM9aMPTWq8vy9jlB0Y7a1+/PPE4mtkGeQ8xgj4GzLdZwKmpBovkRO23 MBxrJFvNGNegsq+SyOb0xnI4ajogaZ+md4R/bkiV0NkUOut4vLoeVOZQ6yM3ALyhQT1/ 9+HA76YKxQEZt22C5aCYDAXtBXvsLJCFs1u0CoKiVSmMZk0klPGhdLypAKTuj2JXEwe8 RUeSiOT0Zbt8HsuAnvpVmYbKjOvr0UcSksrneV67dcqYiq5HNXHjiM6732hYK+UC9Be1 XWww== X-Gm-Message-State: AOJu0YwPL3HL0bOpjESkvrZLoILbe4rDGCWf6E1SuT+BlBypSz0Iw/Tl NbyExVeRoz6eBUHLoypTwnZhFDqTeAE9wglmKr3Mu7JnhNb5YwbhcGP64GNrhBw4WSUgJHe1G1o NaGp0CIP4/BQssCCNIoUWWGUSla4C1sJfnqV81gMit92TNwtT7gqv X-Gm-Gg: ASbGncu8tdAVo40NKEqunsm12nZcA9kir6AZb+XtZT7EcL3rLuMxHsxGd9BMsVyC+Cd TDUZo293Zpxo8tqsw6ag1bEhgsFG0aysTQZ/5dHCmfDk6gs7uD3Tso8CqSDnUsiaCuhIEGvW1jH SDTYGim1+udl3lNTkkKj60fMmdDhkmqDH9SGnN7mPbWfDofygGwM2/PTBk/z2yQOO1tCWvahSTE PcjEVy+jJ4schEXVWZzujusE861HUU/6ACRGeeMQzJf2yM707taOB8dVM97aMn5aixhL827MhCK puNaP9y0XEnOIDB74KY4PaiebIXiyi8xhYIlpLyJ9ZQmatgw6O0RjFA= X-Google-Smtp-Source: AGHT+IGXpnVVkR4+Bi5v6HjH1Xx0POcyxcxjw48mJUd04j3LVkPgONFGiIGkhn+gQYhhKvhmWwFtknY7kqsW X-Received: by 2002:a17:903:3c70:b0:269:ae5a:e32b with SMTP id d9443c01a7336-28e9a5668e1mr108571045ad.13.1759699307227; Sun, 05 Oct 2025 14:21:47 -0700 (PDT) Received: from postal.iol.unh.edu (postal.iol.unh.edu. [2606:4100:3880:1234::84]) by smtp-relay.gmail.com with ESMTPS id d9443c01a7336-28e8d119a30sm8704345ad.22.2025.10.05.14.21.47 (version=TLS1_2 cipher=ECDHE-ECDSA-AES128-GCM-SHA256 bits=128/128); Sun, 05 Oct 2025 14:21:47 -0700 (PDT) X-Relaying-Domain: iol.unh.edu Date: Sun, 05 Oct 2025 14:21:47 -0700 (PDT) Message-ID: <68e2e16b.170a0220.3c7842.4050SMTPIN_ADDED_MISSING@mx.google.com> Received: from [172.21.0.2] (unknown [172.18.0.240]) by postal.iol.unh.edu (Postfix) with ESMTP id 343936051830; Sun, 5 Oct 2025 17:21:46 -0400 (EDT) Subject: |SUCCESS| [GIT MASTER] b287e404643aeab5bb5db084c142789df187844e From: dpdklab@iol.unh.edu To: Test Report Cc: dpdk-test-reports@iol.unh.edu, Xueming Li , Christian Ehrhardt , Kevin Traynor , Luca Boccassi Content-Type: text/plain X-BeenThere: test-report@dpdk.org X-Mailman-Version: 2.1.29 Precedence: list List-Id: automatic DPDK test reports List-Unsubscribe: , List-Archive: List-Post: List-Help: List-Subscribe: , Errors-To: test-report-bounces@dpdk.org _Testing PASS_ Branch: tags/v24.11 b287e404643aeab5bb5db084c142789df187844e --> testing pass Upstream job id: Generic-DPDK-Compile-Meson#431219 Test environment and result as below: +-------------------------------+--------------------+-------------------+-------------------------+----------------------+-------------------+------------------+ | Environment | dpdk_meson_compile | dpdk_msvc_compile | dpdk_llvm_clang_compile | dpdk_mingw64_compile | dpdk_compile_spdk | dpdk_compile_ovs | +===============================+====================+===================+=========================+======================+===================+==================+ | Ubuntu 20.04 | PASS | SKIPPED | SKIPPED | SKIPPED | SKIPPED | SKIPPED | +-------------------------------+--------------------+-------------------+-------------------------+----------------------+-------------------+------------------+ | FreeBSD 14.2 | PASS | SKIPPED | SKIPPED | SKIPPED | SKIPPED | SKIPPED | +-------------------------------+--------------------+-------------------+-------------------------+----------------------+-------------------+------------------+ | CentOS Stream 9 | PASS | SKIPPED | SKIPPED | SKIPPED | PASS | SKIPPED | +-------------------------------+--------------------+-------------------+-------------------------+----------------------+-------------------+------------------+ | CentOS Stream 10 | PASS | SKIPPED | SKIPPED | SKIPPED | SKIPPED | SKIPPED | +-------------------------------+--------------------+-------------------+-------------------------+----------------------+-------------------+------------------+ | Debian GNU/Linux 12 | PASS | SKIPPED | SKIPPED | SKIPPED | PASS | SKIPPED | +-------------------------------+--------------------+-------------------+-------------------------+----------------------+-------------------+------------------+ | Fedora Linux 42 | PASS | SKIPPED | SKIPPED | SKIPPED | PASS | PASS | +-------------------------------+--------------------+-------------------+-------------------------+----------------------+-------------------+------------------+ | openSUSE Leap 15.6 | PASS | SKIPPED | SKIPPED | SKIPPED | SKIPPED | SKIPPED | +-------------------------------+--------------------+-------------------+-------------------------+----------------------+-------------------+------------------+ | Red Hat Enterprise Linux 8.10 | PASS | SKIPPED | SKIPPED | SKIPPED | SKIPPED | SKIPPED | +-------------------------------+--------------------+-------------------+-------------------------+----------------------+-------------------+------------------+ | Red Hat Enterprise Linux 9.5 | PASS | SKIPPED | SKIPPED | SKIPPED | SKIPPED | SKIPPED | +-------------------------------+--------------------+-------------------+-------------------------+----------------------+-------------------+------------------+ | Ubuntu 22.04 | PASS | SKIPPED | SKIPPED | SKIPPED | PASS | SKIPPED | +-------------------------------+--------------------+-------------------+-------------------------+----------------------+-------------------+------------------+ | Ubuntu 24.04 | PASS | SKIPPED | SKIPPED | SKIPPED | PASS | PASS | +-------------------------------+--------------------+-------------------+-------------------------+----------------------+-------------------+------------------+ | Alpine Linux 3.22.0 | PASS | SKIPPED | SKIPPED | SKIPPED | SKIPPED | SKIPPED | +-------------------------------+--------------------+-------------------+-------------------------+----------------------+-------------------+------------------+ | Windows Server 2022 | SKIPPED | PASS | PASS | PASS | SKIPPED | SKIPPED | +-------------------------------+--------------------+-------------------+-------------------------+----------------------+-------------------+------------------+ Ubuntu 20.04 Kernel: 4.19 Compiler: gcc gcc (Ubuntu 9.4.0-1ubuntu1~20.04.2) 9.4.0 FreeBSD 14.2 Kernel: 14.2-RELEASE Compiler: clang 18.1.6 CentOS Stream 9 Kernel: 5.15 Compiler: gcc gcc (GCC) 11.5.0 20240719 (Red Hat 11.5.0-11) CentOS Stream 10 Kernel: 5.15 Compiler: gcc gcc (GCC) 14.2.1 20250110 (Red Hat 14.2.1-8) Debian GNU/Linux 12 Kernel: 5.15 Compiler: gcc gcc (Debian 12.2.0-14+deb12u1) 12.2.0 Fedora Linux 42 Kernel: 5.15 Compiler: clang gcc (GCC) 15.2.1 20250808 (Red Hat 15.2.1-1) openSUSE Leap 15.6 Kernel: 5.15 Compiler: gcc gcc (SUSE Linux) 7.5.0 Red Hat Enterprise Linux 8.10 Kernel: 5.15 Compiler: gcc gcc (GCC) 8.5.0 20210514 (Red Hat 8.5.0-22) Red Hat Enterprise Linux 9.5 Kernel: 5.15 Compiler: gcc gcc (GCC) 11.5.0 20240719 (Red Hat 11.5.0-2) Ubuntu 22.04 Kernel: 5.15 Compiler: gcc gcc (Ubuntu 11.4.0-1ubuntu1~22.04) 11.4.0 Ubuntu 24.04 Kernel: 5.15 Compiler: gcc gcc (Ubuntu 13.3.0-6ubuntu2~24.04) 13.3.0 Alpine Linux 3.22.0 Kernel: 5.15 Compiler: gcc gcc (Alpine 14.2.0) 14.2.0 Windows Server 2022 Kernel: 10.0.20348.2031 Compiler: clang 15.0.7, gcc 14.1.0 (MinGW), and MSVC VS 19.39.33521 To view detailed results, visit: https://lab.dpdk.org/results/dashboard/tarballs/35091/ UNH-IOL DPDK Community Lab To manage your email subscriptions, visit: https://lab.dpdk.org/results/dashboard/preferences/subscriptions/