From mboxrd@z Thu Jan 1 00:00:00 1970 Return-Path: Received: from mails.dpdk.org (mails.dpdk.org [217.70.189.124]) by inbox.dpdk.org (Postfix) with ESMTP id 316D448875 for ; Mon, 6 Oct 2025 01:18:09 +0200 (CEST) Received: from mails.dpdk.org (localhost [127.0.0.1]) by mails.dpdk.org (Postfix) with ESMTP id 1126C402D7; Mon, 6 Oct 2025 01:18:09 +0200 (CEST) Received: from mail-qv1-f100.google.com (mail-qv1-f100.google.com [209.85.219.100]) by mails.dpdk.org (Postfix) with ESMTP id 2BB01402D7 for ; Mon, 6 Oct 2025 01:18:07 +0200 (CEST) Received: by mail-qv1-f100.google.com with SMTP id 6a1803df08f44-7ea50f94045so55917586d6.1 for ; Sun, 05 Oct 2025 16:18:07 -0700 (PDT) DKIM-Signature: v=1; a=rsa-sha256; c=relaxed/relaxed; d=iol.unh.edu; s=unh-iol; t=1759706286; x=1760311086; darn=dpdk.org; h=references:in-reply-to:cc:to:from:subject:message-id:date:from:to :cc:subject:date:message-id:reply-to; bh=Ao/i8RVqHb+fr1NK3Y6wCEpw4eoOyKD4KL9r1k475RU=; b=BeyUNU5pJef7DEP38xo2EGyvJYhfco5AUV//sL7EJ2394YPxqBwDRqb5bjrTrjeGKZ IeHvtxTt2yRIbM67SKajaquKqdPtaFryOwhLeKvnVmbudv1Pmk7xMjIT05FNSzbHL6gB JrPrQ79U6hlKomdqGH9NapkEnIRfJAqXjrnnE= X-Google-DKIM-Signature: v=1; a=rsa-sha256; c=relaxed/relaxed; d=1e100.net; s=20230601; t=1759706286; x=1760311086; h=references:in-reply-to:cc:to:from:subject:message-id:date :x-gm-message-state:from:to:cc:subject:date:message-id:reply-to; bh=Ao/i8RVqHb+fr1NK3Y6wCEpw4eoOyKD4KL9r1k475RU=; b=BTD0r7PhPT2xjWGuPmnb+Aa8dBenXsghHt4w+ulWd4r8i4R5Gmsttym3F2V/VtF51Y n/xfMJgq3DpyU2rMVQsuGwaf6uLPHJbCwI2j8Z43F6/lm1kF/s4mypyrTIQRyt/Ci2BS aqte+zkU9wADOGFHBXG8gibGnqGRFV8Kod/bncdM8zZa1FDlOvMM5scjdpPjePgDvko4 ql8vj2qc+bMTL60SXPJz6O5Xo4LaPzHFihHf8EhunCnwEuRUucGnMsHewd0UIaEfj1LQ JkXVC+vSrsntZNNQk3/Cv2w1KASHZl9Ii/wjTyAZWHQFch0BPtCloGvpTtPU5jn9tfrt /uyQ== X-Gm-Message-State: AOJu0YyK9UXBqUSuTTMBEYz706Gc6Q20d8dEcC4fD/nmkLTpufpzkZ5Y BlZP6hSkQnJXmzzqdm2CGk6b3WdIy35xfpX1O0TYsicKjSivGSFbwQ1tZmc7/3YKerUnSQNjdxV ciBfcyT9hT0nEKaVui+veqSMqk40nvUHwg/FMdw0Peq3I X-Gm-Gg: ASbGnctEiVkhYV/PjgqgWSySdgFNbij23P3KolA6rJo0kAZJgfpEmWCzRsHsyHgiKoH PswgYUGYhWSW1VXVL0F0wWx7IC3En3qeThlgmn0Ff6jqf3Lt8bj/9XYR/rP4dw5AFPWX0Jw6TDg JikPs4Hgy2CanDfyKI3y81go4moEcNF2Gop4KH9E2o9ahP0BAOpFjSPKSsmWhfVgZ0HJm7k/qKp Ht19q8piOBgn2eWUXPduaa0JWTaxVrk6ajiCdzw1H9PuJ+u784rCKsRiE++hBnZAlGjPEPR1LxB tiusKKBa+OhxENN8bN/kZnu7jkB6r+rXYYjU+EP5NDEzA8J6Z2cLw6rDdvaCE2FTEQ4WcvgorMU LoA== X-Google-Smtp-Source: AGHT+IFG5tsZXdmqbsXW0N/j+AgJKug1w+Nx1b9enzdhziVATLJGOdBbus9IoUlRlT653oVuTCM3evWiA55o X-Received: by 2002:a05:6214:2b0d:b0:76a:59a2:8869 with SMTP id 6a1803df08f44-878ba0ae4fdmr194687606d6.12.1759706286395; Sun, 05 Oct 2025 16:18:06 -0700 (PDT) Received: from postal.iol.unh.edu (postal.iol.unh.edu. [132.177.123.84]) by smtp-relay.gmail.com with ESMTPS id 6a1803df08f44-878bda73819sm9540276d6.25.2025.10.05.16.18.06 (version=TLS1_2 cipher=ECDHE-ECDSA-AES128-GCM-SHA256 bits=128/128); Sun, 05 Oct 2025 16:18:06 -0700 (PDT) X-Relaying-Domain: iol.unh.edu Date: Sun, 05 Oct 2025 16:18:06 -0700 (PDT) Message-ID: <68e2fcae.d40a0220.fe7ba.4b10SMTPIN_ADDED_MISSING@mx.google.com> Received: from [172.21.0.2] (unknown [172.18.0.240]) by postal.iol.unh.edu (Postfix) with ESMTP id 21F396051830; Sun, 5 Oct 2025 19:18:06 -0400 (EDT) Subject: |SUCCESS| pw157230 [PATCH] [v2] test/debug: fix crash with mlx5 devi From: dpdklab@iol.unh.edu To: Test Report Cc: dpdk-test-reports@iol.unh.edu In-Reply-To: <20251003065101.617467-1-david.marchand@redhat.com> References: <20251003065101.617467-1-david.marchand@redhat.com> Content-Type: text/plain X-BeenThere: test-report@dpdk.org X-Mailman-Version: 2.1.29 Precedence: list List-Id: automatic DPDK test reports List-Unsubscribe: , List-Archive: List-Post: List-Help: List-Subscribe: , Errors-To: test-report-bounces@dpdk.org Test-Label: iol-compile-amd64-testing Test-Status: SUCCESS http://dpdk.org/patch/157230 _Testing PASS_ Submitter: David Marchand Date: Friday, October 03 2025 06:51:01 DPDK git baseline: Repo:dpdk Branch: master CommitID:76393b98bf67f94dc6aa23cf5016c32571899261 157230 --> testing pass Upstream job id: Generic-DPDK-Compile-Meson#431263 Test environment and result as below: +-------------------------------+-------------------------+-------------------+--------------------+----------------------+-------------------+------------------+ | Environment | dpdk_llvm_clang_compile | dpdk_msvc_compile | dpdk_meson_compile | dpdk_mingw64_compile | dpdk_compile_spdk | dpdk_compile_ovs | +===============================+=========================+===================+====================+======================+===================+==================+ | Windows Server 2022 | PASS | PASS | SKIPPED | PASS | SKIPPED | SKIPPED | +-------------------------------+-------------------------+-------------------+--------------------+----------------------+-------------------+------------------+ | FreeBSD 14.2 | SKIPPED | SKIPPED | PASS | SKIPPED | SKIPPED | SKIPPED | +-------------------------------+-------------------------+-------------------+--------------------+----------------------+-------------------+------------------+ | Ubuntu 20.04 | SKIPPED | SKIPPED | PASS | SKIPPED | SKIPPED | SKIPPED | +-------------------------------+-------------------------+-------------------+--------------------+----------------------+-------------------+------------------+ | CentOS Stream 9 | SKIPPED | SKIPPED | PASS | SKIPPED | PASS | SKIPPED | +-------------------------------+-------------------------+-------------------+--------------------+----------------------+-------------------+------------------+ | CentOS Stream 10 | SKIPPED | SKIPPED | PASS | SKIPPED | SKIPPED | SKIPPED | +-------------------------------+-------------------------+-------------------+--------------------+----------------------+-------------------+------------------+ | Debian GNU/Linux 12 | SKIPPED | SKIPPED | PASS | SKIPPED | PASS | SKIPPED | +-------------------------------+-------------------------+-------------------+--------------------+----------------------+-------------------+------------------+ | Fedora Linux 42 | SKIPPED | SKIPPED | PASS | SKIPPED | PASS | PASS | +-------------------------------+-------------------------+-------------------+--------------------+----------------------+-------------------+------------------+ | openSUSE Leap 15.6 | SKIPPED | SKIPPED | PASS | SKIPPED | SKIPPED | SKIPPED | +-------------------------------+-------------------------+-------------------+--------------------+----------------------+-------------------+------------------+ | Red Hat Enterprise Linux 8.10 | SKIPPED | SKIPPED | PASS | SKIPPED | SKIPPED | SKIPPED | +-------------------------------+-------------------------+-------------------+--------------------+----------------------+-------------------+------------------+ | Red Hat Enterprise Linux 9.5 | SKIPPED | SKIPPED | PASS | SKIPPED | SKIPPED | SKIPPED | +-------------------------------+-------------------------+-------------------+--------------------+----------------------+-------------------+------------------+ | Ubuntu 22.04 | SKIPPED | SKIPPED | PASS | SKIPPED | PASS | SKIPPED | +-------------------------------+-------------------------+-------------------+--------------------+----------------------+-------------------+------------------+ | Ubuntu 24.04 | SKIPPED | SKIPPED | PASS | SKIPPED | PASS | PASS | +-------------------------------+-------------------------+-------------------+--------------------+----------------------+-------------------+------------------+ | Alpine Linux 3.22.0 | SKIPPED | SKIPPED | PASS | SKIPPED | SKIPPED | SKIPPED | +-------------------------------+-------------------------+-------------------+--------------------+----------------------+-------------------+------------------+ Windows Server 2022 Kernel: 10.0.20348.2031 Compiler: clang 15.0.7, gcc 14.1.0 (MinGW), and MSVC VS 19.39.33521 FreeBSD 14.2 Kernel: 14.2-RELEASE Compiler: clang 18.1.6 Ubuntu 20.04 Kernel: 4.19 Compiler: gcc gcc (Ubuntu 9.4.0-1ubuntu1~20.04.2) 9.4.0 CentOS Stream 9 Kernel: 5.15 Compiler: gcc gcc (GCC) 11.5.0 20240719 (Red Hat 11.5.0-11) CentOS Stream 10 Kernel: 5.15 Compiler: gcc gcc (GCC) 14.2.1 20250110 (Red Hat 14.2.1-8) Debian GNU/Linux 12 Kernel: 5.15 Compiler: gcc gcc (Debian 12.2.0-14+deb12u1) 12.2.0 Fedora Linux 42 Kernel: 5.15 Compiler: clang gcc (GCC) 15.2.1 20250808 (Red Hat 15.2.1-1) openSUSE Leap 15.6 Kernel: 5.15 Compiler: gcc gcc (SUSE Linux) 7.5.0 Red Hat Enterprise Linux 8.10 Kernel: 5.15 Compiler: gcc gcc (GCC) 8.5.0 20210514 (Red Hat 8.5.0-22) Red Hat Enterprise Linux 9.5 Kernel: 5.15 Compiler: gcc gcc (GCC) 11.5.0 20240719 (Red Hat 11.5.0-2) Ubuntu 22.04 Kernel: 5.15 Compiler: gcc gcc (Ubuntu 11.4.0-1ubuntu1~22.04) 11.4.0 Ubuntu 24.04 Kernel: 5.15 Compiler: gcc gcc (Ubuntu 13.3.0-6ubuntu2~24.04) 13.3.0 Alpine Linux 3.22.0 Kernel: 5.15 Compiler: gcc gcc (Alpine 14.2.0) 14.2.0 To view detailed results, visit: https://lab.dpdk.org/results/dashboard/patchsets/34204/ UNH-IOL DPDK Community Lab To manage your email subscriptions, visit: https://lab.dpdk.org/results/dashboard/preferences/subscriptions/