From mboxrd@z Thu Jan 1 00:00:00 1970 Return-Path: Received: from mails.dpdk.org (mails.dpdk.org [217.70.189.124]) by inbox.dpdk.org (Postfix) with ESMTP id 2526B48875 for ; Mon, 6 Oct 2025 01:36:48 +0200 (CEST) Received: from mails.dpdk.org (localhost [127.0.0.1]) by mails.dpdk.org (Postfix) with ESMTP id 0CCAD402DB; Mon, 6 Oct 2025 01:36:48 +0200 (CEST) Received: from mail-ot1-f100.google.com (mail-ot1-f100.google.com [209.85.210.100]) by mails.dpdk.org (Postfix) with ESMTP id A2F83402DB for ; Mon, 6 Oct 2025 01:36:45 +0200 (CEST) Received: by mail-ot1-f100.google.com with SMTP id 46e09a7af769-74c7d98935eso1584580a34.1 for ; Sun, 05 Oct 2025 16:36:45 -0700 (PDT) DKIM-Signature: v=1; a=rsa-sha256; c=relaxed/relaxed; d=iol.unh.edu; s=unh-iol; t=1759707405; x=1760312205; darn=dpdk.org; h=references:in-reply-to:cc:to:from:subject:message-id:date:from:to :cc:subject:date:message-id:reply-to; bh=1+as4svewU2zyVrd8slwZG/9WQFYk1Ejr6RM+tuKEV8=; b=VDep8Wb2b5f6ZDDYZerBUu0XSGuNqsiVEeBHyoYznJq8s3MicccmBHL9S6XyXGyXOH ngAUSV8fMdKHr0QEIq9PKeGph3tllEleQu7nz8w1xOhj5PIA/EozPW/18gp0yqn9vNLg vXFr4FmaxlBQNGF84RM11HejmsvfPq2JDKIPs= X-Google-DKIM-Signature: v=1; a=rsa-sha256; c=relaxed/relaxed; d=1e100.net; s=20230601; t=1759707405; x=1760312205; h=references:in-reply-to:cc:to:from:subject:message-id:date :x-gm-message-state:from:to:cc:subject:date:message-id:reply-to; bh=1+as4svewU2zyVrd8slwZG/9WQFYk1Ejr6RM+tuKEV8=; b=h2GG8LytKRq5Kcwi/CiPs8Siz8mnrMPp/c9DZESYMFL5QeHHePPaKkfbV5RdlQfwFW c2fU0UCftTqs28Taw5YqKS5KD3FDU9dOox3yvm0E35rZSXp2+0O4f5s3Y1WMA37JBmCe 0s01ZG1s2dDB91U7CLGBbhtVuBPcQbg0C30noJ0CGAFCOVmL0qRpVBmKgL+scVWNuTiu UKoqpscMykFgl/L1senWD/pqbodZsPzcRAe6bIrtjIVq7WeUMYLKITeERZCr8uV0XMIY pzVI4Slz/CKPTo/jmR35KqRryTQi8/Ve+0Sjq87Qmwk0NY9f4QAbP1Y2CMJaJFWu4Pmc DhgA== X-Gm-Message-State: AOJu0YwKPy2NcbTfcfq5MCgVSmTc1F5CIanLC2NuampdFZhbmB/p4DYg pSrNf7cgn7dPMp04qa8ASF6bD4NsxNKnUEcLZbBSXtsCZz2yEXg/DqJkexAy6zAbmr/HyZOicca enTS2lcF4tZammGmmllVLDMP7qEvf2UOKHSDcgasn4JZx X-Gm-Gg: ASbGncsw1YxLWzxA/lLhLsM+MhYVCpCISPO9qFr25wp9SPH3Uecsyxt+ZwqnsznI9zJ PlwQ7AMwIZyb2TJByP1itRNXMnpMfP0LYq43QjXfr2PPMlDPbbnbGXjD/8hCf0iGB3E3cnaMHQV ltooOxO9299LRqyfQSyIZqWWVoMPTwGfeARt1g7gXV42zdaEPAn6EQvcKrg+S+QmVuylQVg3Cqi 2MoN0tmuiBEzn+OEsqlHEECNdAVEoi+xfLfOQm/RnCEmWyDSeaUIPNRg8N/rSuaHhKyE3FmQ9ZH 389XbObBJT2oGcprpiZq9RQkfT/RBAp+x7EWfVBSbUdJ9F136ivGr00yNzEyKj2Onm4PadJHCIL vIg== X-Google-Smtp-Source: AGHT+IEn5/bh6qjllDn4GUbahSlU4FHkgCmprogMFHvcfsRYi8A8A0C/brSwF035go1YQypDA9cB/F/kyQjz X-Received: by 2002:a05:6871:5223:b0:30c:839:bb78 with SMTP id 586e51a60fabf-3b0ec1ae133mr6044801fac.0.1759707404794; Sun, 05 Oct 2025 16:36:44 -0700 (PDT) Received: from postal.iol.unh.edu (postal.iol.unh.edu. [132.177.123.84]) by smtp-relay.gmail.com with ESMTPS id 586e51a60fabf-3ab79f517ecsm972967fac.1.2025.10.05.16.36.44 (version=TLS1_2 cipher=ECDHE-ECDSA-AES128-GCM-SHA256 bits=128/128); Sun, 05 Oct 2025 16:36:44 -0700 (PDT) X-Relaying-Domain: iol.unh.edu Date: Sun, 05 Oct 2025 16:36:44 -0700 (PDT) Message-ID: <68e3010c.050a0220.149248.5fa2SMTPIN_ADDED_MISSING@mx.google.com> Received: from [172.21.0.2] (unknown [172.18.0.240]) by postal.iol.unh.edu (Postfix) with ESMTP id 522DA6051830; Sun, 5 Oct 2025 19:36:44 -0400 (EDT) Subject: |SUCCESS| pw157277 [PATCH] net/mlx5: release allocated indexed pools From: dpdklab@iol.unh.edu To: Test Report Cc: dpdk-test-reports@iol.unh.edu In-Reply-To: <20251005072346.66007-1-mkashani@nvidia.com> References: <20251005072346.66007-1-mkashani@nvidia.com> Content-Type: text/plain X-BeenThere: test-report@dpdk.org X-Mailman-Version: 2.1.29 Precedence: list List-Id: automatic DPDK test reports List-Unsubscribe: , List-Archive: List-Post: List-Help: List-Subscribe: , Errors-To: test-report-bounces@dpdk.org Test-Label: iol-compile-amd64-testing Test-Status: SUCCESS http://dpdk.org/patch/157277 _Testing PASS_ Submitter: Maayan Kashani Date: Sunday, October 05 2025 07:23:45 DPDK git baseline: Repo:dpdk-next-net-mlx Branch: master CommitID:2374f33e1d964e100895fd294966380c46f0886d 157277 --> testing pass Upstream job id: Generic-DPDK-Compile-Meson#431287 Test environment and result as below: +---------------------+--------------------+-------------------------+-------------------+----------------------+------------------+-------------------+ | Environment | dpdk_meson_compile | dpdk_llvm_clang_compile | dpdk_msvc_compile | dpdk_mingw64_compile | dpdk_compile_ovs | dpdk_compile_spdk | +=====================+====================+=========================+===================+======================+==================+===================+ | Ubuntu 20.04 | PASS | SKIPPED | SKIPPED | SKIPPED | SKIPPED | SKIPPED | +---------------------+--------------------+-------------------------+-------------------+----------------------+------------------+-------------------+ | FreeBSD 14.2 | PASS | SKIPPED | SKIPPED | SKIPPED | SKIPPED | SKIPPED | +---------------------+--------------------+-------------------------+-------------------+----------------------+------------------+-------------------+ | Fedora Linux 42 | PASS | SKIPPED | SKIPPED | SKIPPED | PASS | PASS | +---------------------+--------------------+-------------------------+-------------------+----------------------+------------------+-------------------+ | Windows Server 2022 | SKIPPED | PASS | PASS | PASS | SKIPPED | SKIPPED | +---------------------+--------------------+-------------------------+-------------------+----------------------+------------------+-------------------+ Ubuntu 20.04 Kernel: 4.19 Compiler: gcc gcc (Ubuntu 9.4.0-1ubuntu1~20.04.2) 9.4.0 FreeBSD 14.2 Kernel: 14.2-RELEASE Compiler: clang 18.1.6 Fedora Linux 42 Kernel: 5.15 Compiler: gcc gcc (GCC) 15.2.1 20250808 (Red Hat 15.2.1-1) Windows Server 2022 Kernel: 10.0.20348.2031 Compiler: clang 15.0.7, gcc 14.1.0 (MinGW), and MSVC VS 19.39.33521 To view detailed results, visit: https://lab.dpdk.org/results/dashboard/patchsets/34216/ UNH-IOL DPDK Community Lab To manage your email subscriptions, visit: https://lab.dpdk.org/results/dashboard/preferences/subscriptions/